BEGIN:VCALENDAR
VERSION:2.0
PRODID:-//Community Counselling Centre - ECPv6.13.1//NONSGML v1.0//EN
CALSCALE:GREGORIAN
METHOD:PUBLISH
X-ORIGINAL-URL:https://communitycounsellingcentre.ca
X-WR-CALDESC:Events for Community Counselling Centre
REFRESH-INTERVAL;VALUE=DURATION:PT1H
X-Robots-Tag:noindex
X-PUBLISHED-TTL:PT1H
BEGIN:VTIMEZONE
TZID:America/Edmonton
BEGIN:DAYLIGHT
TZOFFSETFROM:-0700
TZOFFSETTO:-0600
TZNAME:MDT
DTSTART:20250309T090000
END:DAYLIGHT
BEGIN:STANDARD
TZOFFSETFROM:-0600
TZOFFSETTO:-0700
TZNAME:MST
DTSTART:20251102T080000
END:STANDARD
END:VTIMEZONE
BEGIN:VEVENT
DTSTART;TZID=America/Edmonton:20251120T130000
DTEND;TZID=America/Edmonton:20251120T200000
DTSTAMP:20260423T083903
CREATED:20240504T054425Z
LAST-MODIFIED:20251126T023114Z
UID:10004246-1763643600-1763668800@communitycounsellingcentre.ca
SUMMARY:Sherry
DESCRIPTION:
URL:https://communitycounsellingcentre.ca/event/sherry-2/2025-11-20/
LOCATION:Room 4
CATEGORIES:Room 4
END:VEVENT
BEGIN:VEVENT
DTSTART;TZID=America/Edmonton:20251119T130000
DTEND;TZID=America/Edmonton:20251119T210000
DTSTAMP:20260423T083903
CREATED:20240501T152231Z
LAST-MODIFIED:20251126T023056Z
UID:10004298-1763557200-1763586000@communitycounsellingcentre.ca
SUMMARY:Sherry
DESCRIPTION:
URL:https://communitycounsellingcentre.ca/event/sherry/2025-11-19/
LOCATION:Room 4
CATEGORIES:Room 4
END:VEVENT
BEGIN:VEVENT
DTSTART;TZID=America/Edmonton:20251118T140000
DTEND;TZID=America/Edmonton:20251118T200000
DTSTAMP:20260423T083903
CREATED:20251027T230259Z
LAST-MODIFIED:20251126T022003Z
UID:10005939-1763474400-1763496000@communitycounsellingcentre.ca
SUMMARY:Nick
DESCRIPTION:
URL:https://communitycounsellingcentre.ca/event/nick-3-2/2025-11-18/
LOCATION:Room 4
CATEGORIES:Room 4
END:VEVENT
BEGIN:VEVENT
DTSTART;TZID=America/Edmonton:20251114T090000
DTEND;TZID=America/Edmonton:20251114T210000
DTSTAMP:20260423T083903
CREATED:20240504T054728Z
LAST-MODIFIED:20251126T021539Z
UID:10004193-1763110800-1763154000@communitycounsellingcentre.ca
SUMMARY:Sherry
DESCRIPTION:
URL:https://communitycounsellingcentre.ca/event/sherry-3/2025-11-14/
LOCATION:Room 4
CATEGORIES:Room 4
END:VEVENT
BEGIN:VEVENT
DTSTART;TZID=America/Edmonton:20251113T130000
DTEND;TZID=America/Edmonton:20251113T200000
DTSTAMP:20260423T083903
CREATED:20240504T054425Z
LAST-MODIFIED:20251126T023114Z
UID:10004245-1763038800-1763064000@communitycounsellingcentre.ca
SUMMARY:Sherry
DESCRIPTION:
URL:https://communitycounsellingcentre.ca/event/sherry-2/2025-11-13/
LOCATION:Room 4
CATEGORIES:Room 4
END:VEVENT
BEGIN:VEVENT
DTSTART;TZID=America/Edmonton:20251112T130000
DTEND;TZID=America/Edmonton:20251112T210000
DTSTAMP:20260423T083903
CREATED:20240501T152231Z
LAST-MODIFIED:20251126T023056Z
UID:10004297-1762952400-1762981200@communitycounsellingcentre.ca
SUMMARY:Sherry
DESCRIPTION:
URL:https://communitycounsellingcentre.ca/event/sherry/2025-11-12/
LOCATION:Room 4
CATEGORIES:Room 4
END:VEVENT
BEGIN:VEVENT
DTSTART;TZID=America/Edmonton:20251111T140000
DTEND;TZID=America/Edmonton:20251111T200000
DTSTAMP:20260423T083903
CREATED:20251027T230259Z
LAST-MODIFIED:20251126T022003Z
UID:10005938-1762869600-1762891200@communitycounsellingcentre.ca
SUMMARY:Nick
DESCRIPTION:
URL:https://communitycounsellingcentre.ca/event/nick-3-2/2025-11-11/
LOCATION:Room 4
CATEGORIES:Room 4
END:VEVENT
BEGIN:VEVENT
DTSTART;TZID=America/Edmonton:20251107T090000
DTEND;TZID=America/Edmonton:20251107T210000
DTSTAMP:20260423T083903
CREATED:20240504T054728Z
LAST-MODIFIED:20251126T021539Z
UID:10004192-1762506000-1762549200@communitycounsellingcentre.ca
SUMMARY:Sherry
DESCRIPTION:
URL:https://communitycounsellingcentre.ca/event/sherry-3/2025-11-07/
LOCATION:Room 4
CATEGORIES:Room 4
END:VEVENT
BEGIN:VEVENT
DTSTART;TZID=America/Edmonton:20251106T130000
DTEND;TZID=America/Edmonton:20251106T200000
DTSTAMP:20260423T083903
CREATED:20240504T054425Z
LAST-MODIFIED:20251126T023114Z
UID:10004244-1762434000-1762459200@communitycounsellingcentre.ca
SUMMARY:Sherry
DESCRIPTION:
URL:https://communitycounsellingcentre.ca/event/sherry-2/2025-11-06/
LOCATION:Room 4
CATEGORIES:Room 4
END:VEVENT
BEGIN:VEVENT
DTSTART;TZID=America/Edmonton:20251105T130000
DTEND;TZID=America/Edmonton:20251105T210000
DTSTAMP:20260423T083903
CREATED:20240501T152231Z
LAST-MODIFIED:20251126T023056Z
UID:10004296-1762347600-1762376400@communitycounsellingcentre.ca
SUMMARY:Sherry
DESCRIPTION:
URL:https://communitycounsellingcentre.ca/event/sherry/2025-11-05/
LOCATION:Room 4
CATEGORIES:Room 4
END:VEVENT
BEGIN:VEVENT
DTSTART;TZID=America/Edmonton:20251104T140000
DTEND;TZID=America/Edmonton:20251104T200000
DTSTAMP:20260423T083903
CREATED:20251027T230259Z
LAST-MODIFIED:20251126T022003Z
UID:10005937-1762264800-1762286400@communitycounsellingcentre.ca
SUMMARY:Nick
DESCRIPTION:
URL:https://communitycounsellingcentre.ca/event/nick-3-2/2025-11-04/
LOCATION:Room 4
CATEGORIES:Room 4
END:VEVENT
BEGIN:VEVENT
DTSTART;TZID=America/Edmonton:20251031T090000
DTEND;TZID=America/Edmonton:20251031T210000
DTSTAMP:20260423T083903
CREATED:20240504T054728Z
LAST-MODIFIED:20251126T021539Z
UID:10004191-1761901200-1761944400@communitycounsellingcentre.ca
SUMMARY:Sherry
DESCRIPTION:
URL:https://communitycounsellingcentre.ca/event/sherry-3/2025-10-31/
LOCATION:Room 4
CATEGORIES:Room 4
END:VEVENT
BEGIN:VEVENT
DTSTART;TZID=America/Edmonton:20251030T130000
DTEND;TZID=America/Edmonton:20251030T200000
DTSTAMP:20260423T083903
CREATED:20240504T054425Z
LAST-MODIFIED:20251126T023114Z
UID:10004243-1761829200-1761854400@communitycounsellingcentre.ca
SUMMARY:Sherry
DESCRIPTION:
URL:https://communitycounsellingcentre.ca/event/sherry-2/2025-10-30/
LOCATION:Room 4
CATEGORIES:Room 4
END:VEVENT
BEGIN:VEVENT
DTSTART;TZID=America/Edmonton:20251029T130000
DTEND;TZID=America/Edmonton:20251029T210000
DTSTAMP:20260423T083903
CREATED:20240501T152231Z
LAST-MODIFIED:20251126T023056Z
UID:10004295-1761742800-1761771600@communitycounsellingcentre.ca
SUMMARY:Sherry
DESCRIPTION:
URL:https://communitycounsellingcentre.ca/event/sherry/2025-10-29/
LOCATION:Room 4
CATEGORIES:Room 4
END:VEVENT
BEGIN:VEVENT
DTSTART;TZID=America/Edmonton:20251028T140000
DTEND;TZID=America/Edmonton:20251028T200000
DTSTAMP:20260423T083903
CREATED:20251027T230259Z
LAST-MODIFIED:20251126T022003Z
UID:10003669-1761660000-1761681600@communitycounsellingcentre.ca
SUMMARY:Nick
DESCRIPTION:
URL:https://communitycounsellingcentre.ca/event/nick-3-2/2025-10-28/
LOCATION:Room 4
CATEGORIES:Room 4
END:VEVENT
BEGIN:VEVENT
DTSTART;TZID=America/Edmonton:20251024T090000
DTEND;TZID=America/Edmonton:20251024T210000
DTSTAMP:20260423T083903
CREATED:20240504T054728Z
LAST-MODIFIED:20251126T021539Z
UID:10004190-1761296400-1761339600@communitycounsellingcentre.ca
SUMMARY:Sherry
DESCRIPTION:
URL:https://communitycounsellingcentre.ca/event/sherry-3/2025-10-24/
LOCATION:Room 4
CATEGORIES:Room 4
END:VEVENT
BEGIN:VEVENT
DTSTART;TZID=America/Edmonton:20251023T130000
DTEND;TZID=America/Edmonton:20251023T200000
DTSTAMP:20260423T083903
CREATED:20240504T054425Z
LAST-MODIFIED:20251126T023114Z
UID:10004242-1761224400-1761249600@communitycounsellingcentre.ca
SUMMARY:Sherry
DESCRIPTION:
URL:https://communitycounsellingcentre.ca/event/sherry-2/2025-10-23/
LOCATION:Room 4
CATEGORIES:Room 4
END:VEVENT
BEGIN:VEVENT
DTSTART;TZID=America/Edmonton:20251022T130000
DTEND;TZID=America/Edmonton:20251022T210000
DTSTAMP:20260423T083903
CREATED:20240501T152231Z
LAST-MODIFIED:20251126T023056Z
UID:10004294-1761138000-1761166800@communitycounsellingcentre.ca
SUMMARY:Sherry
DESCRIPTION:
URL:https://communitycounsellingcentre.ca/event/sherry/2025-10-22/
LOCATION:Room 4
CATEGORIES:Room 4
END:VEVENT
BEGIN:VEVENT
DTSTART;TZID=America/Edmonton:20251017T090000
DTEND;TZID=America/Edmonton:20251017T210000
DTSTAMP:20260423T083903
CREATED:20240504T054728Z
LAST-MODIFIED:20251126T021539Z
UID:10004189-1760691600-1760734800@communitycounsellingcentre.ca
SUMMARY:Sherry
DESCRIPTION:
URL:https://communitycounsellingcentre.ca/event/sherry-3/2025-10-17/
LOCATION:Room 4
CATEGORIES:Room 4
END:VEVENT
BEGIN:VEVENT
DTSTART;TZID=America/Edmonton:20251016T130000
DTEND;TZID=America/Edmonton:20251016T200000
DTSTAMP:20260423T083903
CREATED:20240504T054425Z
LAST-MODIFIED:20251126T023114Z
UID:10004241-1760619600-1760644800@communitycounsellingcentre.ca
SUMMARY:Sherry
DESCRIPTION:
URL:https://communitycounsellingcentre.ca/event/sherry-2/2025-10-16/
LOCATION:Room 4
CATEGORIES:Room 4
END:VEVENT
BEGIN:VEVENT
DTSTART;TZID=America/Edmonton:20251015T130000
DTEND;TZID=America/Edmonton:20251015T210000
DTSTAMP:20260423T083903
CREATED:20240501T152231Z
LAST-MODIFIED:20251126T023056Z
UID:10004293-1760533200-1760562000@communitycounsellingcentre.ca
SUMMARY:Sherry
DESCRIPTION:
URL:https://communitycounsellingcentre.ca/event/sherry/2025-10-15/
LOCATION:Room 4
CATEGORIES:Room 4
END:VEVENT
BEGIN:VEVENT
DTSTART;TZID=America/Edmonton:20251010T090000
DTEND;TZID=America/Edmonton:20251010T210000
DTSTAMP:20260423T083903
CREATED:20240504T054728Z
LAST-MODIFIED:20251126T021539Z
UID:10004188-1760086800-1760130000@communitycounsellingcentre.ca
SUMMARY:Sherry
DESCRIPTION:
URL:https://communitycounsellingcentre.ca/event/sherry-3/2025-10-10/
LOCATION:Room 4
CATEGORIES:Room 4
END:VEVENT
BEGIN:VEVENT
DTSTART;TZID=America/Edmonton:20251009T130000
DTEND;TZID=America/Edmonton:20251009T200000
DTSTAMP:20260423T083903
CREATED:20240504T054425Z
LAST-MODIFIED:20251126T023114Z
UID:10004240-1760014800-1760040000@communitycounsellingcentre.ca
SUMMARY:Sherry
DESCRIPTION:
URL:https://communitycounsellingcentre.ca/event/sherry-2/2025-10-09/
LOCATION:Room 4
CATEGORIES:Room 4
END:VEVENT
BEGIN:VEVENT
DTSTART;TZID=America/Edmonton:20251008T130000
DTEND;TZID=America/Edmonton:20251008T210000
DTSTAMP:20260423T083903
CREATED:20240501T152231Z
LAST-MODIFIED:20251126T023056Z
UID:10004292-1759928400-1759957200@communitycounsellingcentre.ca
SUMMARY:Sherry
DESCRIPTION:
URL:https://communitycounsellingcentre.ca/event/sherry/2025-10-08/
LOCATION:Room 4
CATEGORIES:Room 4
END:VEVENT
BEGIN:VEVENT
DTSTART;TZID=America/Edmonton:20251003T090000
DTEND;TZID=America/Edmonton:20251003T210000
DTSTAMP:20260423T083903
CREATED:20240504T054728Z
LAST-MODIFIED:20251126T021539Z
UID:10004187-1759482000-1759525200@communitycounsellingcentre.ca
SUMMARY:Sherry
DESCRIPTION:
URL:https://communitycounsellingcentre.ca/event/sherry-3/2025-10-03/
LOCATION:Room 4
CATEGORIES:Room 4
END:VEVENT
BEGIN:VEVENT
DTSTART;TZID=America/Edmonton:20251002T130000
DTEND;TZID=America/Edmonton:20251002T200000
DTSTAMP:20260423T083903
CREATED:20240504T054425Z
LAST-MODIFIED:20251126T023114Z
UID:10004239-1759410000-1759435200@communitycounsellingcentre.ca
SUMMARY:Sherry
DESCRIPTION:
URL:https://communitycounsellingcentre.ca/event/sherry-2/2025-10-02/
LOCATION:Room 4
CATEGORIES:Room 4
END:VEVENT
BEGIN:VEVENT
DTSTART;TZID=America/Edmonton:20251001T130000
DTEND;TZID=America/Edmonton:20251001T210000
DTSTAMP:20260423T083903
CREATED:20240501T152231Z
LAST-MODIFIED:20251126T023056Z
UID:10004291-1759323600-1759352400@communitycounsellingcentre.ca
SUMMARY:Sherry
DESCRIPTION:
URL:https://communitycounsellingcentre.ca/event/sherry/2025-10-01/
LOCATION:Room 4
CATEGORIES:Room 4
END:VEVENT
BEGIN:VEVENT
DTSTART;TZID=America/Edmonton:20250926T090000
DTEND;TZID=America/Edmonton:20250926T210000
DTSTAMP:20260423T083903
CREATED:20240504T054728Z
LAST-MODIFIED:20251126T021539Z
UID:10004186-1758877200-1758920400@communitycounsellingcentre.ca
SUMMARY:Sherry
DESCRIPTION:
URL:https://communitycounsellingcentre.ca/event/sherry-3/2025-09-26/
LOCATION:Room 4
CATEGORIES:Room 4
END:VEVENT
BEGIN:VEVENT
DTSTART;TZID=America/Edmonton:20250925T130000
DTEND;TZID=America/Edmonton:20250925T200000
DTSTAMP:20260423T083903
CREATED:20240504T054425Z
LAST-MODIFIED:20251126T023114Z
UID:10004238-1758805200-1758830400@communitycounsellingcentre.ca
SUMMARY:Sherry
DESCRIPTION:
URL:https://communitycounsellingcentre.ca/event/sherry-2/2025-09-25/
LOCATION:Room 4
CATEGORIES:Room 4
END:VEVENT
BEGIN:VEVENT
DTSTART;TZID=America/Edmonton:20250924T130000
DTEND;TZID=America/Edmonton:20250924T210000
DTSTAMP:20260423T083903
CREATED:20240501T152231Z
LAST-MODIFIED:20251126T023056Z
UID:10004290-1758718800-1758747600@communitycounsellingcentre.ca
SUMMARY:Sherry
DESCRIPTION:
URL:https://communitycounsellingcentre.ca/event/sherry/2025-09-24/
LOCATION:Room 4
CATEGORIES:Room 4
END:VEVENT
END:VCALENDAR