BEGIN:VCALENDAR
VERSION:2.0
PRODID:-//Community Counselling Centre - ECPv6.13.1//NONSGML v1.0//EN
CALSCALE:GREGORIAN
METHOD:PUBLISH
X-ORIGINAL-URL:https://communitycounsellingcentre.ca
X-WR-CALDESC:Events for Community Counselling Centre
REFRESH-INTERVAL;VALUE=DURATION:PT1H
X-Robots-Tag:noindex
X-PUBLISHED-TTL:PT1H
BEGIN:VTIMEZONE
TZID:America/Edmonton
BEGIN:DAYLIGHT
TZOFFSETFROM:-0700
TZOFFSETTO:-0600
TZNAME:MDT
DTSTART:20260308T090000
END:DAYLIGHT
BEGIN:STANDARD
TZOFFSETFROM:-0600
TZOFFSETTO:-0700
TZNAME:MST
DTSTART:20261101T080000
END:STANDARD
END:VTIMEZONE
BEGIN:VEVENT
DTSTART;TZID=America/Edmonton:20261008T130000
DTEND;TZID=America/Edmonton:20261008T200000
DTSTAMP:20260423T132118
CREATED:20240504T054425Z
LAST-MODIFIED:20251126T023114Z
UID:10007300-1791464400-1791489600@communitycounsellingcentre.ca
SUMMARY:Sherry
DESCRIPTION:
URL:https://communitycounsellingcentre.ca/event/sherry-2/2026-10-08/
LOCATION:Room 4
CATEGORIES:Room 4
END:VEVENT
BEGIN:VEVENT
DTSTART;TZID=America/Edmonton:20261009T090000
DTEND;TZID=America/Edmonton:20261009T210000
DTSTAMP:20260423T132118
CREATED:20240504T054728Z
LAST-MODIFIED:20251126T021539Z
UID:10006516-1791536400-1791579600@communitycounsellingcentre.ca
SUMMARY:Sherry
DESCRIPTION:
URL:https://communitycounsellingcentre.ca/event/sherry-3/2026-10-09/
LOCATION:Room 4
CATEGORIES:Room 4
END:VEVENT
BEGIN:VEVENT
DTSTART;TZID=America/Edmonton:20261012T160000
DTEND;TZID=America/Edmonton:20261012T200000
DTSTAMP:20260423T132118
CREATED:20251125T155130Z
LAST-MODIFIED:20251125T155130Z
UID:10006249-1791820800-1791835200@communitycounsellingcentre.ca
SUMMARY:Ishmal
DESCRIPTION:
URL:https://communitycounsellingcentre.ca/event/ishmal/2026-10-12/
LOCATION:Room 4
CATEGORIES:Room 4
END:VEVENT
BEGIN:VEVENT
DTSTART;TZID=America/Edmonton:20261013T140000
DTEND;TZID=America/Edmonton:20261013T200000
DTSTAMP:20260423T132118
CREATED:20251027T230259Z
LAST-MODIFIED:20251126T022003Z
UID:10006778-1791900000-1791921600@communitycounsellingcentre.ca
SUMMARY:Nick
DESCRIPTION:
URL:https://communitycounsellingcentre.ca/event/nick-3-2/2026-10-13/
LOCATION:Room 4
CATEGORIES:Room 4
END:VEVENT
BEGIN:VEVENT
DTSTART;TZID=America/Edmonton:20261014T130000
DTEND;TZID=America/Edmonton:20261014T210000
DTSTAMP:20260423T132118
CREATED:20240501T152231Z
LAST-MODIFIED:20251126T023056Z
UID:10007248-1791982800-1792011600@communitycounsellingcentre.ca
SUMMARY:Sherry
DESCRIPTION:
URL:https://communitycounsellingcentre.ca/event/sherry/2026-10-14/
LOCATION:Room 4
CATEGORIES:Room 4
END:VEVENT
BEGIN:VEVENT
DTSTART;TZID=America/Edmonton:20261015T130000
DTEND;TZID=America/Edmonton:20261015T200000
DTSTAMP:20260423T132118
CREATED:20240504T054425Z
LAST-MODIFIED:20251126T023114Z
UID:10007301-1792069200-1792094400@communitycounsellingcentre.ca
SUMMARY:Sherry
DESCRIPTION:
URL:https://communitycounsellingcentre.ca/event/sherry-2/2026-10-15/
LOCATION:Room 4
CATEGORIES:Room 4
END:VEVENT
BEGIN:VEVENT
DTSTART;TZID=America/Edmonton:20261016T090000
DTEND;TZID=America/Edmonton:20261016T210000
DTSTAMP:20260423T132118
CREATED:20240504T054728Z
LAST-MODIFIED:20251126T021539Z
UID:10006517-1792141200-1792184400@communitycounsellingcentre.ca
SUMMARY:Sherry
DESCRIPTION:
URL:https://communitycounsellingcentre.ca/event/sherry-3/2026-10-16/
LOCATION:Room 4
CATEGORIES:Room 4
END:VEVENT
BEGIN:VEVENT
DTSTART;TZID=America/Edmonton:20261019T160000
DTEND;TZID=America/Edmonton:20261019T200000
DTSTAMP:20260423T132118
CREATED:20251125T155130Z
LAST-MODIFIED:20251125T155130Z
UID:10006250-1792425600-1792440000@communitycounsellingcentre.ca
SUMMARY:Ishmal
DESCRIPTION:
URL:https://communitycounsellingcentre.ca/event/ishmal/2026-10-19/
LOCATION:Room 4
CATEGORIES:Room 4
END:VEVENT
BEGIN:VEVENT
DTSTART;TZID=America/Edmonton:20261020T140000
DTEND;TZID=America/Edmonton:20261020T200000
DTSTAMP:20260423T132118
CREATED:20251027T230259Z
LAST-MODIFIED:20251126T022003Z
UID:10006779-1792504800-1792526400@communitycounsellingcentre.ca
SUMMARY:Nick
DESCRIPTION:
URL:https://communitycounsellingcentre.ca/event/nick-3-2/2026-10-20/
LOCATION:Room 4
CATEGORIES:Room 4
END:VEVENT
BEGIN:VEVENT
DTSTART;TZID=America/Edmonton:20261021T130000
DTEND;TZID=America/Edmonton:20261021T210000
DTSTAMP:20260423T132118
CREATED:20240501T152231Z
LAST-MODIFIED:20251126T023056Z
UID:10007249-1792587600-1792616400@communitycounsellingcentre.ca
SUMMARY:Sherry
DESCRIPTION:
URL:https://communitycounsellingcentre.ca/event/sherry/2026-10-21/
LOCATION:Room 4
CATEGORIES:Room 4
END:VEVENT
BEGIN:VEVENT
DTSTART;TZID=America/Edmonton:20261022T130000
DTEND;TZID=America/Edmonton:20261022T200000
DTSTAMP:20260423T132118
CREATED:20240504T054425Z
LAST-MODIFIED:20251126T023114Z
UID:10007302-1792674000-1792699200@communitycounsellingcentre.ca
SUMMARY:Sherry
DESCRIPTION:
URL:https://communitycounsellingcentre.ca/event/sherry-2/2026-10-22/
LOCATION:Room 4
CATEGORIES:Room 4
END:VEVENT
BEGIN:VEVENT
DTSTART;TZID=America/Edmonton:20261023T090000
DTEND;TZID=America/Edmonton:20261023T210000
DTSTAMP:20260423T132118
CREATED:20240504T054728Z
LAST-MODIFIED:20251126T021539Z
UID:10006518-1792746000-1792789200@communitycounsellingcentre.ca
SUMMARY:Sherry
DESCRIPTION:
URL:https://communitycounsellingcentre.ca/event/sherry-3/2026-10-23/
LOCATION:Room 4
CATEGORIES:Room 4
END:VEVENT
BEGIN:VEVENT
DTSTART;TZID=America/Edmonton:20261026T160000
DTEND;TZID=America/Edmonton:20261026T200000
DTSTAMP:20260423T132118
CREATED:20251125T155130Z
LAST-MODIFIED:20251125T155130Z
UID:10006251-1793030400-1793044800@communitycounsellingcentre.ca
SUMMARY:Ishmal
DESCRIPTION:
URL:https://communitycounsellingcentre.ca/event/ishmal/2026-10-26/
LOCATION:Room 4
CATEGORIES:Room 4
END:VEVENT
BEGIN:VEVENT
DTSTART;TZID=America/Edmonton:20261027T140000
DTEND;TZID=America/Edmonton:20261027T200000
DTSTAMP:20260423T132118
CREATED:20251027T230259Z
LAST-MODIFIED:20251126T022003Z
UID:10006780-1793109600-1793131200@communitycounsellingcentre.ca
SUMMARY:Nick
DESCRIPTION:
URL:https://communitycounsellingcentre.ca/event/nick-3-2/2026-10-27/
LOCATION:Room 4
CATEGORIES:Room 4
END:VEVENT
BEGIN:VEVENT
DTSTART;TZID=America/Edmonton:20261028T130000
DTEND;TZID=America/Edmonton:20261028T210000
DTSTAMP:20260423T132118
CREATED:20240501T152231Z
LAST-MODIFIED:20251126T023056Z
UID:10007250-1793192400-1793221200@communitycounsellingcentre.ca
SUMMARY:Sherry
DESCRIPTION:
URL:https://communitycounsellingcentre.ca/event/sherry/2026-10-28/
LOCATION:Room 4
CATEGORIES:Room 4
END:VEVENT
BEGIN:VEVENT
DTSTART;TZID=America/Edmonton:20261029T130000
DTEND;TZID=America/Edmonton:20261029T200000
DTSTAMP:20260423T132118
CREATED:20240504T054425Z
LAST-MODIFIED:20251126T023114Z
UID:10007303-1793278800-1793304000@communitycounsellingcentre.ca
SUMMARY:Sherry
DESCRIPTION:
URL:https://communitycounsellingcentre.ca/event/sherry-2/2026-10-29/
LOCATION:Room 4
CATEGORIES:Room 4
END:VEVENT
BEGIN:VEVENT
DTSTART;TZID=America/Edmonton:20261030T090000
DTEND;TZID=America/Edmonton:20261030T210000
DTSTAMP:20260423T132118
CREATED:20240504T054728Z
LAST-MODIFIED:20251126T021539Z
UID:10006519-1793350800-1793394000@communitycounsellingcentre.ca
SUMMARY:Sherry
DESCRIPTION:
URL:https://communitycounsellingcentre.ca/event/sherry-3/2026-10-30/
LOCATION:Room 4
CATEGORIES:Room 4
END:VEVENT
BEGIN:VEVENT
DTSTART;TZID=America/Edmonton:20261102T160000
DTEND;TZID=America/Edmonton:20261102T200000
DTSTAMP:20260423T132118
CREATED:20251125T155130Z
LAST-MODIFIED:20251125T155130Z
UID:10006252-1793635200-1793649600@communitycounsellingcentre.ca
SUMMARY:Ishmal
DESCRIPTION:
URL:https://communitycounsellingcentre.ca/event/ishmal/2026-11-02/
LOCATION:Room 4
CATEGORIES:Room 4
END:VEVENT
BEGIN:VEVENT
DTSTART;TZID=America/Edmonton:20261103T140000
DTEND;TZID=America/Edmonton:20261103T200000
DTSTAMP:20260423T132118
CREATED:20251027T230259Z
LAST-MODIFIED:20251126T022003Z
UID:10006781-1793714400-1793736000@communitycounsellingcentre.ca
SUMMARY:Nick
DESCRIPTION:
URL:https://communitycounsellingcentre.ca/event/nick-3-2/2026-11-03/
LOCATION:Room 4
CATEGORIES:Room 4
END:VEVENT
BEGIN:VEVENT
DTSTART;TZID=America/Edmonton:20261104T130000
DTEND;TZID=America/Edmonton:20261104T210000
DTSTAMP:20260423T132118
CREATED:20240501T152231Z
LAST-MODIFIED:20251126T023056Z
UID:10007251-1793797200-1793826000@communitycounsellingcentre.ca
SUMMARY:Sherry
DESCRIPTION:
URL:https://communitycounsellingcentre.ca/event/sherry/2026-11-04/
LOCATION:Room 4
CATEGORIES:Room 4
END:VEVENT
BEGIN:VEVENT
DTSTART;TZID=America/Edmonton:20261105T130000
DTEND;TZID=America/Edmonton:20261105T200000
DTSTAMP:20260423T132118
CREATED:20240504T054425Z
LAST-MODIFIED:20251126T023114Z
UID:10007304-1793883600-1793908800@communitycounsellingcentre.ca
SUMMARY:Sherry
DESCRIPTION:
URL:https://communitycounsellingcentre.ca/event/sherry-2/2026-11-05/
LOCATION:Room 4
CATEGORIES:Room 4
END:VEVENT
BEGIN:VEVENT
DTSTART;TZID=America/Edmonton:20261106T090000
DTEND;TZID=America/Edmonton:20261106T210000
DTSTAMP:20260423T132118
CREATED:20240504T054728Z
LAST-MODIFIED:20251126T021539Z
UID:10006520-1793955600-1793998800@communitycounsellingcentre.ca
SUMMARY:Sherry
DESCRIPTION:
URL:https://communitycounsellingcentre.ca/event/sherry-3/2026-11-06/
LOCATION:Room 4
CATEGORIES:Room 4
END:VEVENT
BEGIN:VEVENT
DTSTART;TZID=America/Edmonton:20261109T160000
DTEND;TZID=America/Edmonton:20261109T200000
DTSTAMP:20260423T132118
CREATED:20251125T155130Z
LAST-MODIFIED:20251125T155130Z
UID:10006253-1794240000-1794254400@communitycounsellingcentre.ca
SUMMARY:Ishmal
DESCRIPTION:
URL:https://communitycounsellingcentre.ca/event/ishmal/2026-11-09/
LOCATION:Room 4
CATEGORIES:Room 4
END:VEVENT
BEGIN:VEVENT
DTSTART;TZID=America/Edmonton:20261110T140000
DTEND;TZID=America/Edmonton:20261110T200000
DTSTAMP:20260423T132118
CREATED:20251027T230259Z
LAST-MODIFIED:20251126T022003Z
UID:10006782-1794319200-1794340800@communitycounsellingcentre.ca
SUMMARY:Nick
DESCRIPTION:
URL:https://communitycounsellingcentre.ca/event/nick-3-2/2026-11-10/
LOCATION:Room 4
CATEGORIES:Room 4
END:VEVENT
BEGIN:VEVENT
DTSTART;TZID=America/Edmonton:20261111T130000
DTEND;TZID=America/Edmonton:20261111T210000
DTSTAMP:20260423T132118
CREATED:20240501T152231Z
LAST-MODIFIED:20251126T023056Z
UID:10007252-1794402000-1794430800@communitycounsellingcentre.ca
SUMMARY:Sherry
DESCRIPTION:
URL:https://communitycounsellingcentre.ca/event/sherry/2026-11-11/
LOCATION:Room 4
CATEGORIES:Room 4
END:VEVENT
BEGIN:VEVENT
DTSTART;TZID=America/Edmonton:20261112T130000
DTEND;TZID=America/Edmonton:20261112T200000
DTSTAMP:20260423T132118
CREATED:20240504T054425Z
LAST-MODIFIED:20251126T023114Z
UID:10007305-1794488400-1794513600@communitycounsellingcentre.ca
SUMMARY:Sherry
DESCRIPTION:
URL:https://communitycounsellingcentre.ca/event/sherry-2/2026-11-12/
LOCATION:Room 4
CATEGORIES:Room 4
END:VEVENT
BEGIN:VEVENT
DTSTART;TZID=America/Edmonton:20261113T090000
DTEND;TZID=America/Edmonton:20261113T210000
DTSTAMP:20260423T132118
CREATED:20240504T054728Z
LAST-MODIFIED:20251126T021539Z
UID:10006521-1794560400-1794603600@communitycounsellingcentre.ca
SUMMARY:Sherry
DESCRIPTION:
URL:https://communitycounsellingcentre.ca/event/sherry-3/2026-11-13/
LOCATION:Room 4
CATEGORIES:Room 4
END:VEVENT
BEGIN:VEVENT
DTSTART;TZID=America/Edmonton:20261116T160000
DTEND;TZID=America/Edmonton:20261116T200000
DTSTAMP:20260423T132118
CREATED:20251125T155130Z
LAST-MODIFIED:20251125T155130Z
UID:10006254-1794844800-1794859200@communitycounsellingcentre.ca
SUMMARY:Ishmal
DESCRIPTION:
URL:https://communitycounsellingcentre.ca/event/ishmal/2026-11-16/
LOCATION:Room 4
CATEGORIES:Room 4
END:VEVENT
BEGIN:VEVENT
DTSTART;TZID=America/Edmonton:20261117T140000
DTEND;TZID=America/Edmonton:20261117T200000
DTSTAMP:20260423T132118
CREATED:20251027T230259Z
LAST-MODIFIED:20251126T022003Z
UID:10006783-1794924000-1794945600@communitycounsellingcentre.ca
SUMMARY:Nick
DESCRIPTION:
URL:https://communitycounsellingcentre.ca/event/nick-3-2/2026-11-17/
LOCATION:Room 4
CATEGORIES:Room 4
END:VEVENT
BEGIN:VEVENT
DTSTART;TZID=America/Edmonton:20261118T130000
DTEND;TZID=America/Edmonton:20261118T210000
DTSTAMP:20260423T132118
CREATED:20240501T152231Z
LAST-MODIFIED:20251126T023056Z
UID:10007253-1795006800-1795035600@communitycounsellingcentre.ca
SUMMARY:Sherry
DESCRIPTION:
URL:https://communitycounsellingcentre.ca/event/sherry/2026-11-18/
LOCATION:Room 4
CATEGORIES:Room 4
END:VEVENT
END:VCALENDAR