BEGIN:VCALENDAR
VERSION:2.0
PRODID:-//Community Counselling Centre - ECPv6.13.1//NONSGML v1.0//EN
CALSCALE:GREGORIAN
METHOD:PUBLISH
X-ORIGINAL-URL:https://communitycounsellingcentre.ca
X-WR-CALDESC:Events for Community Counselling Centre
REFRESH-INTERVAL;VALUE=DURATION:PT1H
X-Robots-Tag:noindex
X-PUBLISHED-TTL:PT1H
BEGIN:VTIMEZONE
TZID:America/Edmonton
BEGIN:DAYLIGHT
TZOFFSETFROM:-0700
TZOFFSETTO:-0600
TZNAME:MDT
DTSTART:20260308T090000
END:DAYLIGHT
BEGIN:STANDARD
TZOFFSETFROM:-0600
TZOFFSETTO:-0700
TZNAME:MST
DTSTART:20261101T080000
END:STANDARD
END:VTIMEZONE
BEGIN:VEVENT
DTSTART;TZID=America/Edmonton:20261127T090000
DTEND;TZID=America/Edmonton:20261127T210000
DTSTAMP:20260423T164309
CREATED:20240504T054728Z
LAST-MODIFIED:20251126T021539Z
UID:10006523-1795770000-1795813200@communitycounsellingcentre.ca
SUMMARY:Sherry
DESCRIPTION:
URL:https://communitycounsellingcentre.ca/event/sherry-3/2026-11-27/
LOCATION:Room 4
CATEGORIES:Room 4
END:VEVENT
BEGIN:VEVENT
DTSTART;TZID=America/Edmonton:20261130T160000
DTEND;TZID=America/Edmonton:20261130T200000
DTSTAMP:20260423T164309
CREATED:20251125T155130Z
LAST-MODIFIED:20251125T155130Z
UID:10006256-1796054400-1796068800@communitycounsellingcentre.ca
SUMMARY:Ishmal
DESCRIPTION:
URL:https://communitycounsellingcentre.ca/event/ishmal/2026-11-30/
LOCATION:Room 4
CATEGORIES:Room 4
END:VEVENT
BEGIN:VEVENT
DTSTART;TZID=America/Edmonton:20261201T140000
DTEND;TZID=America/Edmonton:20261201T200000
DTSTAMP:20260423T164309
CREATED:20251027T230259Z
LAST-MODIFIED:20251126T022003Z
UID:10006785-1796133600-1796155200@communitycounsellingcentre.ca
SUMMARY:Nick
DESCRIPTION:
URL:https://communitycounsellingcentre.ca/event/nick-3-2/2026-12-01/
LOCATION:Room 4
CATEGORIES:Room 4
END:VEVENT
BEGIN:VEVENT
DTSTART;TZID=America/Edmonton:20261202T130000
DTEND;TZID=America/Edmonton:20261202T210000
DTSTAMP:20260423T164309
CREATED:20240501T152231Z
LAST-MODIFIED:20251126T023056Z
UID:10007255-1796216400-1796245200@communitycounsellingcentre.ca
SUMMARY:Sherry
DESCRIPTION:
URL:https://communitycounsellingcentre.ca/event/sherry/2026-12-02/
LOCATION:Room 4
CATEGORIES:Room 4
END:VEVENT
BEGIN:VEVENT
DTSTART;TZID=America/Edmonton:20261203T130000
DTEND;TZID=America/Edmonton:20261203T200000
DTSTAMP:20260423T164309
CREATED:20240504T054425Z
LAST-MODIFIED:20251126T023114Z
UID:10007308-1796302800-1796328000@communitycounsellingcentre.ca
SUMMARY:Sherry
DESCRIPTION:
URL:https://communitycounsellingcentre.ca/event/sherry-2/2026-12-03/
LOCATION:Room 4
CATEGORIES:Room 4
END:VEVENT
BEGIN:VEVENT
DTSTART;TZID=America/Edmonton:20261204T090000
DTEND;TZID=America/Edmonton:20261204T210000
DTSTAMP:20260423T164309
CREATED:20240504T054728Z
LAST-MODIFIED:20251126T021539Z
UID:10006524-1796374800-1796418000@communitycounsellingcentre.ca
SUMMARY:Sherry
DESCRIPTION:
URL:https://communitycounsellingcentre.ca/event/sherry-3/2026-12-04/
LOCATION:Room 4
CATEGORIES:Room 4
END:VEVENT
BEGIN:VEVENT
DTSTART;TZID=America/Edmonton:20261207T160000
DTEND;TZID=America/Edmonton:20261207T200000
DTSTAMP:20260423T164309
CREATED:20251125T155130Z
LAST-MODIFIED:20251125T155130Z
UID:10006257-1796659200-1796673600@communitycounsellingcentre.ca
SUMMARY:Ishmal
DESCRIPTION:
URL:https://communitycounsellingcentre.ca/event/ishmal/2026-12-07/
LOCATION:Room 4
CATEGORIES:Room 4
END:VEVENT
BEGIN:VEVENT
DTSTART;TZID=America/Edmonton:20261208T140000
DTEND;TZID=America/Edmonton:20261208T200000
DTSTAMP:20260423T164309
CREATED:20251027T230259Z
LAST-MODIFIED:20251126T022003Z
UID:10006786-1796738400-1796760000@communitycounsellingcentre.ca
SUMMARY:Nick
DESCRIPTION:
URL:https://communitycounsellingcentre.ca/event/nick-3-2/2026-12-08/
LOCATION:Room 4
CATEGORIES:Room 4
END:VEVENT
BEGIN:VEVENT
DTSTART;TZID=America/Edmonton:20261209T130000
DTEND;TZID=America/Edmonton:20261209T210000
DTSTAMP:20260423T164309
CREATED:20240501T152231Z
LAST-MODIFIED:20251126T023056Z
UID:10007256-1796821200-1796850000@communitycounsellingcentre.ca
SUMMARY:Sherry
DESCRIPTION:
URL:https://communitycounsellingcentre.ca/event/sherry/2026-12-09/
LOCATION:Room 4
CATEGORIES:Room 4
END:VEVENT
BEGIN:VEVENT
DTSTART;TZID=America/Edmonton:20261210T130000
DTEND;TZID=America/Edmonton:20261210T200000
DTSTAMP:20260423T164309
CREATED:20240504T054425Z
LAST-MODIFIED:20251126T023114Z
UID:10007309-1796907600-1796932800@communitycounsellingcentre.ca
SUMMARY:Sherry
DESCRIPTION:
URL:https://communitycounsellingcentre.ca/event/sherry-2/2026-12-10/
LOCATION:Room 4
CATEGORIES:Room 4
END:VEVENT
BEGIN:VEVENT
DTSTART;TZID=America/Edmonton:20261211T090000
DTEND;TZID=America/Edmonton:20261211T210000
DTSTAMP:20260423T164309
CREATED:20240504T054728Z
LAST-MODIFIED:20251126T021539Z
UID:10006525-1796979600-1797022800@communitycounsellingcentre.ca
SUMMARY:Sherry
DESCRIPTION:
URL:https://communitycounsellingcentre.ca/event/sherry-3/2026-12-11/
LOCATION:Room 4
CATEGORIES:Room 4
END:VEVENT
BEGIN:VEVENT
DTSTART;TZID=America/Edmonton:20261214T160000
DTEND;TZID=America/Edmonton:20261214T200000
DTSTAMP:20260423T164309
CREATED:20251125T155130Z
LAST-MODIFIED:20251125T155130Z
UID:10006258-1797264000-1797278400@communitycounsellingcentre.ca
SUMMARY:Ishmal
DESCRIPTION:
URL:https://communitycounsellingcentre.ca/event/ishmal/2026-12-14/
LOCATION:Room 4
CATEGORIES:Room 4
END:VEVENT
BEGIN:VEVENT
DTSTART;TZID=America/Edmonton:20261215T140000
DTEND;TZID=America/Edmonton:20261215T200000
DTSTAMP:20260423T164309
CREATED:20251027T230259Z
LAST-MODIFIED:20251126T022003Z
UID:10006787-1797343200-1797364800@communitycounsellingcentre.ca
SUMMARY:Nick
DESCRIPTION:
URL:https://communitycounsellingcentre.ca/event/nick-3-2/2026-12-15/
LOCATION:Room 4
CATEGORIES:Room 4
END:VEVENT
BEGIN:VEVENT
DTSTART;TZID=America/Edmonton:20261216T130000
DTEND;TZID=America/Edmonton:20261216T210000
DTSTAMP:20260423T164309
CREATED:20240501T152231Z
LAST-MODIFIED:20251126T023056Z
UID:10007257-1797426000-1797454800@communitycounsellingcentre.ca
SUMMARY:Sherry
DESCRIPTION:
URL:https://communitycounsellingcentre.ca/event/sherry/2026-12-16/
LOCATION:Room 4
CATEGORIES:Room 4
END:VEVENT
BEGIN:VEVENT
DTSTART;TZID=America/Edmonton:20261217T130000
DTEND;TZID=America/Edmonton:20261217T200000
DTSTAMP:20260423T164309
CREATED:20240504T054425Z
LAST-MODIFIED:20251126T023114Z
UID:10007310-1797512400-1797537600@communitycounsellingcentre.ca
SUMMARY:Sherry
DESCRIPTION:
URL:https://communitycounsellingcentre.ca/event/sherry-2/2026-12-17/
LOCATION:Room 4
CATEGORIES:Room 4
END:VEVENT
BEGIN:VEVENT
DTSTART;TZID=America/Edmonton:20261218T090000
DTEND;TZID=America/Edmonton:20261218T210000
DTSTAMP:20260423T164309
CREATED:20240504T054728Z
LAST-MODIFIED:20251126T021539Z
UID:10006526-1797584400-1797627600@communitycounsellingcentre.ca
SUMMARY:Sherry
DESCRIPTION:
URL:https://communitycounsellingcentre.ca/event/sherry-3/2026-12-18/
LOCATION:Room 4
CATEGORIES:Room 4
END:VEVENT
BEGIN:VEVENT
DTSTART;TZID=America/Edmonton:20261221T160000
DTEND;TZID=America/Edmonton:20261221T200000
DTSTAMP:20260423T164309
CREATED:20251125T155130Z
LAST-MODIFIED:20251125T155130Z
UID:10006259-1797868800-1797883200@communitycounsellingcentre.ca
SUMMARY:Ishmal
DESCRIPTION:
URL:https://communitycounsellingcentre.ca/event/ishmal/2026-12-21/
LOCATION:Room 4
CATEGORIES:Room 4
END:VEVENT
BEGIN:VEVENT
DTSTART;TZID=America/Edmonton:20261222T140000
DTEND;TZID=America/Edmonton:20261222T200000
DTSTAMP:20260423T164309
CREATED:20251027T230259Z
LAST-MODIFIED:20251126T022003Z
UID:10006788-1797948000-1797969600@communitycounsellingcentre.ca
SUMMARY:Nick
DESCRIPTION:
URL:https://communitycounsellingcentre.ca/event/nick-3-2/2026-12-22/
LOCATION:Room 4
CATEGORIES:Room 4
END:VEVENT
BEGIN:VEVENT
DTSTART;TZID=America/Edmonton:20261223T130000
DTEND;TZID=America/Edmonton:20261223T210000
DTSTAMP:20260423T164309
CREATED:20240501T152231Z
LAST-MODIFIED:20251126T023056Z
UID:10007258-1798030800-1798059600@communitycounsellingcentre.ca
SUMMARY:Sherry
DESCRIPTION:
URL:https://communitycounsellingcentre.ca/event/sherry/2026-12-23/
LOCATION:Room 4
CATEGORIES:Room 4
END:VEVENT
BEGIN:VEVENT
DTSTART;TZID=America/Edmonton:20261224T130000
DTEND;TZID=America/Edmonton:20261224T200000
DTSTAMP:20260423T164309
CREATED:20240504T054425Z
LAST-MODIFIED:20251126T023114Z
UID:10007311-1798117200-1798142400@communitycounsellingcentre.ca
SUMMARY:Sherry
DESCRIPTION:
URL:https://communitycounsellingcentre.ca/event/sherry-2/2026-12-24/
LOCATION:Room 4
CATEGORIES:Room 4
END:VEVENT
BEGIN:VEVENT
DTSTART;TZID=America/Edmonton:20261225T090000
DTEND;TZID=America/Edmonton:20261225T210000
DTSTAMP:20260423T164309
CREATED:20240504T054728Z
LAST-MODIFIED:20251126T021539Z
UID:10006527-1798189200-1798232400@communitycounsellingcentre.ca
SUMMARY:Sherry
DESCRIPTION:
URL:https://communitycounsellingcentre.ca/event/sherry-3/2026-12-25/
LOCATION:Room 4
CATEGORIES:Room 4
END:VEVENT
BEGIN:VEVENT
DTSTART;TZID=America/Edmonton:20261228T160000
DTEND;TZID=America/Edmonton:20261228T200000
DTSTAMP:20260423T164309
CREATED:20251125T155130Z
LAST-MODIFIED:20251125T155130Z
UID:10006260-1798473600-1798488000@communitycounsellingcentre.ca
SUMMARY:Ishmal
DESCRIPTION:
URL:https://communitycounsellingcentre.ca/event/ishmal/2026-12-28/
LOCATION:Room 4
CATEGORIES:Room 4
END:VEVENT
BEGIN:VEVENT
DTSTART;TZID=America/Edmonton:20261229T140000
DTEND;TZID=America/Edmonton:20261229T200000
DTSTAMP:20260423T164309
CREATED:20251027T230259Z
LAST-MODIFIED:20251126T022003Z
UID:10006789-1798552800-1798574400@communitycounsellingcentre.ca
SUMMARY:Nick
DESCRIPTION:
URL:https://communitycounsellingcentre.ca/event/nick-3-2/2026-12-29/
LOCATION:Room 4
CATEGORIES:Room 4
END:VEVENT
BEGIN:VEVENT
DTSTART;TZID=America/Edmonton:20261230T130000
DTEND;TZID=America/Edmonton:20261230T210000
DTSTAMP:20260423T164309
CREATED:20240501T152231Z
LAST-MODIFIED:20251126T023056Z
UID:10007259-1798635600-1798664400@communitycounsellingcentre.ca
SUMMARY:Sherry
DESCRIPTION:
URL:https://communitycounsellingcentre.ca/event/sherry/2026-12-30/
LOCATION:Room 4
CATEGORIES:Room 4
END:VEVENT
BEGIN:VEVENT
DTSTART;TZID=America/Edmonton:20261231T130000
DTEND;TZID=America/Edmonton:20261231T200000
DTSTAMP:20260423T164309
CREATED:20240504T054425Z
LAST-MODIFIED:20251126T023114Z
UID:10007312-1798722000-1798747200@communitycounsellingcentre.ca
SUMMARY:Sherry
DESCRIPTION:
URL:https://communitycounsellingcentre.ca/event/sherry-2/2026-12-31/
LOCATION:Room 4
CATEGORIES:Room 4
END:VEVENT
END:VCALENDAR