BEGIN:VCALENDAR
VERSION:2.0
PRODID:-//Community Counselling Centre - ECPv6.13.1//NONSGML v1.0//EN
CALSCALE:GREGORIAN
METHOD:PUBLISH
X-ORIGINAL-URL:https://communitycounsellingcentre.ca
X-WR-CALDESC:Events for Community Counselling Centre
REFRESH-INTERVAL;VALUE=DURATION:PT1H
X-Robots-Tag:noindex
X-PUBLISHED-TTL:PT1H
BEGIN:VTIMEZONE
TZID:America/Edmonton
BEGIN:DAYLIGHT
TZOFFSETFROM:-0700
TZOFFSETTO:-0600
TZNAME:MDT
DTSTART:20250309T090000
END:DAYLIGHT
BEGIN:STANDARD
TZOFFSETFROM:-0600
TZOFFSETTO:-0700
TZNAME:MST
DTSTART:20251102T080000
END:STANDARD
END:VTIMEZONE
BEGIN:VEVENT
DTSTART;TZID=America/Edmonton:20250711T090000
DTEND;TZID=America/Edmonton:20250711T210000
DTSTAMP:20260423T164115
CREATED:20240504T054728Z
LAST-MODIFIED:20251126T021539Z
UID:10004175-1752224400-1752267600@communitycounsellingcentre.ca
SUMMARY:Sherry
DESCRIPTION:
URL:https://communitycounsellingcentre.ca/event/sherry-3/2025-07-11/
LOCATION:Room 4
CATEGORIES:Room 4
END:VEVENT
BEGIN:VEVENT
DTSTART;TZID=America/Edmonton:20250710T130000
DTEND;TZID=America/Edmonton:20250710T200000
DTSTAMP:20260423T164115
CREATED:20240504T054425Z
LAST-MODIFIED:20251126T023114Z
UID:10004227-1752152400-1752177600@communitycounsellingcentre.ca
SUMMARY:Sherry
DESCRIPTION:
URL:https://communitycounsellingcentre.ca/event/sherry-2/2025-07-10/
LOCATION:Room 4
CATEGORIES:Room 4
END:VEVENT
BEGIN:VEVENT
DTSTART;TZID=America/Edmonton:20250709T130000
DTEND;TZID=America/Edmonton:20250709T210000
DTSTAMP:20260423T164115
CREATED:20240501T152231Z
LAST-MODIFIED:20251126T023056Z
UID:10004279-1752066000-1752094800@communitycounsellingcentre.ca
SUMMARY:Sherry
DESCRIPTION:
URL:https://communitycounsellingcentre.ca/event/sherry/2025-07-09/
LOCATION:Room 4
CATEGORIES:Room 4
END:VEVENT
BEGIN:VEVENT
DTSTART;TZID=America/Edmonton:20250704T090000
DTEND;TZID=America/Edmonton:20250704T210000
DTSTAMP:20260423T164115
CREATED:20240504T054728Z
LAST-MODIFIED:20251126T021539Z
UID:10004174-1751619600-1751662800@communitycounsellingcentre.ca
SUMMARY:Sherry
DESCRIPTION:
URL:https://communitycounsellingcentre.ca/event/sherry-3/2025-07-04/
LOCATION:Room 4
CATEGORIES:Room 4
END:VEVENT
BEGIN:VEVENT
DTSTART;TZID=America/Edmonton:20250703T130000
DTEND;TZID=America/Edmonton:20250703T200000
DTSTAMP:20260423T164115
CREATED:20240504T054425Z
LAST-MODIFIED:20251126T023114Z
UID:10004226-1751547600-1751572800@communitycounsellingcentre.ca
SUMMARY:Sherry
DESCRIPTION:
URL:https://communitycounsellingcentre.ca/event/sherry-2/2025-07-03/
LOCATION:Room 4
CATEGORIES:Room 4
END:VEVENT
BEGIN:VEVENT
DTSTART;TZID=America/Edmonton:20250702T130000
DTEND;TZID=America/Edmonton:20250702T210000
DTSTAMP:20260423T164115
CREATED:20240501T152231Z
LAST-MODIFIED:20251126T023056Z
UID:10004278-1751461200-1751490000@communitycounsellingcentre.ca
SUMMARY:Sherry
DESCRIPTION:
URL:https://communitycounsellingcentre.ca/event/sherry/2025-07-02/
LOCATION:Room 4
CATEGORIES:Room 4
END:VEVENT
BEGIN:VEVENT
DTSTART;TZID=America/Edmonton:20250627T090000
DTEND;TZID=America/Edmonton:20250627T210000
DTSTAMP:20260423T164115
CREATED:20240504T054728Z
LAST-MODIFIED:20251126T021539Z
UID:10004173-1751014800-1751058000@communitycounsellingcentre.ca
SUMMARY:Sherry
DESCRIPTION:
URL:https://communitycounsellingcentre.ca/event/sherry-3/2025-06-27/
LOCATION:Room 4
CATEGORIES:Room 4
END:VEVENT
BEGIN:VEVENT
DTSTART;TZID=America/Edmonton:20250626T130000
DTEND;TZID=America/Edmonton:20250626T200000
DTSTAMP:20260423T164115
CREATED:20240504T054425Z
LAST-MODIFIED:20251126T023114Z
UID:10004225-1750942800-1750968000@communitycounsellingcentre.ca
SUMMARY:Sherry
DESCRIPTION:
URL:https://communitycounsellingcentre.ca/event/sherry-2/2025-06-26/
LOCATION:Room 4
CATEGORIES:Room 4
END:VEVENT
BEGIN:VEVENT
DTSTART;TZID=America/Edmonton:20250625T130000
DTEND;TZID=America/Edmonton:20250625T210000
DTSTAMP:20260423T164115
CREATED:20240501T152231Z
LAST-MODIFIED:20251126T023056Z
UID:10004277-1750856400-1750885200@communitycounsellingcentre.ca
SUMMARY:Sherry
DESCRIPTION:
URL:https://communitycounsellingcentre.ca/event/sherry/2025-06-25/
LOCATION:Room 4
CATEGORIES:Room 4
END:VEVENT
BEGIN:VEVENT
DTSTART;TZID=America/Edmonton:20250620T090000
DTEND;TZID=America/Edmonton:20250620T210000
DTSTAMP:20260423T164115
CREATED:20240504T054728Z
LAST-MODIFIED:20251126T021539Z
UID:10004172-1750410000-1750453200@communitycounsellingcentre.ca
SUMMARY:Sherry
DESCRIPTION:
URL:https://communitycounsellingcentre.ca/event/sherry-3/2025-06-20/
LOCATION:Room 4
CATEGORIES:Room 4
END:VEVENT
BEGIN:VEVENT
DTSTART;TZID=America/Edmonton:20250619T130000
DTEND;TZID=America/Edmonton:20250619T200000
DTSTAMP:20260423T164115
CREATED:20240504T054425Z
LAST-MODIFIED:20251126T023114Z
UID:10004224-1750338000-1750363200@communitycounsellingcentre.ca
SUMMARY:Sherry
DESCRIPTION:
URL:https://communitycounsellingcentre.ca/event/sherry-2/2025-06-19/
LOCATION:Room 4
CATEGORIES:Room 4
END:VEVENT
BEGIN:VEVENT
DTSTART;TZID=America/Edmonton:20250618T130000
DTEND;TZID=America/Edmonton:20250618T210000
DTSTAMP:20260423T164115
CREATED:20240501T152231Z
LAST-MODIFIED:20251126T023056Z
UID:10004276-1750251600-1750280400@communitycounsellingcentre.ca
SUMMARY:Sherry
DESCRIPTION:
URL:https://communitycounsellingcentre.ca/event/sherry/2025-06-18/
LOCATION:Room 4
CATEGORIES:Room 4
END:VEVENT
BEGIN:VEVENT
DTSTART;TZID=America/Edmonton:20250613T090000
DTEND;TZID=America/Edmonton:20250613T210000
DTSTAMP:20260423T164115
CREATED:20240504T054728Z
LAST-MODIFIED:20251126T021539Z
UID:10004171-1749805200-1749848400@communitycounsellingcentre.ca
SUMMARY:Sherry
DESCRIPTION:
URL:https://communitycounsellingcentre.ca/event/sherry-3/2025-06-13/
LOCATION:Room 4
CATEGORIES:Room 4
END:VEVENT
BEGIN:VEVENT
DTSTART;TZID=America/Edmonton:20250612T130000
DTEND;TZID=America/Edmonton:20250612T200000
DTSTAMP:20260423T164115
CREATED:20240504T054425Z
LAST-MODIFIED:20251126T023114Z
UID:10004223-1749733200-1749758400@communitycounsellingcentre.ca
SUMMARY:Sherry
DESCRIPTION:
URL:https://communitycounsellingcentre.ca/event/sherry-2/2025-06-12/
LOCATION:Room 4
CATEGORIES:Room 4
END:VEVENT
BEGIN:VEVENT
DTSTART;TZID=America/Edmonton:20250611T130000
DTEND;TZID=America/Edmonton:20250611T210000
DTSTAMP:20260423T164115
CREATED:20240501T152231Z
LAST-MODIFIED:20251126T023056Z
UID:10004275-1749646800-1749675600@communitycounsellingcentre.ca
SUMMARY:Sherry
DESCRIPTION:
URL:https://communitycounsellingcentre.ca/event/sherry/2025-06-11/
LOCATION:Room 4
CATEGORIES:Room 4
END:VEVENT
BEGIN:VEVENT
DTSTART;TZID=America/Edmonton:20250606T090000
DTEND;TZID=America/Edmonton:20250606T210000
DTSTAMP:20260423T164115
CREATED:20240504T054728Z
LAST-MODIFIED:20251126T021539Z
UID:10004170-1749200400-1749243600@communitycounsellingcentre.ca
SUMMARY:Sherry
DESCRIPTION:
URL:https://communitycounsellingcentre.ca/event/sherry-3/2025-06-06/
LOCATION:Room 4
CATEGORIES:Room 4
END:VEVENT
BEGIN:VEVENT
DTSTART;TZID=America/Edmonton:20250605T130000
DTEND;TZID=America/Edmonton:20250605T200000
DTSTAMP:20260423T164115
CREATED:20240504T054425Z
LAST-MODIFIED:20251126T023114Z
UID:10004222-1749128400-1749153600@communitycounsellingcentre.ca
SUMMARY:Sherry
DESCRIPTION:
URL:https://communitycounsellingcentre.ca/event/sherry-2/2025-06-05/
LOCATION:Room 4
CATEGORIES:Room 4
END:VEVENT
BEGIN:VEVENT
DTSTART;TZID=America/Edmonton:20250604T130000
DTEND;TZID=America/Edmonton:20250604T210000
DTSTAMP:20260423T164115
CREATED:20240501T152231Z
LAST-MODIFIED:20251126T023056Z
UID:10004274-1749042000-1749070800@communitycounsellingcentre.ca
SUMMARY:Sherry
DESCRIPTION:
URL:https://communitycounsellingcentre.ca/event/sherry/2025-06-04/
LOCATION:Room 4
CATEGORIES:Room 4
END:VEVENT
BEGIN:VEVENT
DTSTART;TZID=America/Edmonton:20250530T090000
DTEND;TZID=America/Edmonton:20250530T210000
DTSTAMP:20260423T164115
CREATED:20240504T054728Z
LAST-MODIFIED:20251126T021539Z
UID:10004169-1748595600-1748638800@communitycounsellingcentre.ca
SUMMARY:Sherry
DESCRIPTION:
URL:https://communitycounsellingcentre.ca/event/sherry-3/2025-05-30/
LOCATION:Room 4
CATEGORIES:Room 4
END:VEVENT
BEGIN:VEVENT
DTSTART;TZID=America/Edmonton:20250529T130000
DTEND;TZID=America/Edmonton:20250529T200000
DTSTAMP:20260423T164115
CREATED:20240504T054425Z
LAST-MODIFIED:20251126T023114Z
UID:10004221-1748523600-1748548800@communitycounsellingcentre.ca
SUMMARY:Sherry
DESCRIPTION:
URL:https://communitycounsellingcentre.ca/event/sherry-2/2025-05-29/
LOCATION:Room 4
CATEGORIES:Room 4
END:VEVENT
BEGIN:VEVENT
DTSTART;TZID=America/Edmonton:20250528T130000
DTEND;TZID=America/Edmonton:20250528T210000
DTSTAMP:20260423T164115
CREATED:20240501T152231Z
LAST-MODIFIED:20251126T023056Z
UID:10004273-1748437200-1748466000@communitycounsellingcentre.ca
SUMMARY:Sherry
DESCRIPTION:
URL:https://communitycounsellingcentre.ca/event/sherry/2025-05-28/
LOCATION:Room 4
CATEGORIES:Room 4
END:VEVENT
BEGIN:VEVENT
DTSTART;TZID=America/Edmonton:20250523T090000
DTEND;TZID=America/Edmonton:20250523T210000
DTSTAMP:20260423T164115
CREATED:20240504T054728Z
LAST-MODIFIED:20251126T021539Z
UID:10004168-1747990800-1748034000@communitycounsellingcentre.ca
SUMMARY:Sherry
DESCRIPTION:
URL:https://communitycounsellingcentre.ca/event/sherry-3/2025-05-23/
LOCATION:Room 4
CATEGORIES:Room 4
END:VEVENT
BEGIN:VEVENT
DTSTART;TZID=America/Edmonton:20250522T130000
DTEND;TZID=America/Edmonton:20250522T200000
DTSTAMP:20260423T164115
CREATED:20240504T054425Z
LAST-MODIFIED:20251126T023114Z
UID:10004220-1747918800-1747944000@communitycounsellingcentre.ca
SUMMARY:Sherry
DESCRIPTION:
URL:https://communitycounsellingcentre.ca/event/sherry-2/2025-05-22/
LOCATION:Room 4
CATEGORIES:Room 4
END:VEVENT
BEGIN:VEVENT
DTSTART;TZID=America/Edmonton:20250521T130000
DTEND;TZID=America/Edmonton:20250521T210000
DTSTAMP:20260423T164115
CREATED:20240501T152231Z
LAST-MODIFIED:20251126T023056Z
UID:10004272-1747832400-1747861200@communitycounsellingcentre.ca
SUMMARY:Sherry
DESCRIPTION:
URL:https://communitycounsellingcentre.ca/event/sherry/2025-05-21/
LOCATION:Room 4
CATEGORIES:Room 4
END:VEVENT
BEGIN:VEVENT
DTSTART;TZID=America/Edmonton:20250516T090000
DTEND;TZID=America/Edmonton:20250516T210000
DTSTAMP:20260423T164115
CREATED:20240504T054728Z
LAST-MODIFIED:20251126T021539Z
UID:10004167-1747386000-1747429200@communitycounsellingcentre.ca
SUMMARY:Sherry
DESCRIPTION:
URL:https://communitycounsellingcentre.ca/event/sherry-3/2025-05-16/
LOCATION:Room 4
CATEGORIES:Room 4
END:VEVENT
BEGIN:VEVENT
DTSTART;TZID=America/Edmonton:20250515T130000
DTEND;TZID=America/Edmonton:20250515T200000
DTSTAMP:20260423T164115
CREATED:20240504T054425Z
LAST-MODIFIED:20251126T023114Z
UID:10004219-1747314000-1747339200@communitycounsellingcentre.ca
SUMMARY:Sherry
DESCRIPTION:
URL:https://communitycounsellingcentre.ca/event/sherry-2/2025-05-15/
LOCATION:Room 4
CATEGORIES:Room 4
END:VEVENT
BEGIN:VEVENT
DTSTART;TZID=America/Edmonton:20250514T130000
DTEND;TZID=America/Edmonton:20250514T210000
DTSTAMP:20260423T164115
CREATED:20240501T152231Z
LAST-MODIFIED:20251126T023056Z
UID:10004271-1747227600-1747256400@communitycounsellingcentre.ca
SUMMARY:Sherry
DESCRIPTION:
URL:https://communitycounsellingcentre.ca/event/sherry/2025-05-14/
LOCATION:Room 4
CATEGORIES:Room 4
END:VEVENT
BEGIN:VEVENT
DTSTART;TZID=America/Edmonton:20250509T090000
DTEND;TZID=America/Edmonton:20250509T210000
DTSTAMP:20260423T164115
CREATED:20240504T054728Z
LAST-MODIFIED:20251126T021539Z
UID:10004166-1746781200-1746824400@communitycounsellingcentre.ca
SUMMARY:Sherry
DESCRIPTION:
URL:https://communitycounsellingcentre.ca/event/sherry-3/2025-05-09/
LOCATION:Room 4
CATEGORIES:Room 4
END:VEVENT
BEGIN:VEVENT
DTSTART;TZID=America/Edmonton:20250508T130000
DTEND;TZID=America/Edmonton:20250508T200000
DTSTAMP:20260423T164115
CREATED:20240504T054425Z
LAST-MODIFIED:20251126T023114Z
UID:10004218-1746709200-1746734400@communitycounsellingcentre.ca
SUMMARY:Sherry
DESCRIPTION:
URL:https://communitycounsellingcentre.ca/event/sherry-2/2025-05-08/
LOCATION:Room 4
CATEGORIES:Room 4
END:VEVENT
BEGIN:VEVENT
DTSTART;TZID=America/Edmonton:20250507T130000
DTEND;TZID=America/Edmonton:20250507T210000
DTSTAMP:20260423T164115
CREATED:20240501T152231Z
LAST-MODIFIED:20251126T023056Z
UID:10004270-1746622800-1746651600@communitycounsellingcentre.ca
SUMMARY:Sherry
DESCRIPTION:
URL:https://communitycounsellingcentre.ca/event/sherry/2025-05-07/
LOCATION:Room 4
CATEGORIES:Room 4
END:VEVENT
END:VCALENDAR