BEGIN:VCALENDAR
VERSION:2.0
PRODID:-//Community Counselling Centre - ECPv6.13.1//NONSGML v1.0//EN
CALSCALE:GREGORIAN
METHOD:PUBLISH
X-ORIGINAL-URL:https://communitycounsellingcentre.ca
X-WR-CALDESC:Events for Community Counselling Centre
REFRESH-INTERVAL;VALUE=DURATION:PT1H
X-Robots-Tag:noindex
X-PUBLISHED-TTL:PT1H
BEGIN:VTIMEZONE
TZID:America/Edmonton
BEGIN:DAYLIGHT
TZOFFSETFROM:-0700
TZOFFSETTO:-0600
TZNAME:MDT
DTSTART:20250309T090000
END:DAYLIGHT
BEGIN:STANDARD
TZOFFSETFROM:-0600
TZOFFSETTO:-0700
TZNAME:MST
DTSTART:20251102T080000
END:STANDARD
END:VTIMEZONE
BEGIN:VEVENT
DTSTART;TZID=America/Edmonton:20250516T090000
DTEND;TZID=America/Edmonton:20250516T210000
DTSTAMP:20260423T193719
CREATED:20240504T054728Z
LAST-MODIFIED:20251126T021539Z
UID:10004167-1747386000-1747429200@communitycounsellingcentre.ca
SUMMARY:Sherry
DESCRIPTION:
URL:https://communitycounsellingcentre.ca/event/sherry-3/2025-05-16/
LOCATION:Room 4
CATEGORIES:Room 4
END:VEVENT
BEGIN:VEVENT
DTSTART;TZID=America/Edmonton:20250515T130000
DTEND;TZID=America/Edmonton:20250515T200000
DTSTAMP:20260423T193719
CREATED:20240504T054425Z
LAST-MODIFIED:20251126T023114Z
UID:10004219-1747314000-1747339200@communitycounsellingcentre.ca
SUMMARY:Sherry
DESCRIPTION:
URL:https://communitycounsellingcentre.ca/event/sherry-2/2025-05-15/
LOCATION:Room 4
CATEGORIES:Room 4
END:VEVENT
BEGIN:VEVENT
DTSTART;TZID=America/Edmonton:20250514T130000
DTEND;TZID=America/Edmonton:20250514T210000
DTSTAMP:20260423T193719
CREATED:20240501T152231Z
LAST-MODIFIED:20251126T023056Z
UID:10004271-1747227600-1747256400@communitycounsellingcentre.ca
SUMMARY:Sherry
DESCRIPTION:
URL:https://communitycounsellingcentre.ca/event/sherry/2025-05-14/
LOCATION:Room 4
CATEGORIES:Room 4
END:VEVENT
BEGIN:VEVENT
DTSTART;TZID=America/Edmonton:20250509T090000
DTEND;TZID=America/Edmonton:20250509T210000
DTSTAMP:20260423T193719
CREATED:20240504T054728Z
LAST-MODIFIED:20251126T021539Z
UID:10004166-1746781200-1746824400@communitycounsellingcentre.ca
SUMMARY:Sherry
DESCRIPTION:
URL:https://communitycounsellingcentre.ca/event/sherry-3/2025-05-09/
LOCATION:Room 4
CATEGORIES:Room 4
END:VEVENT
BEGIN:VEVENT
DTSTART;TZID=America/Edmonton:20250508T130000
DTEND;TZID=America/Edmonton:20250508T200000
DTSTAMP:20260423T193719
CREATED:20240504T054425Z
LAST-MODIFIED:20251126T023114Z
UID:10004218-1746709200-1746734400@communitycounsellingcentre.ca
SUMMARY:Sherry
DESCRIPTION:
URL:https://communitycounsellingcentre.ca/event/sherry-2/2025-05-08/
LOCATION:Room 4
CATEGORIES:Room 4
END:VEVENT
BEGIN:VEVENT
DTSTART;TZID=America/Edmonton:20250507T130000
DTEND;TZID=America/Edmonton:20250507T210000
DTSTAMP:20260423T193719
CREATED:20240501T152231Z
LAST-MODIFIED:20251126T023056Z
UID:10004270-1746622800-1746651600@communitycounsellingcentre.ca
SUMMARY:Sherry
DESCRIPTION:
URL:https://communitycounsellingcentre.ca/event/sherry/2025-05-07/
LOCATION:Room 4
CATEGORIES:Room 4
END:VEVENT
BEGIN:VEVENT
DTSTART;TZID=America/Edmonton:20250502T090000
DTEND;TZID=America/Edmonton:20250502T210000
DTSTAMP:20260423T193719
CREATED:20240504T054728Z
LAST-MODIFIED:20251126T021539Z
UID:10004165-1746176400-1746219600@communitycounsellingcentre.ca
SUMMARY:Sherry
DESCRIPTION:
URL:https://communitycounsellingcentre.ca/event/sherry-3/2025-05-02/
LOCATION:Room 4
CATEGORIES:Room 4
END:VEVENT
BEGIN:VEVENT
DTSTART;TZID=America/Edmonton:20250501T130000
DTEND;TZID=America/Edmonton:20250501T200000
DTSTAMP:20260423T193719
CREATED:20240504T054425Z
LAST-MODIFIED:20251126T023114Z
UID:10004217-1746104400-1746129600@communitycounsellingcentre.ca
SUMMARY:Sherry
DESCRIPTION:
URL:https://communitycounsellingcentre.ca/event/sherry-2/2025-05-01/
LOCATION:Room 4
CATEGORIES:Room 4
END:VEVENT
BEGIN:VEVENT
DTSTART;TZID=America/Edmonton:20250430T130000
DTEND;TZID=America/Edmonton:20250430T210000
DTSTAMP:20260423T193719
CREATED:20240501T152231Z
LAST-MODIFIED:20251126T023056Z
UID:10004269-1746018000-1746046800@communitycounsellingcentre.ca
SUMMARY:Sherry
DESCRIPTION:
URL:https://communitycounsellingcentre.ca/event/sherry/2025-04-30/
LOCATION:Room 4
CATEGORIES:Room 4
END:VEVENT
BEGIN:VEVENT
DTSTART;TZID=America/Edmonton:20250425T090000
DTEND;TZID=America/Edmonton:20250425T210000
DTSTAMP:20260423T193719
CREATED:20240504T054728Z
LAST-MODIFIED:20251126T021539Z
UID:10004164-1745571600-1745614800@communitycounsellingcentre.ca
SUMMARY:Sherry
DESCRIPTION:
URL:https://communitycounsellingcentre.ca/event/sherry-3/2025-04-25/
LOCATION:Room 4
CATEGORIES:Room 4
END:VEVENT
BEGIN:VEVENT
DTSTART;TZID=America/Edmonton:20250424T130000
DTEND;TZID=America/Edmonton:20250424T200000
DTSTAMP:20260423T193719
CREATED:20240504T054425Z
LAST-MODIFIED:20251126T023114Z
UID:10004216-1745499600-1745524800@communitycounsellingcentre.ca
SUMMARY:Sherry
DESCRIPTION:
URL:https://communitycounsellingcentre.ca/event/sherry-2/2025-04-24/
LOCATION:Room 4
CATEGORIES:Room 4
END:VEVENT
BEGIN:VEVENT
DTSTART;TZID=America/Edmonton:20250423T130000
DTEND;TZID=America/Edmonton:20250423T210000
DTSTAMP:20260423T193719
CREATED:20240501T152231Z
LAST-MODIFIED:20251126T023056Z
UID:10004268-1745413200-1745442000@communitycounsellingcentre.ca
SUMMARY:Sherry
DESCRIPTION:
URL:https://communitycounsellingcentre.ca/event/sherry/2025-04-23/
LOCATION:Room 4
CATEGORIES:Room 4
END:VEVENT
BEGIN:VEVENT
DTSTART;TZID=America/Edmonton:20250418T090000
DTEND;TZID=America/Edmonton:20250418T210000
DTSTAMP:20260423T193719
CREATED:20240504T054728Z
LAST-MODIFIED:20251126T021539Z
UID:10004163-1744966800-1745010000@communitycounsellingcentre.ca
SUMMARY:Sherry
DESCRIPTION:
URL:https://communitycounsellingcentre.ca/event/sherry-3/2025-04-18/
LOCATION:Room 4
CATEGORIES:Room 4
END:VEVENT
BEGIN:VEVENT
DTSTART;TZID=America/Edmonton:20250417T130000
DTEND;TZID=America/Edmonton:20250417T200000
DTSTAMP:20260423T193719
CREATED:20240504T054425Z
LAST-MODIFIED:20251126T023114Z
UID:10004215-1744894800-1744920000@communitycounsellingcentre.ca
SUMMARY:Sherry
DESCRIPTION:
URL:https://communitycounsellingcentre.ca/event/sherry-2/2025-04-17/
LOCATION:Room 4
CATEGORIES:Room 4
END:VEVENT
BEGIN:VEVENT
DTSTART;TZID=America/Edmonton:20250416T130000
DTEND;TZID=America/Edmonton:20250416T210000
DTSTAMP:20260423T193719
CREATED:20240501T152231Z
LAST-MODIFIED:20251126T023056Z
UID:10004267-1744808400-1744837200@communitycounsellingcentre.ca
SUMMARY:Sherry
DESCRIPTION:
URL:https://communitycounsellingcentre.ca/event/sherry/2025-04-16/
LOCATION:Room 4
CATEGORIES:Room 4
END:VEVENT
BEGIN:VEVENT
DTSTART;TZID=America/Edmonton:20250411T090000
DTEND;TZID=America/Edmonton:20250411T210000
DTSTAMP:20260423T193719
CREATED:20240504T054728Z
LAST-MODIFIED:20251126T021539Z
UID:10004162-1744362000-1744405200@communitycounsellingcentre.ca
SUMMARY:Sherry
DESCRIPTION:
URL:https://communitycounsellingcentre.ca/event/sherry-3/2025-04-11/
LOCATION:Room 4
CATEGORIES:Room 4
END:VEVENT
BEGIN:VEVENT
DTSTART;TZID=America/Edmonton:20250410T130000
DTEND;TZID=America/Edmonton:20250410T200000
DTSTAMP:20260423T193719
CREATED:20240504T054425Z
LAST-MODIFIED:20251126T023114Z
UID:10004214-1744290000-1744315200@communitycounsellingcentre.ca
SUMMARY:Sherry
DESCRIPTION:
URL:https://communitycounsellingcentre.ca/event/sherry-2/2025-04-10/
LOCATION:Room 4
CATEGORIES:Room 4
END:VEVENT
BEGIN:VEVENT
DTSTART;TZID=America/Edmonton:20250409T130000
DTEND;TZID=America/Edmonton:20250409T210000
DTSTAMP:20260423T193719
CREATED:20240501T152231Z
LAST-MODIFIED:20251126T023056Z
UID:10004266-1744203600-1744232400@communitycounsellingcentre.ca
SUMMARY:Sherry
DESCRIPTION:
URL:https://communitycounsellingcentre.ca/event/sherry/2025-04-09/
LOCATION:Room 4
CATEGORIES:Room 4
END:VEVENT
BEGIN:VEVENT
DTSTART;TZID=America/Edmonton:20250404T090000
DTEND;TZID=America/Edmonton:20250404T210000
DTSTAMP:20260423T193719
CREATED:20240504T054728Z
LAST-MODIFIED:20251126T021539Z
UID:10004161-1743757200-1743800400@communitycounsellingcentre.ca
SUMMARY:Sherry
DESCRIPTION:
URL:https://communitycounsellingcentre.ca/event/sherry-3/2025-04-04/
LOCATION:Room 4
CATEGORIES:Room 4
END:VEVENT
BEGIN:VEVENT
DTSTART;TZID=America/Edmonton:20250403T130000
DTEND;TZID=America/Edmonton:20250403T200000
DTSTAMP:20260423T193719
CREATED:20240504T054425Z
LAST-MODIFIED:20251126T023114Z
UID:10004213-1743685200-1743710400@communitycounsellingcentre.ca
SUMMARY:Sherry
DESCRIPTION:
URL:https://communitycounsellingcentre.ca/event/sherry-2/2025-04-03/
LOCATION:Room 4
CATEGORIES:Room 4
END:VEVENT
BEGIN:VEVENT
DTSTART;TZID=America/Edmonton:20250402T130000
DTEND;TZID=America/Edmonton:20250402T210000
DTSTAMP:20260423T193719
CREATED:20240501T152231Z
LAST-MODIFIED:20251126T023056Z
UID:10004265-1743598800-1743627600@communitycounsellingcentre.ca
SUMMARY:Sherry
DESCRIPTION:
URL:https://communitycounsellingcentre.ca/event/sherry/2025-04-02/
LOCATION:Room 4
CATEGORIES:Room 4
END:VEVENT
BEGIN:VEVENT
DTSTART;TZID=America/Edmonton:20250328T090000
DTEND;TZID=America/Edmonton:20250328T210000
DTSTAMP:20260423T193719
CREATED:20240504T054728Z
LAST-MODIFIED:20251126T021539Z
UID:10004160-1743152400-1743195600@communitycounsellingcentre.ca
SUMMARY:Sherry
DESCRIPTION:
URL:https://communitycounsellingcentre.ca/event/sherry-3/2025-03-28/
LOCATION:Room 4
CATEGORIES:Room 4
END:VEVENT
BEGIN:VEVENT
DTSTART;TZID=America/Edmonton:20250327T130000
DTEND;TZID=America/Edmonton:20250327T200000
DTSTAMP:20260423T193719
CREATED:20240504T054425Z
LAST-MODIFIED:20251126T023114Z
UID:10004212-1743080400-1743105600@communitycounsellingcentre.ca
SUMMARY:Sherry
DESCRIPTION:
URL:https://communitycounsellingcentre.ca/event/sherry-2/2025-03-27/
LOCATION:Room 4
CATEGORIES:Room 4
END:VEVENT
BEGIN:VEVENT
DTSTART;TZID=America/Edmonton:20250326T130000
DTEND;TZID=America/Edmonton:20250326T210000
DTSTAMP:20260423T193719
CREATED:20240501T152231Z
LAST-MODIFIED:20251126T023056Z
UID:10004264-1742994000-1743022800@communitycounsellingcentre.ca
SUMMARY:Sherry
DESCRIPTION:
URL:https://communitycounsellingcentre.ca/event/sherry/2025-03-26/
LOCATION:Room 4
CATEGORIES:Room 4
END:VEVENT
BEGIN:VEVENT
DTSTART;TZID=America/Edmonton:20250321T090000
DTEND;TZID=America/Edmonton:20250321T210000
DTSTAMP:20260423T193719
CREATED:20240504T054728Z
LAST-MODIFIED:20251126T021539Z
UID:10004159-1742547600-1742590800@communitycounsellingcentre.ca
SUMMARY:Sherry
DESCRIPTION:
URL:https://communitycounsellingcentre.ca/event/sherry-3/2025-03-21/
LOCATION:Room 4
CATEGORIES:Room 4
END:VEVENT
BEGIN:VEVENT
DTSTART;TZID=America/Edmonton:20250320T130000
DTEND;TZID=America/Edmonton:20250320T200000
DTSTAMP:20260423T193719
CREATED:20240504T054425Z
LAST-MODIFIED:20251126T023114Z
UID:10004211-1742475600-1742500800@communitycounsellingcentre.ca
SUMMARY:Sherry
DESCRIPTION:
URL:https://communitycounsellingcentre.ca/event/sherry-2/2025-03-20/
LOCATION:Room 4
CATEGORIES:Room 4
END:VEVENT
BEGIN:VEVENT
DTSTART;TZID=America/Edmonton:20250319T130000
DTEND;TZID=America/Edmonton:20250319T210000
DTSTAMP:20260423T193719
CREATED:20240501T152231Z
LAST-MODIFIED:20251126T023056Z
UID:10004263-1742389200-1742418000@communitycounsellingcentre.ca
SUMMARY:Sherry
DESCRIPTION:
URL:https://communitycounsellingcentre.ca/event/sherry/2025-03-19/
LOCATION:Room 4
CATEGORIES:Room 4
END:VEVENT
BEGIN:VEVENT
DTSTART;TZID=America/Edmonton:20250314T090000
DTEND;TZID=America/Edmonton:20250314T210000
DTSTAMP:20260423T193719
CREATED:20240504T054728Z
LAST-MODIFIED:20251126T021539Z
UID:10004158-1741942800-1741986000@communitycounsellingcentre.ca
SUMMARY:Sherry
DESCRIPTION:
URL:https://communitycounsellingcentre.ca/event/sherry-3/2025-03-14/
LOCATION:Room 4
CATEGORIES:Room 4
END:VEVENT
BEGIN:VEVENT
DTSTART;TZID=America/Edmonton:20250313T130000
DTEND;TZID=America/Edmonton:20250313T200000
DTSTAMP:20260423T193719
CREATED:20240504T054425Z
LAST-MODIFIED:20251126T023114Z
UID:10004210-1741870800-1741896000@communitycounsellingcentre.ca
SUMMARY:Sherry
DESCRIPTION:
URL:https://communitycounsellingcentre.ca/event/sherry-2/2025-03-13/
LOCATION:Room 4
CATEGORIES:Room 4
END:VEVENT
BEGIN:VEVENT
DTSTART;TZID=America/Edmonton:20250312T130000
DTEND;TZID=America/Edmonton:20250312T210000
DTSTAMP:20260423T193719
CREATED:20240501T152231Z
LAST-MODIFIED:20251126T023056Z
UID:10004262-1741784400-1741813200@communitycounsellingcentre.ca
SUMMARY:Sherry
DESCRIPTION:
URL:https://communitycounsellingcentre.ca/event/sherry/2025-03-12/
LOCATION:Room 4
CATEGORIES:Room 4
END:VEVENT
END:VCALENDAR