BEGIN:VCALENDAR
VERSION:2.0
PRODID:-//Community Counselling Centre - ECPv6.13.1//NONSGML v1.0//EN
CALSCALE:GREGORIAN
METHOD:PUBLISH
X-WR-CALNAME:Community Counselling Centre
X-ORIGINAL-URL:https://communitycounsellingcentre.ca
X-WR-CALDESC:Events for Community Counselling Centre
REFRESH-INTERVAL;VALUE=DURATION:PT1H
X-Robots-Tag:noindex
X-PUBLISHED-TTL:PT1H
BEGIN:VTIMEZONE
TZID:America/Edmonton
BEGIN:DAYLIGHT
TZOFFSETFROM:-0700
TZOFFSETTO:-0600
TZNAME:MDT
DTSTART:20240310T090000
END:DAYLIGHT
BEGIN:STANDARD
TZOFFSETFROM:-0600
TZOFFSETTO:-0700
TZNAME:MST
DTSTART:20241103T080000
END:STANDARD
BEGIN:DAYLIGHT
TZOFFSETFROM:-0700
TZOFFSETTO:-0600
TZNAME:MDT
DTSTART:20250309T090000
END:DAYLIGHT
BEGIN:STANDARD
TZOFFSETFROM:-0600
TZOFFSETTO:-0700
TZNAME:MST
DTSTART:20251102T080000
END:STANDARD
END:VTIMEZONE
BEGIN:VEVENT
DTSTART;TZID=America/Edmonton:20250129T130000
DTEND;TZID=America/Edmonton:20250129T210000
DTSTAMP:20260424T022147
CREATED:20240501T152231Z
LAST-MODIFIED:20251126T023056Z
UID:10004256-1738155600-1738184400@communitycounsellingcentre.ca
SUMMARY:Sherry
DESCRIPTION:
URL:https://communitycounsellingcentre.ca/event/sherry/2025-01-29/
LOCATION:Room 4
CATEGORIES:Room 4
END:VEVENT
BEGIN:VEVENT
DTSTART;TZID=America/Edmonton:20250124T090000
DTEND;TZID=America/Edmonton:20250124T210000
DTSTAMP:20260424T022148
CREATED:20240504T054728Z
LAST-MODIFIED:20251126T021539Z
UID:10004151-1737709200-1737752400@communitycounsellingcentre.ca
SUMMARY:Sherry
DESCRIPTION:
URL:https://communitycounsellingcentre.ca/event/sherry-3/2025-01-24/
LOCATION:Room 4
CATEGORIES:Room 4
END:VEVENT
BEGIN:VEVENT
DTSTART;TZID=America/Edmonton:20250123T130000
DTEND;TZID=America/Edmonton:20250123T200000
DTSTAMP:20260424T022148
CREATED:20240504T054425Z
LAST-MODIFIED:20251126T023114Z
UID:10004203-1737637200-1737662400@communitycounsellingcentre.ca
SUMMARY:Sherry
DESCRIPTION:
URL:https://communitycounsellingcentre.ca/event/sherry-2/2025-01-23/
LOCATION:Room 4
CATEGORIES:Room 4
END:VEVENT
BEGIN:VEVENT
DTSTART;TZID=America/Edmonton:20250122T130000
DTEND;TZID=America/Edmonton:20250122T210000
DTSTAMP:20260424T022148
CREATED:20240501T152231Z
LAST-MODIFIED:20251126T023056Z
UID:10004255-1737550800-1737579600@communitycounsellingcentre.ca
SUMMARY:Sherry
DESCRIPTION:
URL:https://communitycounsellingcentre.ca/event/sherry/2025-01-22/
LOCATION:Room 4
CATEGORIES:Room 4
END:VEVENT
BEGIN:VEVENT
DTSTART;TZID=America/Edmonton:20250117T090000
DTEND;TZID=America/Edmonton:20250117T210000
DTSTAMP:20260424T022148
CREATED:20240504T054728Z
LAST-MODIFIED:20251126T021539Z
UID:10004150-1737104400-1737147600@communitycounsellingcentre.ca
SUMMARY:Sherry
DESCRIPTION:
URL:https://communitycounsellingcentre.ca/event/sherry-3/2025-01-17/
LOCATION:Room 4
CATEGORIES:Room 4
END:VEVENT
BEGIN:VEVENT
DTSTART;TZID=America/Edmonton:20250116T130000
DTEND;TZID=America/Edmonton:20250116T200000
DTSTAMP:20260424T022148
CREATED:20240504T054425Z
LAST-MODIFIED:20251126T023114Z
UID:10004202-1737032400-1737057600@communitycounsellingcentre.ca
SUMMARY:Sherry
DESCRIPTION:
URL:https://communitycounsellingcentre.ca/event/sherry-2/2025-01-16/
LOCATION:Room 4
CATEGORIES:Room 4
END:VEVENT
BEGIN:VEVENT
DTSTART;TZID=America/Edmonton:20250115T130000
DTEND;TZID=America/Edmonton:20250115T210000
DTSTAMP:20260424T022148
CREATED:20240501T152231Z
LAST-MODIFIED:20251126T023056Z
UID:10004254-1736946000-1736974800@communitycounsellingcentre.ca
SUMMARY:Sherry
DESCRIPTION:
URL:https://communitycounsellingcentre.ca/event/sherry/2025-01-15/
LOCATION:Room 4
CATEGORIES:Room 4
END:VEVENT
BEGIN:VEVENT
DTSTART;TZID=America/Edmonton:20250110T090000
DTEND;TZID=America/Edmonton:20250110T210000
DTSTAMP:20260424T022148
CREATED:20240504T054728Z
LAST-MODIFIED:20251126T021539Z
UID:10004149-1736499600-1736542800@communitycounsellingcentre.ca
SUMMARY:Sherry
DESCRIPTION:
URL:https://communitycounsellingcentre.ca/event/sherry-3/2025-01-10/
LOCATION:Room 4
CATEGORIES:Room 4
END:VEVENT
BEGIN:VEVENT
DTSTART;TZID=America/Edmonton:20250109T130000
DTEND;TZID=America/Edmonton:20250109T200000
DTSTAMP:20260424T022148
CREATED:20240504T054425Z
LAST-MODIFIED:20251126T023114Z
UID:10004201-1736427600-1736452800@communitycounsellingcentre.ca
SUMMARY:Sherry
DESCRIPTION:
URL:https://communitycounsellingcentre.ca/event/sherry-2/2025-01-09/
LOCATION:Room 4
CATEGORIES:Room 4
END:VEVENT
BEGIN:VEVENT
DTSTART;TZID=America/Edmonton:20250108T130000
DTEND;TZID=America/Edmonton:20250108T210000
DTSTAMP:20260424T022148
CREATED:20240501T152231Z
LAST-MODIFIED:20251126T023056Z
UID:10004253-1736341200-1736370000@communitycounsellingcentre.ca
SUMMARY:Sherry
DESCRIPTION:
URL:https://communitycounsellingcentre.ca/event/sherry/2025-01-08/
LOCATION:Room 4
CATEGORIES:Room 4
END:VEVENT
BEGIN:VEVENT
DTSTART;TZID=America/Edmonton:20250103T090000
DTEND;TZID=America/Edmonton:20250103T210000
DTSTAMP:20260424T022148
CREATED:20240504T054728Z
LAST-MODIFIED:20251126T021539Z
UID:10004148-1735894800-1735938000@communitycounsellingcentre.ca
SUMMARY:Sherry
DESCRIPTION:
URL:https://communitycounsellingcentre.ca/event/sherry-3/2025-01-03/
LOCATION:Room 4
CATEGORIES:Room 4
END:VEVENT
BEGIN:VEVENT
DTSTART;TZID=America/Edmonton:20250102T130000
DTEND;TZID=America/Edmonton:20250102T200000
DTSTAMP:20260424T022148
CREATED:20240504T054425Z
LAST-MODIFIED:20251126T023114Z
UID:10004200-1735822800-1735848000@communitycounsellingcentre.ca
SUMMARY:Sherry
DESCRIPTION:
URL:https://communitycounsellingcentre.ca/event/sherry-2/2025-01-02/
LOCATION:Room 4
CATEGORIES:Room 4
END:VEVENT
BEGIN:VEVENT
DTSTART;TZID=America/Edmonton:20250101T130000
DTEND;TZID=America/Edmonton:20250101T210000
DTSTAMP:20260424T022148
CREATED:20240501T152231Z
LAST-MODIFIED:20251126T023056Z
UID:10004252-1735736400-1735765200@communitycounsellingcentre.ca
SUMMARY:Sherry
DESCRIPTION:
URL:https://communitycounsellingcentre.ca/event/sherry/2025-01-01/
LOCATION:Room 4
CATEGORIES:Room 4
END:VEVENT
BEGIN:VEVENT
DTSTART;TZID=America/Edmonton:20241227T090000
DTEND;TZID=America/Edmonton:20241227T210000
DTSTAMP:20260424T022148
CREATED:20240504T054728Z
LAST-MODIFIED:20251126T021539Z
UID:10001169-1735290000-1735333200@communitycounsellingcentre.ca
SUMMARY:Sherry
DESCRIPTION:
URL:https://communitycounsellingcentre.ca/event/sherry-3/2024-12-27/
LOCATION:Room 4
CATEGORIES:Room 4
END:VEVENT
BEGIN:VEVENT
DTSTART;TZID=America/Edmonton:20241226T130000
DTEND;TZID=America/Edmonton:20241226T200000
DTSTAMP:20260424T022148
CREATED:20240504T054425Z
LAST-MODIFIED:20251126T023114Z
UID:10001134-1735218000-1735243200@communitycounsellingcentre.ca
SUMMARY:Sherry
DESCRIPTION:
URL:https://communitycounsellingcentre.ca/event/sherry-2/2024-12-26/
LOCATION:Room 4
CATEGORIES:Room 4
END:VEVENT
BEGIN:VEVENT
DTSTART;TZID=America/Edmonton:20241225T130000
DTEND;TZID=America/Edmonton:20241225T210000
DTSTAMP:20260424T022148
CREATED:20240501T152231Z
LAST-MODIFIED:20251126T023056Z
UID:10000214-1735131600-1735160400@communitycounsellingcentre.ca
SUMMARY:Sherry
DESCRIPTION:
URL:https://communitycounsellingcentre.ca/event/sherry/2024-12-25/
LOCATION:Room 4
CATEGORIES:Room 4
END:VEVENT
BEGIN:VEVENT
DTSTART;TZID=America/Edmonton:20241220T090000
DTEND;TZID=America/Edmonton:20241220T210000
DTSTAMP:20260424T022148
CREATED:20240504T054728Z
LAST-MODIFIED:20251126T021539Z
UID:10001168-1734685200-1734728400@communitycounsellingcentre.ca
SUMMARY:Sherry
DESCRIPTION:
URL:https://communitycounsellingcentre.ca/event/sherry-3/2024-12-20/
LOCATION:Room 4
CATEGORIES:Room 4
END:VEVENT
BEGIN:VEVENT
DTSTART;TZID=America/Edmonton:20241219T130000
DTEND;TZID=America/Edmonton:20241219T200000
DTSTAMP:20260424T022148
CREATED:20240504T054425Z
LAST-MODIFIED:20251126T023114Z
UID:10001133-1734613200-1734638400@communitycounsellingcentre.ca
SUMMARY:Sherry
DESCRIPTION:
URL:https://communitycounsellingcentre.ca/event/sherry-2/2024-12-19/
LOCATION:Room 4
CATEGORIES:Room 4
END:VEVENT
BEGIN:VEVENT
DTSTART;TZID=America/Edmonton:20241218T130000
DTEND;TZID=America/Edmonton:20241218T210000
DTSTAMP:20260424T022148
CREATED:20240501T152231Z
LAST-MODIFIED:20251126T023056Z
UID:10000213-1734526800-1734555600@communitycounsellingcentre.ca
SUMMARY:Sherry
DESCRIPTION:
URL:https://communitycounsellingcentre.ca/event/sherry/2024-12-18/
LOCATION:Room 4
CATEGORIES:Room 4
END:VEVENT
BEGIN:VEVENT
DTSTART;TZID=America/Edmonton:20241213T090000
DTEND;TZID=America/Edmonton:20241213T210000
DTSTAMP:20260424T022148
CREATED:20240504T054728Z
LAST-MODIFIED:20251126T021539Z
UID:10001167-1734080400-1734123600@communitycounsellingcentre.ca
SUMMARY:Sherry
DESCRIPTION:
URL:https://communitycounsellingcentre.ca/event/sherry-3/2024-12-13/
LOCATION:Room 4
CATEGORIES:Room 4
END:VEVENT
BEGIN:VEVENT
DTSTART;TZID=America/Edmonton:20241212T130000
DTEND;TZID=America/Edmonton:20241212T200000
DTSTAMP:20260424T022148
CREATED:20240504T054425Z
LAST-MODIFIED:20251126T023114Z
UID:10001132-1734008400-1734033600@communitycounsellingcentre.ca
SUMMARY:Sherry
DESCRIPTION:
URL:https://communitycounsellingcentre.ca/event/sherry-2/2024-12-12/
LOCATION:Room 4
CATEGORIES:Room 4
END:VEVENT
BEGIN:VEVENT
DTSTART;TZID=America/Edmonton:20241211T130000
DTEND;TZID=America/Edmonton:20241211T210000
DTSTAMP:20260424T022148
CREATED:20240501T152231Z
LAST-MODIFIED:20251126T023056Z
UID:10000212-1733922000-1733950800@communitycounsellingcentre.ca
SUMMARY:Sherry
DESCRIPTION:
URL:https://communitycounsellingcentre.ca/event/sherry/2024-12-11/
LOCATION:Room 4
CATEGORIES:Room 4
END:VEVENT
BEGIN:VEVENT
DTSTART;TZID=America/Edmonton:20241206T090000
DTEND;TZID=America/Edmonton:20241206T210000
DTSTAMP:20260424T022148
CREATED:20240504T054728Z
LAST-MODIFIED:20251126T021539Z
UID:10001166-1733475600-1733518800@communitycounsellingcentre.ca
SUMMARY:Sherry
DESCRIPTION:
URL:https://communitycounsellingcentre.ca/event/sherry-3/2024-12-06/
LOCATION:Room 4
CATEGORIES:Room 4
END:VEVENT
BEGIN:VEVENT
DTSTART;TZID=America/Edmonton:20241205T130000
DTEND;TZID=America/Edmonton:20241205T200000
DTSTAMP:20260424T022148
CREATED:20240504T054425Z
LAST-MODIFIED:20251126T023114Z
UID:10001131-1733403600-1733428800@communitycounsellingcentre.ca
SUMMARY:Sherry
DESCRIPTION:
URL:https://communitycounsellingcentre.ca/event/sherry-2/2024-12-05/
LOCATION:Room 4
CATEGORIES:Room 4
END:VEVENT
BEGIN:VEVENT
DTSTART;TZID=America/Edmonton:20241204T130000
DTEND;TZID=America/Edmonton:20241204T210000
DTSTAMP:20260424T022148
CREATED:20240501T152231Z
LAST-MODIFIED:20251126T023056Z
UID:10000211-1733317200-1733346000@communitycounsellingcentre.ca
SUMMARY:Sherry
DESCRIPTION:
URL:https://communitycounsellingcentre.ca/event/sherry/2024-12-04/
LOCATION:Room 4
CATEGORIES:Room 4
END:VEVENT
BEGIN:VEVENT
DTSTART;TZID=America/Edmonton:20241129T090000
DTEND;TZID=America/Edmonton:20241129T210000
DTSTAMP:20260424T022148
CREATED:20240504T054728Z
LAST-MODIFIED:20251126T021539Z
UID:10001165-1732870800-1732914000@communitycounsellingcentre.ca
SUMMARY:Sherry
DESCRIPTION:
URL:https://communitycounsellingcentre.ca/event/sherry-3/2024-11-29/
LOCATION:Room 4
CATEGORIES:Room 4
END:VEVENT
BEGIN:VEVENT
DTSTART;TZID=America/Edmonton:20241128T130000
DTEND;TZID=America/Edmonton:20241128T200000
DTSTAMP:20260424T022148
CREATED:20240504T054425Z
LAST-MODIFIED:20251126T023114Z
UID:10001130-1732798800-1732824000@communitycounsellingcentre.ca
SUMMARY:Sherry
DESCRIPTION:
URL:https://communitycounsellingcentre.ca/event/sherry-2/2024-11-28/
LOCATION:Room 4
CATEGORIES:Room 4
END:VEVENT
BEGIN:VEVENT
DTSTART;TZID=America/Edmonton:20241127T130000
DTEND;TZID=America/Edmonton:20241127T210000
DTSTAMP:20260424T022148
CREATED:20240501T152231Z
LAST-MODIFIED:20251126T023056Z
UID:10000210-1732712400-1732741200@communitycounsellingcentre.ca
SUMMARY:Sherry
DESCRIPTION:
URL:https://communitycounsellingcentre.ca/event/sherry/2024-11-27/
LOCATION:Room 4
CATEGORIES:Room 4
END:VEVENT
BEGIN:VEVENT
DTSTART;TZID=America/Edmonton:20241122T090000
DTEND;TZID=America/Edmonton:20241122T210000
DTSTAMP:20260424T022148
CREATED:20240504T054728Z
LAST-MODIFIED:20251126T021539Z
UID:10001164-1732266000-1732309200@communitycounsellingcentre.ca
SUMMARY:Sherry
DESCRIPTION:
URL:https://communitycounsellingcentre.ca/event/sherry-3/2024-11-22/
LOCATION:Room 4
CATEGORIES:Room 4
END:VEVENT
BEGIN:VEVENT
DTSTART;TZID=America/Edmonton:20241121T130000
DTEND;TZID=America/Edmonton:20241121T200000
DTSTAMP:20260424T022148
CREATED:20240504T054425Z
LAST-MODIFIED:20251126T023114Z
UID:10001129-1732194000-1732219200@communitycounsellingcentre.ca
SUMMARY:Sherry
DESCRIPTION:
URL:https://communitycounsellingcentre.ca/event/sherry-2/2024-11-21/
LOCATION:Room 4
CATEGORIES:Room 4
END:VEVENT
END:VCALENDAR