BEGIN:VCALENDAR
VERSION:2.0
PRODID:-//Community Counselling Centre - ECPv6.13.1//NONSGML v1.0//EN
CALSCALE:GREGORIAN
METHOD:PUBLISH
X-ORIGINAL-URL:https://communitycounsellingcentre.ca
X-WR-CALDESC:Events for Community Counselling Centre
REFRESH-INTERVAL;VALUE=DURATION:PT1H
X-Robots-Tag:noindex
X-PUBLISHED-TTL:PT1H
BEGIN:VTIMEZONE
TZID:America/Edmonton
BEGIN:DAYLIGHT
TZOFFSETFROM:-0700
TZOFFSETTO:-0600
TZNAME:MDT
DTSTART:20240310T090000
END:DAYLIGHT
BEGIN:STANDARD
TZOFFSETFROM:-0600
TZOFFSETTO:-0700
TZNAME:MST
DTSTART:20241103T080000
END:STANDARD
END:VTIMEZONE
BEGIN:VEVENT
DTSTART;TZID=America/Edmonton:20241009T130000
DTEND;TZID=America/Edmonton:20241009T210000
DTSTAMP:20260424T092626
CREATED:20240501T152231Z
LAST-MODIFIED:20251126T023056Z
UID:10000203-1728478800-1728507600@communitycounsellingcentre.ca
SUMMARY:Sherry
DESCRIPTION:
URL:https://communitycounsellingcentre.ca/event/sherry/2024-10-09/
LOCATION:Room 4
CATEGORIES:Room 4
END:VEVENT
BEGIN:VEVENT
DTSTART;TZID=America/Edmonton:20241004T090000
DTEND;TZID=America/Edmonton:20241004T210000
DTSTAMP:20260424T092626
CREATED:20240504T054728Z
LAST-MODIFIED:20251126T021539Z
UID:10001157-1728032400-1728075600@communitycounsellingcentre.ca
SUMMARY:Sherry
DESCRIPTION:
URL:https://communitycounsellingcentre.ca/event/sherry-3/2024-10-04/
LOCATION:Room 4
CATEGORIES:Room 4
END:VEVENT
BEGIN:VEVENT
DTSTART;TZID=America/Edmonton:20241003T130000
DTEND;TZID=America/Edmonton:20241003T200000
DTSTAMP:20260424T092626
CREATED:20240504T054425Z
LAST-MODIFIED:20251126T023114Z
UID:10001122-1727960400-1727985600@communitycounsellingcentre.ca
SUMMARY:Sherry
DESCRIPTION:
URL:https://communitycounsellingcentre.ca/event/sherry-2/2024-10-03/
LOCATION:Room 4
CATEGORIES:Room 4
END:VEVENT
BEGIN:VEVENT
DTSTART;TZID=America/Edmonton:20241002T130000
DTEND;TZID=America/Edmonton:20241002T210000
DTSTAMP:20260424T092626
CREATED:20240501T152231Z
LAST-MODIFIED:20251126T023056Z
UID:10000202-1727874000-1727902800@communitycounsellingcentre.ca
SUMMARY:Sherry
DESCRIPTION:
URL:https://communitycounsellingcentre.ca/event/sherry/2024-10-02/
LOCATION:Room 4
CATEGORIES:Room 4
END:VEVENT
BEGIN:VEVENT
DTSTART;TZID=America/Edmonton:20240927T090000
DTEND;TZID=America/Edmonton:20240927T210000
DTSTAMP:20260424T092626
CREATED:20240504T054728Z
LAST-MODIFIED:20251126T021539Z
UID:10001156-1727427600-1727470800@communitycounsellingcentre.ca
SUMMARY:Sherry
DESCRIPTION:
URL:https://communitycounsellingcentre.ca/event/sherry-3/2024-09-27/
LOCATION:Room 4
CATEGORIES:Room 4
END:VEVENT
BEGIN:VEVENT
DTSTART;TZID=America/Edmonton:20240926T130000
DTEND;TZID=America/Edmonton:20240926T200000
DTSTAMP:20260424T092626
CREATED:20240504T054425Z
LAST-MODIFIED:20251126T023114Z
UID:10001121-1727355600-1727380800@communitycounsellingcentre.ca
SUMMARY:Sherry
DESCRIPTION:
URL:https://communitycounsellingcentre.ca/event/sherry-2/2024-09-26/
LOCATION:Room 4
CATEGORIES:Room 4
END:VEVENT
BEGIN:VEVENT
DTSTART;TZID=America/Edmonton:20240925T130000
DTEND;TZID=America/Edmonton:20240925T210000
DTSTAMP:20260424T092626
CREATED:20240501T152231Z
LAST-MODIFIED:20251126T023056Z
UID:10000201-1727269200-1727298000@communitycounsellingcentre.ca
SUMMARY:Sherry
DESCRIPTION:
URL:https://communitycounsellingcentre.ca/event/sherry/2024-09-25/
LOCATION:Room 4
CATEGORIES:Room 4
END:VEVENT
BEGIN:VEVENT
DTSTART;TZID=America/Edmonton:20240920T090000
DTEND;TZID=America/Edmonton:20240920T210000
DTSTAMP:20260424T092626
CREATED:20240504T054728Z
LAST-MODIFIED:20251126T021539Z
UID:10001155-1726822800-1726866000@communitycounsellingcentre.ca
SUMMARY:Sherry
DESCRIPTION:
URL:https://communitycounsellingcentre.ca/event/sherry-3/2024-09-20/
LOCATION:Room 4
CATEGORIES:Room 4
END:VEVENT
BEGIN:VEVENT
DTSTART;TZID=America/Edmonton:20240919T130000
DTEND;TZID=America/Edmonton:20240919T200000
DTSTAMP:20260424T092626
CREATED:20240504T054425Z
LAST-MODIFIED:20251126T023114Z
UID:10001120-1726750800-1726776000@communitycounsellingcentre.ca
SUMMARY:Sherry
DESCRIPTION:
URL:https://communitycounsellingcentre.ca/event/sherry-2/2024-09-19/
LOCATION:Room 4
CATEGORIES:Room 4
END:VEVENT
BEGIN:VEVENT
DTSTART;TZID=America/Edmonton:20240918T130000
DTEND;TZID=America/Edmonton:20240918T210000
DTSTAMP:20260424T092626
CREATED:20240501T152231Z
LAST-MODIFIED:20251126T023056Z
UID:10000200-1726664400-1726693200@communitycounsellingcentre.ca
SUMMARY:Sherry
DESCRIPTION:
URL:https://communitycounsellingcentre.ca/event/sherry/2024-09-18/
LOCATION:Room 4
CATEGORIES:Room 4
END:VEVENT
BEGIN:VEVENT
DTSTART;TZID=America/Edmonton:20240913T090000
DTEND;TZID=America/Edmonton:20240913T210000
DTSTAMP:20260424T092626
CREATED:20240504T054728Z
LAST-MODIFIED:20251126T021539Z
UID:10001154-1726218000-1726261200@communitycounsellingcentre.ca
SUMMARY:Sherry
DESCRIPTION:
URL:https://communitycounsellingcentre.ca/event/sherry-3/2024-09-13/
LOCATION:Room 4
CATEGORIES:Room 4
END:VEVENT
BEGIN:VEVENT
DTSTART;TZID=America/Edmonton:20240912T130000
DTEND;TZID=America/Edmonton:20240912T200000
DTSTAMP:20260424T092626
CREATED:20240504T054425Z
LAST-MODIFIED:20251126T023114Z
UID:10001119-1726146000-1726171200@communitycounsellingcentre.ca
SUMMARY:Sherry
DESCRIPTION:
URL:https://communitycounsellingcentre.ca/event/sherry-2/2024-09-12/
LOCATION:Room 4
CATEGORIES:Room 4
END:VEVENT
BEGIN:VEVENT
DTSTART;TZID=America/Edmonton:20240911T130000
DTEND;TZID=America/Edmonton:20240911T210000
DTSTAMP:20260424T092626
CREATED:20240501T152231Z
LAST-MODIFIED:20251126T023056Z
UID:10000199-1726059600-1726088400@communitycounsellingcentre.ca
SUMMARY:Sherry
DESCRIPTION:
URL:https://communitycounsellingcentre.ca/event/sherry/2024-09-11/
LOCATION:Room 4
CATEGORIES:Room 4
END:VEVENT
BEGIN:VEVENT
DTSTART;TZID=America/Edmonton:20240906T090000
DTEND;TZID=America/Edmonton:20240906T210000
DTSTAMP:20260424T092626
CREATED:20240504T054728Z
LAST-MODIFIED:20251126T021539Z
UID:10001153-1725613200-1725656400@communitycounsellingcentre.ca
SUMMARY:Sherry
DESCRIPTION:
URL:https://communitycounsellingcentre.ca/event/sherry-3/2024-09-06/
LOCATION:Room 4
CATEGORIES:Room 4
END:VEVENT
BEGIN:VEVENT
DTSTART;TZID=America/Edmonton:20240905T130000
DTEND;TZID=America/Edmonton:20240905T200000
DTSTAMP:20260424T092627
CREATED:20240504T054425Z
LAST-MODIFIED:20251126T023114Z
UID:10001118-1725541200-1725566400@communitycounsellingcentre.ca
SUMMARY:Sherry
DESCRIPTION:
URL:https://communitycounsellingcentre.ca/event/sherry-2/2024-09-05/
LOCATION:Room 4
CATEGORIES:Room 4
END:VEVENT
BEGIN:VEVENT
DTSTART;TZID=America/Edmonton:20240904T130000
DTEND;TZID=America/Edmonton:20240904T210000
DTSTAMP:20260424T092627
CREATED:20240501T152231Z
LAST-MODIFIED:20251126T023056Z
UID:10000198-1725454800-1725483600@communitycounsellingcentre.ca
SUMMARY:Sherry
DESCRIPTION:
URL:https://communitycounsellingcentre.ca/event/sherry/2024-09-04/
LOCATION:Room 4
CATEGORIES:Room 4
END:VEVENT
BEGIN:VEVENT
DTSTART;TZID=America/Edmonton:20240830T090000
DTEND;TZID=America/Edmonton:20240830T210000
DTSTAMP:20260424T092627
CREATED:20240504T054728Z
LAST-MODIFIED:20251126T021539Z
UID:10001152-1725008400-1725051600@communitycounsellingcentre.ca
SUMMARY:Sherry
DESCRIPTION:
URL:https://communitycounsellingcentre.ca/event/sherry-3/2024-08-30/
LOCATION:Room 4
CATEGORIES:Room 4
END:VEVENT
BEGIN:VEVENT
DTSTART;TZID=America/Edmonton:20240829T130000
DTEND;TZID=America/Edmonton:20240829T200000
DTSTAMP:20260424T092627
CREATED:20240504T054425Z
LAST-MODIFIED:20251126T023114Z
UID:10001117-1724936400-1724961600@communitycounsellingcentre.ca
SUMMARY:Sherry
DESCRIPTION:
URL:https://communitycounsellingcentre.ca/event/sherry-2/2024-08-29/
LOCATION:Room 4
CATEGORIES:Room 4
END:VEVENT
BEGIN:VEVENT
DTSTART;TZID=America/Edmonton:20240828T130000
DTEND;TZID=America/Edmonton:20240828T210000
DTSTAMP:20260424T092627
CREATED:20240501T152231Z
LAST-MODIFIED:20251126T023056Z
UID:10000197-1724850000-1724878800@communitycounsellingcentre.ca
SUMMARY:Sherry
DESCRIPTION:
URL:https://communitycounsellingcentre.ca/event/sherry/2024-08-28/
LOCATION:Room 4
CATEGORIES:Room 4
END:VEVENT
BEGIN:VEVENT
DTSTART;TZID=America/Edmonton:20240823T090000
DTEND;TZID=America/Edmonton:20240823T210000
DTSTAMP:20260424T092627
CREATED:20240504T054728Z
LAST-MODIFIED:20251126T021539Z
UID:10001151-1724403600-1724446800@communitycounsellingcentre.ca
SUMMARY:Sherry
DESCRIPTION:
URL:https://communitycounsellingcentre.ca/event/sherry-3/2024-08-23/
LOCATION:Room 4
CATEGORIES:Room 4
END:VEVENT
BEGIN:VEVENT
DTSTART;TZID=America/Edmonton:20240822T130000
DTEND;TZID=America/Edmonton:20240822T200000
DTSTAMP:20260424T092627
CREATED:20240504T054425Z
LAST-MODIFIED:20251126T023114Z
UID:10001116-1724331600-1724356800@communitycounsellingcentre.ca
SUMMARY:Sherry
DESCRIPTION:
URL:https://communitycounsellingcentre.ca/event/sherry-2/2024-08-22/
LOCATION:Room 4
CATEGORIES:Room 4
END:VEVENT
BEGIN:VEVENT
DTSTART;TZID=America/Edmonton:20240821T130000
DTEND;TZID=America/Edmonton:20240821T210000
DTSTAMP:20260424T092627
CREATED:20240501T152231Z
LAST-MODIFIED:20251126T023056Z
UID:10000196-1724245200-1724274000@communitycounsellingcentre.ca
SUMMARY:Sherry
DESCRIPTION:
URL:https://communitycounsellingcentre.ca/event/sherry/2024-08-21/
LOCATION:Room 4
CATEGORIES:Room 4
END:VEVENT
BEGIN:VEVENT
DTSTART;TZID=America/Edmonton:20240816T090000
DTEND;TZID=America/Edmonton:20240816T210000
DTSTAMP:20260424T092627
CREATED:20240504T054728Z
LAST-MODIFIED:20251126T021539Z
UID:10001150-1723798800-1723842000@communitycounsellingcentre.ca
SUMMARY:Sherry
DESCRIPTION:
URL:https://communitycounsellingcentre.ca/event/sherry-3/2024-08-16/
LOCATION:Room 4
CATEGORIES:Room 4
END:VEVENT
BEGIN:VEVENT
DTSTART;TZID=America/Edmonton:20240815T130000
DTEND;TZID=America/Edmonton:20240815T200000
DTSTAMP:20260424T092627
CREATED:20240504T054425Z
LAST-MODIFIED:20251126T023114Z
UID:10001115-1723726800-1723752000@communitycounsellingcentre.ca
SUMMARY:Sherry
DESCRIPTION:
URL:https://communitycounsellingcentre.ca/event/sherry-2/2024-08-15/
LOCATION:Room 4
CATEGORIES:Room 4
END:VEVENT
BEGIN:VEVENT
DTSTART;TZID=America/Edmonton:20240814T130000
DTEND;TZID=America/Edmonton:20240814T210000
DTSTAMP:20260424T092627
CREATED:20240501T152231Z
LAST-MODIFIED:20251126T023056Z
UID:10000195-1723640400-1723669200@communitycounsellingcentre.ca
SUMMARY:Sherry
DESCRIPTION:
URL:https://communitycounsellingcentre.ca/event/sherry/2024-08-14/
LOCATION:Room 4
CATEGORIES:Room 4
END:VEVENT
BEGIN:VEVENT
DTSTART;TZID=America/Edmonton:20240809T090000
DTEND;TZID=America/Edmonton:20240809T210000
DTSTAMP:20260424T092627
CREATED:20240504T054728Z
LAST-MODIFIED:20251126T021539Z
UID:10001149-1723194000-1723237200@communitycounsellingcentre.ca
SUMMARY:Sherry
DESCRIPTION:
URL:https://communitycounsellingcentre.ca/event/sherry-3/2024-08-09/
LOCATION:Room 4
CATEGORIES:Room 4
END:VEVENT
BEGIN:VEVENT
DTSTART;TZID=America/Edmonton:20240808T130000
DTEND;TZID=America/Edmonton:20240808T200000
DTSTAMP:20260424T092627
CREATED:20240504T054425Z
LAST-MODIFIED:20251126T023114Z
UID:10001114-1723122000-1723147200@communitycounsellingcentre.ca
SUMMARY:Sherry
DESCRIPTION:
URL:https://communitycounsellingcentre.ca/event/sherry-2/2024-08-08/
LOCATION:Room 4
CATEGORIES:Room 4
END:VEVENT
BEGIN:VEVENT
DTSTART;TZID=America/Edmonton:20240807T130000
DTEND;TZID=America/Edmonton:20240807T210000
DTSTAMP:20260424T092627
CREATED:20240501T152231Z
LAST-MODIFIED:20251126T023056Z
UID:10000194-1723035600-1723064400@communitycounsellingcentre.ca
SUMMARY:Sherry
DESCRIPTION:
URL:https://communitycounsellingcentre.ca/event/sherry/2024-08-07/
LOCATION:Room 4
CATEGORIES:Room 4
END:VEVENT
BEGIN:VEVENT
DTSTART;TZID=America/Edmonton:20240802T090000
DTEND;TZID=America/Edmonton:20240802T210000
DTSTAMP:20260424T092627
CREATED:20240504T054728Z
LAST-MODIFIED:20251126T021539Z
UID:10001148-1722589200-1722632400@communitycounsellingcentre.ca
SUMMARY:Sherry
DESCRIPTION:
URL:https://communitycounsellingcentre.ca/event/sherry-3/2024-08-02/
LOCATION:Room 4
CATEGORIES:Room 4
END:VEVENT
BEGIN:VEVENT
DTSTART;TZID=America/Edmonton:20240801T130000
DTEND;TZID=America/Edmonton:20240801T200000
DTSTAMP:20260424T092627
CREATED:20240504T054425Z
LAST-MODIFIED:20251126T023114Z
UID:10001113-1722517200-1722542400@communitycounsellingcentre.ca
SUMMARY:Sherry
DESCRIPTION:
URL:https://communitycounsellingcentre.ca/event/sherry-2/2024-08-01/
LOCATION:Room 4
CATEGORIES:Room 4
END:VEVENT
END:VCALENDAR