BEGIN:VCALENDAR
VERSION:2.0
PRODID:-//Community Counselling Centre - ECPv6.13.1//NONSGML v1.0//EN
CALSCALE:GREGORIAN
METHOD:PUBLISH
X-WR-CALNAME:Community Counselling Centre
X-ORIGINAL-URL:https://communitycounsellingcentre.ca
X-WR-CALDESC:Events for Community Counselling Centre
REFRESH-INTERVAL;VALUE=DURATION:PT1H
X-Robots-Tag:noindex
X-PUBLISHED-TTL:PT1H
BEGIN:VTIMEZONE
TZID:America/Edmonton
BEGIN:DAYLIGHT
TZOFFSETFROM:-0700
TZOFFSETTO:-0600
TZNAME:MDT
DTSTART:20240310T090000
END:DAYLIGHT
BEGIN:STANDARD
TZOFFSETFROM:-0600
TZOFFSETTO:-0700
TZNAME:MST
DTSTART:20241103T080000
END:STANDARD
END:VTIMEZONE
BEGIN:VEVENT
DTSTART;TZID=America/Edmonton:20240717T130000
DTEND;TZID=America/Edmonton:20240717T210000
DTSTAMP:20260424T133122
CREATED:20240501T152231Z
LAST-MODIFIED:20251126T023056Z
UID:10000191-1721221200-1721250000@communitycounsellingcentre.ca
SUMMARY:Sherry
DESCRIPTION:
URL:https://communitycounsellingcentre.ca/event/sherry/2024-07-17/
LOCATION:Room 4
CATEGORIES:Room 4
END:VEVENT
BEGIN:VEVENT
DTSTART;TZID=America/Edmonton:20240712T090000
DTEND;TZID=America/Edmonton:20240712T210000
DTSTAMP:20260424T133122
CREATED:20240504T054728Z
LAST-MODIFIED:20251126T021539Z
UID:10001145-1720774800-1720818000@communitycounsellingcentre.ca
SUMMARY:Sherry
DESCRIPTION:
URL:https://communitycounsellingcentre.ca/event/sherry-3/2024-07-12/
LOCATION:Room 4
CATEGORIES:Room 4
END:VEVENT
BEGIN:VEVENT
DTSTART;TZID=America/Edmonton:20240711T130000
DTEND;TZID=America/Edmonton:20240711T200000
DTSTAMP:20260424T133122
CREATED:20240504T054425Z
LAST-MODIFIED:20251126T023114Z
UID:10001110-1720702800-1720728000@communitycounsellingcentre.ca
SUMMARY:Sherry
DESCRIPTION:
URL:https://communitycounsellingcentre.ca/event/sherry-2/2024-07-11/
LOCATION:Room 4
CATEGORIES:Room 4
END:VEVENT
BEGIN:VEVENT
DTSTART;TZID=America/Edmonton:20240710T130000
DTEND;TZID=America/Edmonton:20240710T210000
DTSTAMP:20260424T133122
CREATED:20240501T152231Z
LAST-MODIFIED:20251126T023056Z
UID:10000190-1720616400-1720645200@communitycounsellingcentre.ca
SUMMARY:Sherry
DESCRIPTION:
URL:https://communitycounsellingcentre.ca/event/sherry/2024-07-10/
LOCATION:Room 4
CATEGORIES:Room 4
END:VEVENT
BEGIN:VEVENT
DTSTART;TZID=America/Edmonton:20240705T090000
DTEND;TZID=America/Edmonton:20240705T210000
DTSTAMP:20260424T133122
CREATED:20240504T054728Z
LAST-MODIFIED:20251126T021539Z
UID:10001144-1720170000-1720213200@communitycounsellingcentre.ca
SUMMARY:Sherry
DESCRIPTION:
URL:https://communitycounsellingcentre.ca/event/sherry-3/2024-07-05/
LOCATION:Room 4
CATEGORIES:Room 4
END:VEVENT
BEGIN:VEVENT
DTSTART;TZID=America/Edmonton:20240704T130000
DTEND;TZID=America/Edmonton:20240704T200000
DTSTAMP:20260424T133122
CREATED:20240504T054425Z
LAST-MODIFIED:20251126T023114Z
UID:10001109-1720098000-1720123200@communitycounsellingcentre.ca
SUMMARY:Sherry
DESCRIPTION:
URL:https://communitycounsellingcentre.ca/event/sherry-2/2024-07-04/
LOCATION:Room 4
CATEGORIES:Room 4
END:VEVENT
BEGIN:VEVENT
DTSTART;TZID=America/Edmonton:20240703T130000
DTEND;TZID=America/Edmonton:20240703T210000
DTSTAMP:20260424T133122
CREATED:20240501T152231Z
LAST-MODIFIED:20251126T023056Z
UID:10000189-1720011600-1720040400@communitycounsellingcentre.ca
SUMMARY:Sherry
DESCRIPTION:
URL:https://communitycounsellingcentre.ca/event/sherry/2024-07-03/
LOCATION:Room 4
CATEGORIES:Room 4
END:VEVENT
BEGIN:VEVENT
DTSTART;TZID=America/Edmonton:20240628T090000
DTEND;TZID=America/Edmonton:20240628T210000
DTSTAMP:20260424T133122
CREATED:20240504T054728Z
LAST-MODIFIED:20251126T021539Z
UID:10001143-1719565200-1719608400@communitycounsellingcentre.ca
SUMMARY:Sherry
DESCRIPTION:
URL:https://communitycounsellingcentre.ca/event/sherry-3/2024-06-28/
LOCATION:Room 4
CATEGORIES:Room 4
END:VEVENT
BEGIN:VEVENT
DTSTART;TZID=America/Edmonton:20240627T130000
DTEND;TZID=America/Edmonton:20240627T200000
DTSTAMP:20260424T133122
CREATED:20240504T054425Z
LAST-MODIFIED:20251126T023114Z
UID:10001108-1719493200-1719518400@communitycounsellingcentre.ca
SUMMARY:Sherry
DESCRIPTION:
URL:https://communitycounsellingcentre.ca/event/sherry-2/2024-06-27/
LOCATION:Room 4
CATEGORIES:Room 4
END:VEVENT
BEGIN:VEVENT
DTSTART;TZID=America/Edmonton:20240626T130000
DTEND;TZID=America/Edmonton:20240626T210000
DTSTAMP:20260424T133122
CREATED:20240501T152231Z
LAST-MODIFIED:20251126T023056Z
UID:10000188-1719406800-1719435600@communitycounsellingcentre.ca
SUMMARY:Sherry
DESCRIPTION:
URL:https://communitycounsellingcentre.ca/event/sherry/2024-06-26/
LOCATION:Room 4
CATEGORIES:Room 4
END:VEVENT
BEGIN:VEVENT
DTSTART;TZID=America/Edmonton:20240621T090000
DTEND;TZID=America/Edmonton:20240621T210000
DTSTAMP:20260424T133122
CREATED:20240504T054728Z
LAST-MODIFIED:20251126T021539Z
UID:10001142-1718960400-1719003600@communitycounsellingcentre.ca
SUMMARY:Sherry
DESCRIPTION:
URL:https://communitycounsellingcentre.ca/event/sherry-3/2024-06-21/
LOCATION:Room 4
CATEGORIES:Room 4
END:VEVENT
BEGIN:VEVENT
DTSTART;TZID=America/Edmonton:20240620T130000
DTEND;TZID=America/Edmonton:20240620T200000
DTSTAMP:20260424T133122
CREATED:20240504T054425Z
LAST-MODIFIED:20251126T023114Z
UID:10001107-1718888400-1718913600@communitycounsellingcentre.ca
SUMMARY:Sherry
DESCRIPTION:
URL:https://communitycounsellingcentre.ca/event/sherry-2/2024-06-20/
LOCATION:Room 4
CATEGORIES:Room 4
END:VEVENT
BEGIN:VEVENT
DTSTART;TZID=America/Edmonton:20240619T130000
DTEND;TZID=America/Edmonton:20240619T210000
DTSTAMP:20260424T133122
CREATED:20240501T152231Z
LAST-MODIFIED:20251126T023056Z
UID:10000187-1718802000-1718830800@communitycounsellingcentre.ca
SUMMARY:Sherry
DESCRIPTION:
URL:https://communitycounsellingcentre.ca/event/sherry/2024-06-19/
LOCATION:Room 4
CATEGORIES:Room 4
END:VEVENT
BEGIN:VEVENT
DTSTART;TZID=America/Edmonton:20240614T090000
DTEND;TZID=America/Edmonton:20240614T210000
DTSTAMP:20260424T133122
CREATED:20240504T054728Z
LAST-MODIFIED:20251126T021539Z
UID:10001141-1718355600-1718398800@communitycounsellingcentre.ca
SUMMARY:Sherry
DESCRIPTION:
URL:https://communitycounsellingcentre.ca/event/sherry-3/2024-06-14/
LOCATION:Room 4
CATEGORIES:Room 4
END:VEVENT
BEGIN:VEVENT
DTSTART;TZID=America/Edmonton:20240613T130000
DTEND;TZID=America/Edmonton:20240613T200000
DTSTAMP:20260424T133122
CREATED:20240504T054425Z
LAST-MODIFIED:20251126T023114Z
UID:10001106-1718283600-1718308800@communitycounsellingcentre.ca
SUMMARY:Sherry
DESCRIPTION:
URL:https://communitycounsellingcentre.ca/event/sherry-2/2024-06-13/
LOCATION:Room 4
CATEGORIES:Room 4
END:VEVENT
BEGIN:VEVENT
DTSTART;TZID=America/Edmonton:20240612T130000
DTEND;TZID=America/Edmonton:20240612T210000
DTSTAMP:20260424T133122
CREATED:20240501T152231Z
LAST-MODIFIED:20251126T023056Z
UID:10000186-1718197200-1718226000@communitycounsellingcentre.ca
SUMMARY:Sherry
DESCRIPTION:
URL:https://communitycounsellingcentre.ca/event/sherry/2024-06-12/
LOCATION:Room 4
CATEGORIES:Room 4
END:VEVENT
BEGIN:VEVENT
DTSTART;TZID=America/Edmonton:20240607T090000
DTEND;TZID=America/Edmonton:20240607T210000
DTSTAMP:20260424T133122
CREATED:20240504T054728Z
LAST-MODIFIED:20251126T021539Z
UID:10001140-1717750800-1717794000@communitycounsellingcentre.ca
SUMMARY:Sherry
DESCRIPTION:
URL:https://communitycounsellingcentre.ca/event/sherry-3/2024-06-07/
LOCATION:Room 4
CATEGORIES:Room 4
END:VEVENT
BEGIN:VEVENT
DTSTART;TZID=America/Edmonton:20240606T130000
DTEND;TZID=America/Edmonton:20240606T200000
DTSTAMP:20260424T133122
CREATED:20240504T054425Z
LAST-MODIFIED:20251126T023114Z
UID:10001105-1717678800-1717704000@communitycounsellingcentre.ca
SUMMARY:Sherry
DESCRIPTION:
URL:https://communitycounsellingcentre.ca/event/sherry-2/2024-06-06/
LOCATION:Room 4
CATEGORIES:Room 4
END:VEVENT
BEGIN:VEVENT
DTSTART;TZID=America/Edmonton:20240605T130000
DTEND;TZID=America/Edmonton:20240605T210000
DTSTAMP:20260424T133122
CREATED:20240501T152231Z
LAST-MODIFIED:20251126T023056Z
UID:10000185-1717592400-1717621200@communitycounsellingcentre.ca
SUMMARY:Sherry
DESCRIPTION:
URL:https://communitycounsellingcentre.ca/event/sherry/2024-06-05/
LOCATION:Room 4
CATEGORIES:Room 4
END:VEVENT
BEGIN:VEVENT
DTSTART;TZID=America/Edmonton:20240531T090000
DTEND;TZID=America/Edmonton:20240531T210000
DTSTAMP:20260424T133122
CREATED:20240504T054728Z
LAST-MODIFIED:20251126T021539Z
UID:10001139-1717146000-1717189200@communitycounsellingcentre.ca
SUMMARY:Sherry
DESCRIPTION:
URL:https://communitycounsellingcentre.ca/event/sherry-3/2024-05-31/
LOCATION:Room 4
CATEGORIES:Room 4
END:VEVENT
BEGIN:VEVENT
DTSTART;TZID=America/Edmonton:20240530T130000
DTEND;TZID=America/Edmonton:20240530T200000
DTSTAMP:20260424T133122
CREATED:20240504T054425Z
LAST-MODIFIED:20251126T023114Z
UID:10001104-1717074000-1717099200@communitycounsellingcentre.ca
SUMMARY:Sherry
DESCRIPTION:
URL:https://communitycounsellingcentre.ca/event/sherry-2/2024-05-30/
LOCATION:Room 4
CATEGORIES:Room 4
END:VEVENT
BEGIN:VEVENT
DTSTART;TZID=America/Edmonton:20240529T130000
DTEND;TZID=America/Edmonton:20240529T210000
DTSTAMP:20260424T133122
CREATED:20240501T152231Z
LAST-MODIFIED:20251126T023056Z
UID:10000184-1716987600-1717016400@communitycounsellingcentre.ca
SUMMARY:Sherry
DESCRIPTION:
URL:https://communitycounsellingcentre.ca/event/sherry/2024-05-29/
LOCATION:Room 4
CATEGORIES:Room 4
END:VEVENT
BEGIN:VEVENT
DTSTART;TZID=America/Edmonton:20240524T090000
DTEND;TZID=America/Edmonton:20240524T210000
DTSTAMP:20260424T133122
CREATED:20240504T054728Z
LAST-MODIFIED:20251126T021539Z
UID:10001138-1716541200-1716584400@communitycounsellingcentre.ca
SUMMARY:Sherry
DESCRIPTION:
URL:https://communitycounsellingcentre.ca/event/sherry-3/2024-05-24/
LOCATION:Room 4
CATEGORIES:Room 4
END:VEVENT
BEGIN:VEVENT
DTSTART;TZID=America/Edmonton:20240523T130000
DTEND;TZID=America/Edmonton:20240523T200000
DTSTAMP:20260424T133122
CREATED:20240504T054425Z
LAST-MODIFIED:20251126T023114Z
UID:10001103-1716469200-1716494400@communitycounsellingcentre.ca
SUMMARY:Sherry
DESCRIPTION:
URL:https://communitycounsellingcentre.ca/event/sherry-2/2024-05-23/
LOCATION:Room 4
CATEGORIES:Room 4
END:VEVENT
BEGIN:VEVENT
DTSTART;TZID=America/Edmonton:20240522T130000
DTEND;TZID=America/Edmonton:20240522T210000
DTSTAMP:20260424T133122
CREATED:20240501T152231Z
LAST-MODIFIED:20251126T023056Z
UID:10000183-1716382800-1716411600@communitycounsellingcentre.ca
SUMMARY:Sherry
DESCRIPTION:
URL:https://communitycounsellingcentre.ca/event/sherry/2024-05-22/
LOCATION:Room 4
CATEGORIES:Room 4
END:VEVENT
BEGIN:VEVENT
DTSTART;TZID=America/Edmonton:20240517T090000
DTEND;TZID=America/Edmonton:20240517T210000
DTSTAMP:20260424T133122
CREATED:20240504T054728Z
LAST-MODIFIED:20251126T021539Z
UID:10001137-1715936400-1715979600@communitycounsellingcentre.ca
SUMMARY:Sherry
DESCRIPTION:
URL:https://communitycounsellingcentre.ca/event/sherry-3/2024-05-17/
LOCATION:Room 4
CATEGORIES:Room 4
END:VEVENT
BEGIN:VEVENT
DTSTART;TZID=America/Edmonton:20240516T130000
DTEND;TZID=America/Edmonton:20240516T200000
DTSTAMP:20260424T133122
CREATED:20240504T054425Z
LAST-MODIFIED:20251126T023114Z
UID:10001102-1715864400-1715889600@communitycounsellingcentre.ca
SUMMARY:Sherry
DESCRIPTION:
URL:https://communitycounsellingcentre.ca/event/sherry-2/2024-05-16/
LOCATION:Room 4
CATEGORIES:Room 4
END:VEVENT
BEGIN:VEVENT
DTSTART;TZID=America/Edmonton:20240515T130000
DTEND;TZID=America/Edmonton:20240515T210000
DTSTAMP:20260424T133122
CREATED:20240501T152231Z
LAST-MODIFIED:20251126T023056Z
UID:10000182-1715778000-1715806800@communitycounsellingcentre.ca
SUMMARY:Sherry
DESCRIPTION:
URL:https://communitycounsellingcentre.ca/event/sherry/2024-05-15/
LOCATION:Room 4
CATEGORIES:Room 4
END:VEVENT
BEGIN:VEVENT
DTSTART;TZID=America/Edmonton:20240510T090000
DTEND;TZID=America/Edmonton:20240510T210000
DTSTAMP:20260424T133122
CREATED:20240504T054728Z
LAST-MODIFIED:20251126T021539Z
UID:10001136-1715331600-1715374800@communitycounsellingcentre.ca
SUMMARY:Sherry
DESCRIPTION:
URL:https://communitycounsellingcentre.ca/event/sherry-3/2024-05-10/
LOCATION:Room 4
CATEGORIES:Room 4
END:VEVENT
BEGIN:VEVENT
DTSTART;TZID=America/Edmonton:20240509T130000
DTEND;TZID=America/Edmonton:20240509T200000
DTSTAMP:20260424T133122
CREATED:20240504T054425Z
LAST-MODIFIED:20251126T023114Z
UID:10001101-1715259600-1715284800@communitycounsellingcentre.ca
SUMMARY:Sherry
DESCRIPTION:
URL:https://communitycounsellingcentre.ca/event/sherry-2/2024-05-09/
LOCATION:Room 4
CATEGORIES:Room 4
END:VEVENT
END:VCALENDAR