BEGIN:VCALENDAR
VERSION:2.0
PRODID:-//Community Counselling Centre - ECPv6.13.1//NONSGML v1.0//EN
CALSCALE:GREGORIAN
METHOD:PUBLISH
X-ORIGINAL-URL:https://communitycounsellingcentre.ca
X-WR-CALDESC:Events for Community Counselling Centre
REFRESH-INTERVAL;VALUE=DURATION:PT1H
X-Robots-Tag:noindex
X-PUBLISHED-TTL:PT1H
BEGIN:VTIMEZONE
TZID:America/Edmonton
BEGIN:DAYLIGHT
TZOFFSETFROM:-0700
TZOFFSETTO:-0600
TZNAME:MDT
DTSTART:20240310T090000
END:DAYLIGHT
BEGIN:STANDARD
TZOFFSETFROM:-0600
TZOFFSETTO:-0700
TZNAME:MST
DTSTART:20241103T080000
END:STANDARD
END:VTIMEZONE
BEGIN:VEVENT
DTSTART;TZID=America/Edmonton:20240522T130000
DTEND;TZID=America/Edmonton:20240522T210000
DTSTAMP:20260424T160441
CREATED:20240501T152231Z
LAST-MODIFIED:20251126T023056Z
UID:10000183-1716382800-1716411600@communitycounsellingcentre.ca
SUMMARY:Sherry
DESCRIPTION:
URL:https://communitycounsellingcentre.ca/event/sherry/2024-05-22/
LOCATION:Room 4
CATEGORIES:Room 4
END:VEVENT
BEGIN:VEVENT
DTSTART;TZID=America/Edmonton:20240517T090000
DTEND;TZID=America/Edmonton:20240517T210000
DTSTAMP:20260424T160441
CREATED:20240504T054728Z
LAST-MODIFIED:20251126T021539Z
UID:10001137-1715936400-1715979600@communitycounsellingcentre.ca
SUMMARY:Sherry
DESCRIPTION:
URL:https://communitycounsellingcentre.ca/event/sherry-3/2024-05-17/
LOCATION:Room 4
CATEGORIES:Room 4
END:VEVENT
BEGIN:VEVENT
DTSTART;TZID=America/Edmonton:20240516T130000
DTEND;TZID=America/Edmonton:20240516T200000
DTSTAMP:20260424T160441
CREATED:20240504T054425Z
LAST-MODIFIED:20251126T023114Z
UID:10001102-1715864400-1715889600@communitycounsellingcentre.ca
SUMMARY:Sherry
DESCRIPTION:
URL:https://communitycounsellingcentre.ca/event/sherry-2/2024-05-16/
LOCATION:Room 4
CATEGORIES:Room 4
END:VEVENT
BEGIN:VEVENT
DTSTART;TZID=America/Edmonton:20240515T130000
DTEND;TZID=America/Edmonton:20240515T210000
DTSTAMP:20260424T160441
CREATED:20240501T152231Z
LAST-MODIFIED:20251126T023056Z
UID:10000182-1715778000-1715806800@communitycounsellingcentre.ca
SUMMARY:Sherry
DESCRIPTION:
URL:https://communitycounsellingcentre.ca/event/sherry/2024-05-15/
LOCATION:Room 4
CATEGORIES:Room 4
END:VEVENT
BEGIN:VEVENT
DTSTART;TZID=America/Edmonton:20240510T090000
DTEND;TZID=America/Edmonton:20240510T210000
DTSTAMP:20260424T160441
CREATED:20240504T054728Z
LAST-MODIFIED:20251126T021539Z
UID:10001136-1715331600-1715374800@communitycounsellingcentre.ca
SUMMARY:Sherry
DESCRIPTION:
URL:https://communitycounsellingcentre.ca/event/sherry-3/2024-05-10/
LOCATION:Room 4
CATEGORIES:Room 4
END:VEVENT
BEGIN:VEVENT
DTSTART;TZID=America/Edmonton:20240509T130000
DTEND;TZID=America/Edmonton:20240509T200000
DTSTAMP:20260424T160441
CREATED:20240504T054425Z
LAST-MODIFIED:20251126T023114Z
UID:10001101-1715259600-1715284800@communitycounsellingcentre.ca
SUMMARY:Sherry
DESCRIPTION:
URL:https://communitycounsellingcentre.ca/event/sherry-2/2024-05-09/
LOCATION:Room 4
CATEGORIES:Room 4
END:VEVENT
BEGIN:VEVENT
DTSTART;TZID=America/Edmonton:20240508T130000
DTEND;TZID=America/Edmonton:20240508T210000
DTSTAMP:20260424T160441
CREATED:20240501T152231Z
LAST-MODIFIED:20251126T023056Z
UID:10000181-1715173200-1715202000@communitycounsellingcentre.ca
SUMMARY:Sherry
DESCRIPTION:
URL:https://communitycounsellingcentre.ca/event/sherry/2024-05-08/
LOCATION:Room 4
CATEGORIES:Room 4
END:VEVENT
BEGIN:VEVENT
DTSTART;TZID=America/Edmonton:20240503T090000
DTEND;TZID=America/Edmonton:20240503T210000
DTSTAMP:20260424T160441
CREATED:20240504T054728Z
LAST-MODIFIED:20251126T021539Z
UID:10001135-1714726800-1714770000@communitycounsellingcentre.ca
SUMMARY:Sherry
DESCRIPTION:
URL:https://communitycounsellingcentre.ca/event/sherry-3/2024-05-03/
LOCATION:Room 4
CATEGORIES:Room 4
END:VEVENT
BEGIN:VEVENT
DTSTART;TZID=America/Edmonton:20240502T130000
DTEND;TZID=America/Edmonton:20240502T200000
DTSTAMP:20260424T160441
CREATED:20240504T054425Z
LAST-MODIFIED:20251126T023114Z
UID:10001100-1714654800-1714680000@communitycounsellingcentre.ca
SUMMARY:Sherry
DESCRIPTION:
URL:https://communitycounsellingcentre.ca/event/sherry-2/2024-05-02/
LOCATION:Room 4
CATEGORIES:Room 4
END:VEVENT
BEGIN:VEVENT
DTSTART;TZID=America/Edmonton:20240501T130000
DTEND;TZID=America/Edmonton:20240501T210000
DTSTAMP:20260424T160441
CREATED:20240501T152231Z
LAST-MODIFIED:20251126T023056Z
UID:10000180-1714568400-1714597200@communitycounsellingcentre.ca
SUMMARY:Sherry
DESCRIPTION:
URL:https://communitycounsellingcentre.ca/event/sherry/2024-05-01/
LOCATION:Room 4
CATEGORIES:Room 4
END:VEVENT
END:VCALENDAR