BEGIN:VCALENDAR
VERSION:2.0
PRODID:-//Community Counselling Centre - ECPv6.13.1//NONSGML v1.0//EN
CALSCALE:GREGORIAN
METHOD:PUBLISH
X-WR-CALNAME:Community Counselling Centre
X-ORIGINAL-URL:https://communitycounsellingcentre.ca
X-WR-CALDESC:Events for Community Counselling Centre
REFRESH-INTERVAL;VALUE=DURATION:PT1H
X-Robots-Tag:noindex
X-PUBLISHED-TTL:PT1H
BEGIN:VTIMEZONE
TZID:America/Edmonton
BEGIN:DAYLIGHT
TZOFFSETFROM:-0700
TZOFFSETTO:-0600
TZNAME:MDT
DTSTART:20260308T090000
END:DAYLIGHT
BEGIN:STANDARD
TZOFFSETFROM:-0600
TZOFFSETTO:-0700
TZNAME:MST
DTSTART:20261101T080000
END:STANDARD
END:VTIMEZONE
BEGIN:VEVENT
DTSTART;TZID=America/Edmonton:20260303T140000
DTEND;TZID=America/Edmonton:20260303T200000
DTSTAMP:20260422T222513
CREATED:20251027T230259Z
LAST-MODIFIED:20251126T022003Z
UID:10006746-1772546400-1772568000@communitycounsellingcentre.ca
SUMMARY:Nick
DESCRIPTION:
URL:https://communitycounsellingcentre.ca/event/nick-3-2/2026-03-03/
LOCATION:Room 4
CATEGORIES:Room 4
END:VEVENT
BEGIN:VEVENT
DTSTART;TZID=America/Edmonton:20260302T160000
DTEND;TZID=America/Edmonton:20260302T200000
DTSTAMP:20260422T222513
CREATED:20251125T155130Z
LAST-MODIFIED:20251125T155130Z
UID:10006217-1772467200-1772481600@communitycounsellingcentre.ca
SUMMARY:Ishmal
DESCRIPTION:
URL:https://communitycounsellingcentre.ca/event/ishmal/2026-03-02/
LOCATION:Room 4
CATEGORIES:Room 4
END:VEVENT
BEGIN:VEVENT
DTSTART;TZID=America/Edmonton:20260227T090000
DTEND;TZID=America/Edmonton:20260227T210000
DTSTAMP:20260422T222513
CREATED:20240504T054728Z
LAST-MODIFIED:20251126T021539Z
UID:10006484-1772182800-1772226000@communitycounsellingcentre.ca
SUMMARY:Sherry
DESCRIPTION:
URL:https://communitycounsellingcentre.ca/event/sherry-3/2026-02-27/
LOCATION:Room 4
CATEGORIES:Room 4
END:VEVENT
BEGIN:VEVENT
DTSTART;TZID=America/Edmonton:20260226T130000
DTEND;TZID=America/Edmonton:20260226T200000
DTSTAMP:20260422T222513
CREATED:20240504T054425Z
LAST-MODIFIED:20251126T023114Z
UID:10007268-1772110800-1772136000@communitycounsellingcentre.ca
SUMMARY:Sherry
DESCRIPTION:
URL:https://communitycounsellingcentre.ca/event/sherry-2/2026-02-26/
LOCATION:Room 4
CATEGORIES:Room 4
END:VEVENT
BEGIN:VEVENT
DTSTART;TZID=America/Edmonton:20260225T130000
DTEND;TZID=America/Edmonton:20260225T210000
DTSTAMP:20260422T222513
CREATED:20240501T152231Z
LAST-MODIFIED:20251126T023056Z
UID:10007215-1772024400-1772053200@communitycounsellingcentre.ca
SUMMARY:Sherry
DESCRIPTION:
URL:https://communitycounsellingcentre.ca/event/sherry/2026-02-25/
LOCATION:Room 4
CATEGORIES:Room 4
END:VEVENT
BEGIN:VEVENT
DTSTART;TZID=America/Edmonton:20260224T140000
DTEND;TZID=America/Edmonton:20260224T200000
DTSTAMP:20260422T222513
CREATED:20251027T230259Z
LAST-MODIFIED:20251126T022003Z
UID:10006745-1771941600-1771963200@communitycounsellingcentre.ca
SUMMARY:Nick
DESCRIPTION:
URL:https://communitycounsellingcentre.ca/event/nick-3-2/2026-02-24/
LOCATION:Room 4
CATEGORIES:Room 4
END:VEVENT
BEGIN:VEVENT
DTSTART;TZID=America/Edmonton:20260223T160000
DTEND;TZID=America/Edmonton:20260223T200000
DTSTAMP:20260422T222513
CREATED:20251125T155130Z
LAST-MODIFIED:20251125T155130Z
UID:10006216-1771862400-1771876800@communitycounsellingcentre.ca
SUMMARY:Ishmal
DESCRIPTION:
URL:https://communitycounsellingcentre.ca/event/ishmal/2026-02-23/
LOCATION:Room 4
CATEGORIES:Room 4
END:VEVENT
BEGIN:VEVENT
DTSTART;TZID=America/Edmonton:20260220T090000
DTEND;TZID=America/Edmonton:20260220T210000
DTSTAMP:20260422T222513
CREATED:20240504T054728Z
LAST-MODIFIED:20251126T021539Z
UID:10006483-1771578000-1771621200@communitycounsellingcentre.ca
SUMMARY:Sherry
DESCRIPTION:
URL:https://communitycounsellingcentre.ca/event/sherry-3/2026-02-20/
LOCATION:Room 4
CATEGORIES:Room 4
END:VEVENT
BEGIN:VEVENT
DTSTART;TZID=America/Edmonton:20260219T130000
DTEND;TZID=America/Edmonton:20260219T200000
DTSTAMP:20260422T222513
CREATED:20240504T054425Z
LAST-MODIFIED:20251126T023114Z
UID:10007267-1771506000-1771531200@communitycounsellingcentre.ca
SUMMARY:Sherry
DESCRIPTION:
URL:https://communitycounsellingcentre.ca/event/sherry-2/2026-02-19/
LOCATION:Room 4
CATEGORIES:Room 4
END:VEVENT
BEGIN:VEVENT
DTSTART;TZID=America/Edmonton:20260218T130000
DTEND;TZID=America/Edmonton:20260218T210000
DTSTAMP:20260422T222513
CREATED:20240501T152231Z
LAST-MODIFIED:20251126T023056Z
UID:10007214-1771419600-1771448400@communitycounsellingcentre.ca
SUMMARY:Sherry
DESCRIPTION:
URL:https://communitycounsellingcentre.ca/event/sherry/2026-02-18/
LOCATION:Room 4
CATEGORIES:Room 4
END:VEVENT
BEGIN:VEVENT
DTSTART;TZID=America/Edmonton:20260217T140000
DTEND;TZID=America/Edmonton:20260217T200000
DTSTAMP:20260422T222513
CREATED:20251027T230259Z
LAST-MODIFIED:20251126T022003Z
UID:10006744-1771336800-1771358400@communitycounsellingcentre.ca
SUMMARY:Nick
DESCRIPTION:
URL:https://communitycounsellingcentre.ca/event/nick-3-2/2026-02-17/
LOCATION:Room 4
CATEGORIES:Room 4
END:VEVENT
BEGIN:VEVENT
DTSTART;TZID=America/Edmonton:20260216T160000
DTEND;TZID=America/Edmonton:20260216T200000
DTSTAMP:20260422T222513
CREATED:20251125T155130Z
LAST-MODIFIED:20251125T155130Z
UID:10006215-1771257600-1771272000@communitycounsellingcentre.ca
SUMMARY:Ishmal
DESCRIPTION:
URL:https://communitycounsellingcentre.ca/event/ishmal/2026-02-16/
LOCATION:Room 4
CATEGORIES:Room 4
END:VEVENT
BEGIN:VEVENT
DTSTART;TZID=America/Edmonton:20260213T090000
DTEND;TZID=America/Edmonton:20260213T210000
DTSTAMP:20260422T222513
CREATED:20240504T054728Z
LAST-MODIFIED:20251126T021539Z
UID:10006482-1770973200-1771016400@communitycounsellingcentre.ca
SUMMARY:Sherry
DESCRIPTION:
URL:https://communitycounsellingcentre.ca/event/sherry-3/2026-02-13/
LOCATION:Room 4
CATEGORIES:Room 4
END:VEVENT
BEGIN:VEVENT
DTSTART;TZID=America/Edmonton:20260212T130000
DTEND;TZID=America/Edmonton:20260212T200000
DTSTAMP:20260422T222513
CREATED:20240504T054425Z
LAST-MODIFIED:20251126T023114Z
UID:10007266-1770901200-1770926400@communitycounsellingcentre.ca
SUMMARY:Sherry
DESCRIPTION:
URL:https://communitycounsellingcentre.ca/event/sherry-2/2026-02-12/
LOCATION:Room 4
CATEGORIES:Room 4
END:VEVENT
BEGIN:VEVENT
DTSTART;TZID=America/Edmonton:20260211T130000
DTEND;TZID=America/Edmonton:20260211T210000
DTSTAMP:20260422T222513
CREATED:20240501T152231Z
LAST-MODIFIED:20251126T023056Z
UID:10007213-1770814800-1770843600@communitycounsellingcentre.ca
SUMMARY:Sherry
DESCRIPTION:
URL:https://communitycounsellingcentre.ca/event/sherry/2026-02-11/
LOCATION:Room 4
CATEGORIES:Room 4
END:VEVENT
BEGIN:VEVENT
DTSTART;TZID=America/Edmonton:20260210T140000
DTEND;TZID=America/Edmonton:20260210T200000
DTSTAMP:20260422T222513
CREATED:20251027T230259Z
LAST-MODIFIED:20251126T022003Z
UID:10006743-1770732000-1770753600@communitycounsellingcentre.ca
SUMMARY:Nick
DESCRIPTION:
URL:https://communitycounsellingcentre.ca/event/nick-3-2/2026-02-10/
LOCATION:Room 4
CATEGORIES:Room 4
END:VEVENT
BEGIN:VEVENT
DTSTART;TZID=America/Edmonton:20260209T160000
DTEND;TZID=America/Edmonton:20260209T200000
DTSTAMP:20260422T222513
CREATED:20251125T155130Z
LAST-MODIFIED:20251125T155130Z
UID:10006214-1770652800-1770667200@communitycounsellingcentre.ca
SUMMARY:Ishmal
DESCRIPTION:
URL:https://communitycounsellingcentre.ca/event/ishmal/2026-02-09/
LOCATION:Room 4
CATEGORIES:Room 4
END:VEVENT
BEGIN:VEVENT
DTSTART;TZID=America/Edmonton:20260206T090000
DTEND;TZID=America/Edmonton:20260206T210000
DTSTAMP:20260422T222513
CREATED:20240504T054728Z
LAST-MODIFIED:20251126T021539Z
UID:10006481-1770368400-1770411600@communitycounsellingcentre.ca
SUMMARY:Sherry
DESCRIPTION:
URL:https://communitycounsellingcentre.ca/event/sherry-3/2026-02-06/
LOCATION:Room 4
CATEGORIES:Room 4
END:VEVENT
BEGIN:VEVENT
DTSTART;TZID=America/Edmonton:20260205T130000
DTEND;TZID=America/Edmonton:20260205T200000
DTSTAMP:20260422T222513
CREATED:20240504T054425Z
LAST-MODIFIED:20251126T023114Z
UID:10007265-1770296400-1770321600@communitycounsellingcentre.ca
SUMMARY:Sherry
DESCRIPTION:
URL:https://communitycounsellingcentre.ca/event/sherry-2/2026-02-05/
LOCATION:Room 4
CATEGORIES:Room 4
END:VEVENT
BEGIN:VEVENT
DTSTART;TZID=America/Edmonton:20260204T130000
DTEND;TZID=America/Edmonton:20260204T210000
DTSTAMP:20260422T222513
CREATED:20240501T152231Z
LAST-MODIFIED:20251126T023056Z
UID:10007212-1770210000-1770238800@communitycounsellingcentre.ca
SUMMARY:Sherry
DESCRIPTION:
URL:https://communitycounsellingcentre.ca/event/sherry/2026-02-04/
LOCATION:Room 4
CATEGORIES:Room 4
END:VEVENT
BEGIN:VEVENT
DTSTART;TZID=America/Edmonton:20260203T140000
DTEND;TZID=America/Edmonton:20260203T200000
DTSTAMP:20260422T222513
CREATED:20251027T230259Z
LAST-MODIFIED:20251126T022003Z
UID:10006742-1770127200-1770148800@communitycounsellingcentre.ca
SUMMARY:Nick
DESCRIPTION:
URL:https://communitycounsellingcentre.ca/event/nick-3-2/2026-02-03/
LOCATION:Room 4
CATEGORIES:Room 4
END:VEVENT
BEGIN:VEVENT
DTSTART;TZID=America/Edmonton:20260202T160000
DTEND;TZID=America/Edmonton:20260202T200000
DTSTAMP:20260422T222513
CREATED:20251125T155130Z
LAST-MODIFIED:20251125T155130Z
UID:10006213-1770048000-1770062400@communitycounsellingcentre.ca
SUMMARY:Ishmal
DESCRIPTION:
URL:https://communitycounsellingcentre.ca/event/ishmal/2026-02-02/
LOCATION:Room 4
CATEGORIES:Room 4
END:VEVENT
BEGIN:VEVENT
DTSTART;TZID=America/Edmonton:20260130T090000
DTEND;TZID=America/Edmonton:20260130T210000
DTSTAMP:20260422T222513
CREATED:20240504T054728Z
LAST-MODIFIED:20251126T021539Z
UID:10006480-1769763600-1769806800@communitycounsellingcentre.ca
SUMMARY:Sherry
DESCRIPTION:
URL:https://communitycounsellingcentre.ca/event/sherry-3/2026-01-30/
LOCATION:Room 4
CATEGORIES:Room 4
END:VEVENT
BEGIN:VEVENT
DTSTART;TZID=America/Edmonton:20260129T130000
DTEND;TZID=America/Edmonton:20260129T200000
DTSTAMP:20260422T222513
CREATED:20240504T054425Z
LAST-MODIFIED:20251126T023114Z
UID:10007264-1769691600-1769716800@communitycounsellingcentre.ca
SUMMARY:Sherry
DESCRIPTION:
URL:https://communitycounsellingcentre.ca/event/sherry-2/2026-01-29/
LOCATION:Room 4
CATEGORIES:Room 4
END:VEVENT
BEGIN:VEVENT
DTSTART;TZID=America/Edmonton:20260128T130000
DTEND;TZID=America/Edmonton:20260128T210000
DTSTAMP:20260422T222513
CREATED:20240501T152231Z
LAST-MODIFIED:20251126T023056Z
UID:10007211-1769605200-1769634000@communitycounsellingcentre.ca
SUMMARY:Sherry
DESCRIPTION:
URL:https://communitycounsellingcentre.ca/event/sherry/2026-01-28/
LOCATION:Room 4
CATEGORIES:Room 4
END:VEVENT
BEGIN:VEVENT
DTSTART;TZID=America/Edmonton:20260127T140000
DTEND;TZID=America/Edmonton:20260127T200000
DTSTAMP:20260422T222513
CREATED:20251027T230259Z
LAST-MODIFIED:20251126T022003Z
UID:10006741-1769522400-1769544000@communitycounsellingcentre.ca
SUMMARY:Nick
DESCRIPTION:
URL:https://communitycounsellingcentre.ca/event/nick-3-2/2026-01-27/
LOCATION:Room 4
CATEGORIES:Room 4
END:VEVENT
BEGIN:VEVENT
DTSTART;TZID=America/Edmonton:20260126T160000
DTEND;TZID=America/Edmonton:20260126T200000
DTSTAMP:20260422T222513
CREATED:20251125T155130Z
LAST-MODIFIED:20251125T155130Z
UID:10006212-1769443200-1769457600@communitycounsellingcentre.ca
SUMMARY:Ishmal
DESCRIPTION:
URL:https://communitycounsellingcentre.ca/event/ishmal/2026-01-26/
LOCATION:Room 4
CATEGORIES:Room 4
END:VEVENT
BEGIN:VEVENT
DTSTART;TZID=America/Edmonton:20260123T090000
DTEND;TZID=America/Edmonton:20260123T210000
DTSTAMP:20260422T222513
CREATED:20240504T054728Z
LAST-MODIFIED:20251126T021539Z
UID:10006479-1769158800-1769202000@communitycounsellingcentre.ca
SUMMARY:Sherry
DESCRIPTION:
URL:https://communitycounsellingcentre.ca/event/sherry-3/2026-01-23/
LOCATION:Room 4
CATEGORIES:Room 4
END:VEVENT
BEGIN:VEVENT
DTSTART;TZID=America/Edmonton:20260122T130000
DTEND;TZID=America/Edmonton:20260122T200000
DTSTAMP:20260422T222513
CREATED:20240504T054425Z
LAST-MODIFIED:20251126T023114Z
UID:10007263-1769086800-1769112000@communitycounsellingcentre.ca
SUMMARY:Sherry
DESCRIPTION:
URL:https://communitycounsellingcentre.ca/event/sherry-2/2026-01-22/
LOCATION:Room 4
CATEGORIES:Room 4
END:VEVENT
BEGIN:VEVENT
DTSTART;TZID=America/Edmonton:20260121T130000
DTEND;TZID=America/Edmonton:20260121T210000
DTSTAMP:20260422T222513
CREATED:20240501T152231Z
LAST-MODIFIED:20251126T023056Z
UID:10007210-1769000400-1769029200@communitycounsellingcentre.ca
SUMMARY:Sherry
DESCRIPTION:
URL:https://communitycounsellingcentre.ca/event/sherry/2026-01-21/
LOCATION:Room 4
CATEGORIES:Room 4
END:VEVENT
END:VCALENDAR