BEGIN:VCALENDAR
VERSION:2.0
PRODID:-//Community Counselling Centre - ECPv6.13.1//NONSGML v1.0//EN
CALSCALE:GREGORIAN
METHOD:PUBLISH
X-WR-CALNAME:Community Counselling Centre
X-ORIGINAL-URL:https://communitycounsellingcentre.ca
X-WR-CALDESC:Events for Community Counselling Centre
REFRESH-INTERVAL;VALUE=DURATION:PT1H
X-Robots-Tag:noindex
X-PUBLISHED-TTL:PT1H
BEGIN:VTIMEZONE
TZID:America/Edmonton
BEGIN:DAYLIGHT
TZOFFSETFROM:-0700
TZOFFSETTO:-0600
TZNAME:MDT
DTSTART:20260308T090000
END:DAYLIGHT
BEGIN:STANDARD
TZOFFSETFROM:-0600
TZOFFSETTO:-0700
TZNAME:MST
DTSTART:20261101T080000
END:STANDARD
END:VTIMEZONE
BEGIN:VEVENT
DTSTART;TZID=America/Edmonton:20260611T130000
DTEND;TZID=America/Edmonton:20260611T200000
DTSTAMP:20260422T184103
CREATED:20240504T054425Z
LAST-MODIFIED:20251126T023114Z
UID:10007283-1781182800-1781208000@communitycounsellingcentre.ca
SUMMARY:Sherry
DESCRIPTION:
URL:https://communitycounsellingcentre.ca/event/sherry-2/2026-06-11/
LOCATION:Room 4
CATEGORIES:Room 4
END:VEVENT
BEGIN:VEVENT
DTSTART;TZID=America/Edmonton:20260612T090000
DTEND;TZID=America/Edmonton:20260612T210000
DTSTAMP:20260422T184103
CREATED:20240504T054728Z
LAST-MODIFIED:20251126T021539Z
UID:10006499-1781254800-1781298000@communitycounsellingcentre.ca
SUMMARY:Sherry
DESCRIPTION:
URL:https://communitycounsellingcentre.ca/event/sherry-3/2026-06-12/
LOCATION:Room 4
CATEGORIES:Room 4
END:VEVENT
BEGIN:VEVENT
DTSTART;TZID=America/Edmonton:20260615T160000
DTEND;TZID=America/Edmonton:20260615T200000
DTSTAMP:20260422T184103
CREATED:20251125T155130Z
LAST-MODIFIED:20251125T155130Z
UID:10006232-1781539200-1781553600@communitycounsellingcentre.ca
SUMMARY:Ishmal
DESCRIPTION:
URL:https://communitycounsellingcentre.ca/event/ishmal/2026-06-15/
LOCATION:Room 4
CATEGORIES:Room 4
END:VEVENT
BEGIN:VEVENT
DTSTART;TZID=America/Edmonton:20260616T140000
DTEND;TZID=America/Edmonton:20260616T200000
DTSTAMP:20260422T184103
CREATED:20251027T230259Z
LAST-MODIFIED:20251126T022003Z
UID:10006761-1781618400-1781640000@communitycounsellingcentre.ca
SUMMARY:Nick
DESCRIPTION:
URL:https://communitycounsellingcentre.ca/event/nick-3-2/2026-06-16/
LOCATION:Room 4
CATEGORIES:Room 4
END:VEVENT
BEGIN:VEVENT
DTSTART;TZID=America/Edmonton:20260617T130000
DTEND;TZID=America/Edmonton:20260617T210000
DTSTAMP:20260422T184103
CREATED:20240501T152231Z
LAST-MODIFIED:20251126T023056Z
UID:10007231-1781701200-1781730000@communitycounsellingcentre.ca
SUMMARY:Sherry
DESCRIPTION:
URL:https://communitycounsellingcentre.ca/event/sherry/2026-06-17/
LOCATION:Room 4
CATEGORIES:Room 4
END:VEVENT
BEGIN:VEVENT
DTSTART;TZID=America/Edmonton:20260618T130000
DTEND;TZID=America/Edmonton:20260618T200000
DTSTAMP:20260422T184103
CREATED:20240504T054425Z
LAST-MODIFIED:20251126T023114Z
UID:10007284-1781787600-1781812800@communitycounsellingcentre.ca
SUMMARY:Sherry
DESCRIPTION:
URL:https://communitycounsellingcentre.ca/event/sherry-2/2026-06-18/
LOCATION:Room 4
CATEGORIES:Room 4
END:VEVENT
BEGIN:VEVENT
DTSTART;TZID=America/Edmonton:20260619T090000
DTEND;TZID=America/Edmonton:20260619T210000
DTSTAMP:20260422T184103
CREATED:20240504T054728Z
LAST-MODIFIED:20251126T021539Z
UID:10006500-1781859600-1781902800@communitycounsellingcentre.ca
SUMMARY:Sherry
DESCRIPTION:
URL:https://communitycounsellingcentre.ca/event/sherry-3/2026-06-19/
LOCATION:Room 4
CATEGORIES:Room 4
END:VEVENT
BEGIN:VEVENT
DTSTART;TZID=America/Edmonton:20260622T160000
DTEND;TZID=America/Edmonton:20260622T200000
DTSTAMP:20260422T184103
CREATED:20251125T155130Z
LAST-MODIFIED:20251125T155130Z
UID:10006233-1782144000-1782158400@communitycounsellingcentre.ca
SUMMARY:Ishmal
DESCRIPTION:
URL:https://communitycounsellingcentre.ca/event/ishmal/2026-06-22/
LOCATION:Room 4
CATEGORIES:Room 4
END:VEVENT
BEGIN:VEVENT
DTSTART;TZID=America/Edmonton:20260623T140000
DTEND;TZID=America/Edmonton:20260623T200000
DTSTAMP:20260422T184103
CREATED:20251027T230259Z
LAST-MODIFIED:20251126T022003Z
UID:10006762-1782223200-1782244800@communitycounsellingcentre.ca
SUMMARY:Nick
DESCRIPTION:
URL:https://communitycounsellingcentre.ca/event/nick-3-2/2026-06-23/
LOCATION:Room 4
CATEGORIES:Room 4
END:VEVENT
BEGIN:VEVENT
DTSTART;TZID=America/Edmonton:20260624T130000
DTEND;TZID=America/Edmonton:20260624T210000
DTSTAMP:20260422T184103
CREATED:20240501T152231Z
LAST-MODIFIED:20251126T023056Z
UID:10007232-1782306000-1782334800@communitycounsellingcentre.ca
SUMMARY:Sherry
DESCRIPTION:
URL:https://communitycounsellingcentre.ca/event/sherry/2026-06-24/
LOCATION:Room 4
CATEGORIES:Room 4
END:VEVENT
BEGIN:VEVENT
DTSTART;TZID=America/Edmonton:20260625T130000
DTEND;TZID=America/Edmonton:20260625T200000
DTSTAMP:20260422T184103
CREATED:20240504T054425Z
LAST-MODIFIED:20251126T023114Z
UID:10007285-1782392400-1782417600@communitycounsellingcentre.ca
SUMMARY:Sherry
DESCRIPTION:
URL:https://communitycounsellingcentre.ca/event/sherry-2/2026-06-25/
LOCATION:Room 4
CATEGORIES:Room 4
END:VEVENT
BEGIN:VEVENT
DTSTART;TZID=America/Edmonton:20260626T090000
DTEND;TZID=America/Edmonton:20260626T210000
DTSTAMP:20260422T184103
CREATED:20240504T054728Z
LAST-MODIFIED:20251126T021539Z
UID:10006501-1782464400-1782507600@communitycounsellingcentre.ca
SUMMARY:Sherry
DESCRIPTION:
URL:https://communitycounsellingcentre.ca/event/sherry-3/2026-06-26/
LOCATION:Room 4
CATEGORIES:Room 4
END:VEVENT
BEGIN:VEVENT
DTSTART;TZID=America/Edmonton:20260629T160000
DTEND;TZID=America/Edmonton:20260629T200000
DTSTAMP:20260422T184103
CREATED:20251125T155130Z
LAST-MODIFIED:20251125T155130Z
UID:10006234-1782748800-1782763200@communitycounsellingcentre.ca
SUMMARY:Ishmal
DESCRIPTION:
URL:https://communitycounsellingcentre.ca/event/ishmal/2026-06-29/
LOCATION:Room 4
CATEGORIES:Room 4
END:VEVENT
BEGIN:VEVENT
DTSTART;TZID=America/Edmonton:20260630T140000
DTEND;TZID=America/Edmonton:20260630T200000
DTSTAMP:20260422T184103
CREATED:20251027T230259Z
LAST-MODIFIED:20251126T022003Z
UID:10006763-1782828000-1782849600@communitycounsellingcentre.ca
SUMMARY:Nick
DESCRIPTION:
URL:https://communitycounsellingcentre.ca/event/nick-3-2/2026-06-30/
LOCATION:Room 4
CATEGORIES:Room 4
END:VEVENT
BEGIN:VEVENT
DTSTART;TZID=America/Edmonton:20260701T130000
DTEND;TZID=America/Edmonton:20260701T210000
DTSTAMP:20260422T184103
CREATED:20240501T152231Z
LAST-MODIFIED:20251126T023056Z
UID:10007233-1782910800-1782939600@communitycounsellingcentre.ca
SUMMARY:Sherry
DESCRIPTION:
URL:https://communitycounsellingcentre.ca/event/sherry/2026-07-01/
LOCATION:Room 4
CATEGORIES:Room 4
END:VEVENT
BEGIN:VEVENT
DTSTART;TZID=America/Edmonton:20260702T130000
DTEND;TZID=America/Edmonton:20260702T200000
DTSTAMP:20260422T184103
CREATED:20240504T054425Z
LAST-MODIFIED:20251126T023114Z
UID:10007286-1782997200-1783022400@communitycounsellingcentre.ca
SUMMARY:Sherry
DESCRIPTION:
URL:https://communitycounsellingcentre.ca/event/sherry-2/2026-07-02/
LOCATION:Room 4
CATEGORIES:Room 4
END:VEVENT
BEGIN:VEVENT
DTSTART;TZID=America/Edmonton:20260703T090000
DTEND;TZID=America/Edmonton:20260703T210000
DTSTAMP:20260422T184103
CREATED:20240504T054728Z
LAST-MODIFIED:20251126T021539Z
UID:10006502-1783069200-1783112400@communitycounsellingcentre.ca
SUMMARY:Sherry
DESCRIPTION:
URL:https://communitycounsellingcentre.ca/event/sherry-3/2026-07-03/
LOCATION:Room 4
CATEGORIES:Room 4
END:VEVENT
BEGIN:VEVENT
DTSTART;TZID=America/Edmonton:20260706T160000
DTEND;TZID=America/Edmonton:20260706T200000
DTSTAMP:20260422T184103
CREATED:20251125T155130Z
LAST-MODIFIED:20251125T155130Z
UID:10006235-1783353600-1783368000@communitycounsellingcentre.ca
SUMMARY:Ishmal
DESCRIPTION:
URL:https://communitycounsellingcentre.ca/event/ishmal/2026-07-06/
LOCATION:Room 4
CATEGORIES:Room 4
END:VEVENT
BEGIN:VEVENT
DTSTART;TZID=America/Edmonton:20260707T140000
DTEND;TZID=America/Edmonton:20260707T200000
DTSTAMP:20260422T184103
CREATED:20251027T230259Z
LAST-MODIFIED:20251126T022003Z
UID:10006764-1783432800-1783454400@communitycounsellingcentre.ca
SUMMARY:Nick
DESCRIPTION:
URL:https://communitycounsellingcentre.ca/event/nick-3-2/2026-07-07/
LOCATION:Room 4
CATEGORIES:Room 4
END:VEVENT
BEGIN:VEVENT
DTSTART;TZID=America/Edmonton:20260708T130000
DTEND;TZID=America/Edmonton:20260708T210000
DTSTAMP:20260422T184103
CREATED:20240501T152231Z
LAST-MODIFIED:20251126T023056Z
UID:10007234-1783515600-1783544400@communitycounsellingcentre.ca
SUMMARY:Sherry
DESCRIPTION:
URL:https://communitycounsellingcentre.ca/event/sherry/2026-07-08/
LOCATION:Room 4
CATEGORIES:Room 4
END:VEVENT
BEGIN:VEVENT
DTSTART;TZID=America/Edmonton:20260709T130000
DTEND;TZID=America/Edmonton:20260709T200000
DTSTAMP:20260422T184103
CREATED:20240504T054425Z
LAST-MODIFIED:20251126T023114Z
UID:10007287-1783602000-1783627200@communitycounsellingcentre.ca
SUMMARY:Sherry
DESCRIPTION:
URL:https://communitycounsellingcentre.ca/event/sherry-2/2026-07-09/
LOCATION:Room 4
CATEGORIES:Room 4
END:VEVENT
BEGIN:VEVENT
DTSTART;TZID=America/Edmonton:20260710T090000
DTEND;TZID=America/Edmonton:20260710T210000
DTSTAMP:20260422T184103
CREATED:20240504T054728Z
LAST-MODIFIED:20251126T021539Z
UID:10006503-1783674000-1783717200@communitycounsellingcentre.ca
SUMMARY:Sherry
DESCRIPTION:
URL:https://communitycounsellingcentre.ca/event/sherry-3/2026-07-10/
LOCATION:Room 4
CATEGORIES:Room 4
END:VEVENT
BEGIN:VEVENT
DTSTART;TZID=America/Edmonton:20260713T160000
DTEND;TZID=America/Edmonton:20260713T200000
DTSTAMP:20260422T184103
CREATED:20251125T155130Z
LAST-MODIFIED:20251125T155130Z
UID:10006236-1783958400-1783972800@communitycounsellingcentre.ca
SUMMARY:Ishmal
DESCRIPTION:
URL:https://communitycounsellingcentre.ca/event/ishmal/2026-07-13/
LOCATION:Room 4
CATEGORIES:Room 4
END:VEVENT
BEGIN:VEVENT
DTSTART;TZID=America/Edmonton:20260714T140000
DTEND;TZID=America/Edmonton:20260714T200000
DTSTAMP:20260422T184103
CREATED:20251027T230259Z
LAST-MODIFIED:20251126T022003Z
UID:10006765-1784037600-1784059200@communitycounsellingcentre.ca
SUMMARY:Nick
DESCRIPTION:
URL:https://communitycounsellingcentre.ca/event/nick-3-2/2026-07-14/
LOCATION:Room 4
CATEGORIES:Room 4
END:VEVENT
BEGIN:VEVENT
DTSTART;TZID=America/Edmonton:20260715T130000
DTEND;TZID=America/Edmonton:20260715T210000
DTSTAMP:20260422T184103
CREATED:20240501T152231Z
LAST-MODIFIED:20251126T023056Z
UID:10007235-1784120400-1784149200@communitycounsellingcentre.ca
SUMMARY:Sherry
DESCRIPTION:
URL:https://communitycounsellingcentre.ca/event/sherry/2026-07-15/
LOCATION:Room 4
CATEGORIES:Room 4
END:VEVENT
BEGIN:VEVENT
DTSTART;TZID=America/Edmonton:20260716T130000
DTEND;TZID=America/Edmonton:20260716T200000
DTSTAMP:20260422T184103
CREATED:20240504T054425Z
LAST-MODIFIED:20251126T023114Z
UID:10007288-1784206800-1784232000@communitycounsellingcentre.ca
SUMMARY:Sherry
DESCRIPTION:
URL:https://communitycounsellingcentre.ca/event/sherry-2/2026-07-16/
LOCATION:Room 4
CATEGORIES:Room 4
END:VEVENT
BEGIN:VEVENT
DTSTART;TZID=America/Edmonton:20260717T090000
DTEND;TZID=America/Edmonton:20260717T210000
DTSTAMP:20260422T184103
CREATED:20240504T054728Z
LAST-MODIFIED:20251126T021539Z
UID:10006504-1784278800-1784322000@communitycounsellingcentre.ca
SUMMARY:Sherry
DESCRIPTION:
URL:https://communitycounsellingcentre.ca/event/sherry-3/2026-07-17/
LOCATION:Room 4
CATEGORIES:Room 4
END:VEVENT
BEGIN:VEVENT
DTSTART;TZID=America/Edmonton:20260720T160000
DTEND;TZID=America/Edmonton:20260720T200000
DTSTAMP:20260422T184103
CREATED:20251125T155130Z
LAST-MODIFIED:20251125T155130Z
UID:10006237-1784563200-1784577600@communitycounsellingcentre.ca
SUMMARY:Ishmal
DESCRIPTION:
URL:https://communitycounsellingcentre.ca/event/ishmal/2026-07-20/
LOCATION:Room 4
CATEGORIES:Room 4
END:VEVENT
BEGIN:VEVENT
DTSTART;TZID=America/Edmonton:20260721T140000
DTEND;TZID=America/Edmonton:20260721T200000
DTSTAMP:20260422T184103
CREATED:20251027T230259Z
LAST-MODIFIED:20251126T022003Z
UID:10006766-1784642400-1784664000@communitycounsellingcentre.ca
SUMMARY:Nick
DESCRIPTION:
URL:https://communitycounsellingcentre.ca/event/nick-3-2/2026-07-21/
LOCATION:Room 4
CATEGORIES:Room 4
END:VEVENT
BEGIN:VEVENT
DTSTART;TZID=America/Edmonton:20260722T130000
DTEND;TZID=America/Edmonton:20260722T210000
DTSTAMP:20260422T184103
CREATED:20240501T152231Z
LAST-MODIFIED:20251126T023056Z
UID:10007236-1784725200-1784754000@communitycounsellingcentre.ca
SUMMARY:Sherry
DESCRIPTION:
URL:https://communitycounsellingcentre.ca/event/sherry/2026-07-22/
LOCATION:Room 4
CATEGORIES:Room 4
END:VEVENT
END:VCALENDAR