BEGIN:VCALENDAR
VERSION:2.0
PRODID:-//Community Counselling Centre - ECPv6.13.1//NONSGML v1.0//EN
CALSCALE:GREGORIAN
METHOD:PUBLISH
X-ORIGINAL-URL:https://communitycounsellingcentre.ca
X-WR-CALDESC:Events for Community Counselling Centre
REFRESH-INTERVAL;VALUE=DURATION:PT1H
X-Robots-Tag:noindex
X-PUBLISHED-TTL:PT1H
BEGIN:VTIMEZONE
TZID:America/Edmonton
BEGIN:DAYLIGHT
TZOFFSETFROM:-0700
TZOFFSETTO:-0600
TZNAME:MDT
DTSTART:20250309T090000
END:DAYLIGHT
BEGIN:STANDARD
TZOFFSETFROM:-0600
TZOFFSETTO:-0700
TZNAME:MST
DTSTART:20251102T080000
END:STANDARD
BEGIN:DAYLIGHT
TZOFFSETFROM:-0700
TZOFFSETTO:-0600
TZNAME:MDT
DTSTART:20260308T090000
END:DAYLIGHT
BEGIN:STANDARD
TZOFFSETFROM:-0600
TZOFFSETTO:-0700
TZNAME:MST
DTSTART:20261101T080000
END:STANDARD
END:VTIMEZONE
BEGIN:VEVENT
DTSTART;TZID=America/Edmonton:20260128T130000
DTEND;TZID=America/Edmonton:20260128T210000
DTSTAMP:20260423T033018
CREATED:20240501T152231Z
LAST-MODIFIED:20251126T023056Z
UID:10007211-1769605200-1769634000@communitycounsellingcentre.ca
SUMMARY:Sherry
DESCRIPTION:
URL:https://communitycounsellingcentre.ca/event/sherry/2026-01-28/
LOCATION:Room 4
CATEGORIES:Room 4
END:VEVENT
BEGIN:VEVENT
DTSTART;TZID=America/Edmonton:20260127T140000
DTEND;TZID=America/Edmonton:20260127T200000
DTSTAMP:20260423T033018
CREATED:20251027T230259Z
LAST-MODIFIED:20251126T022003Z
UID:10006741-1769522400-1769544000@communitycounsellingcentre.ca
SUMMARY:Nick
DESCRIPTION:
URL:https://communitycounsellingcentre.ca/event/nick-3-2/2026-01-27/
LOCATION:Room 4
CATEGORIES:Room 4
END:VEVENT
BEGIN:VEVENT
DTSTART;TZID=America/Edmonton:20260126T160000
DTEND;TZID=America/Edmonton:20260126T200000
DTSTAMP:20260423T033018
CREATED:20251125T155130Z
LAST-MODIFIED:20251125T155130Z
UID:10006212-1769443200-1769457600@communitycounsellingcentre.ca
SUMMARY:Ishmal
DESCRIPTION:
URL:https://communitycounsellingcentre.ca/event/ishmal/2026-01-26/
LOCATION:Room 4
CATEGORIES:Room 4
END:VEVENT
BEGIN:VEVENT
DTSTART;TZID=America/Edmonton:20260123T090000
DTEND;TZID=America/Edmonton:20260123T210000
DTSTAMP:20260423T033018
CREATED:20240504T054728Z
LAST-MODIFIED:20251126T021539Z
UID:10006479-1769158800-1769202000@communitycounsellingcentre.ca
SUMMARY:Sherry
DESCRIPTION:
URL:https://communitycounsellingcentre.ca/event/sherry-3/2026-01-23/
LOCATION:Room 4
CATEGORIES:Room 4
END:VEVENT
BEGIN:VEVENT
DTSTART;TZID=America/Edmonton:20260122T130000
DTEND;TZID=America/Edmonton:20260122T200000
DTSTAMP:20260423T033018
CREATED:20240504T054425Z
LAST-MODIFIED:20251126T023114Z
UID:10007263-1769086800-1769112000@communitycounsellingcentre.ca
SUMMARY:Sherry
DESCRIPTION:
URL:https://communitycounsellingcentre.ca/event/sherry-2/2026-01-22/
LOCATION:Room 4
CATEGORIES:Room 4
END:VEVENT
BEGIN:VEVENT
DTSTART;TZID=America/Edmonton:20260121T130000
DTEND;TZID=America/Edmonton:20260121T210000
DTSTAMP:20260423T033018
CREATED:20240501T152231Z
LAST-MODIFIED:20251126T023056Z
UID:10007210-1769000400-1769029200@communitycounsellingcentre.ca
SUMMARY:Sherry
DESCRIPTION:
URL:https://communitycounsellingcentre.ca/event/sherry/2026-01-21/
LOCATION:Room 4
CATEGORIES:Room 4
END:VEVENT
BEGIN:VEVENT
DTSTART;TZID=America/Edmonton:20260120T140000
DTEND;TZID=America/Edmonton:20260120T200000
DTSTAMP:20260423T033018
CREATED:20251027T230259Z
LAST-MODIFIED:20251126T022003Z
UID:10006740-1768917600-1768939200@communitycounsellingcentre.ca
SUMMARY:Nick
DESCRIPTION:
URL:https://communitycounsellingcentre.ca/event/nick-3-2/2026-01-20/
LOCATION:Room 4
CATEGORIES:Room 4
END:VEVENT
BEGIN:VEVENT
DTSTART;TZID=America/Edmonton:20260119T160000
DTEND;TZID=America/Edmonton:20260119T200000
DTSTAMP:20260423T033018
CREATED:20251125T155130Z
LAST-MODIFIED:20251125T155130Z
UID:10006211-1768838400-1768852800@communitycounsellingcentre.ca
SUMMARY:Ishmal
DESCRIPTION:
URL:https://communitycounsellingcentre.ca/event/ishmal/2026-01-19/
LOCATION:Room 4
CATEGORIES:Room 4
END:VEVENT
BEGIN:VEVENT
DTSTART;TZID=America/Edmonton:20260116T090000
DTEND;TZID=America/Edmonton:20260116T210000
DTSTAMP:20260423T033018
CREATED:20240504T054728Z
LAST-MODIFIED:20251126T021539Z
UID:10006478-1768554000-1768597200@communitycounsellingcentre.ca
SUMMARY:Sherry
DESCRIPTION:
URL:https://communitycounsellingcentre.ca/event/sherry-3/2026-01-16/
LOCATION:Room 4
CATEGORIES:Room 4
END:VEVENT
BEGIN:VEVENT
DTSTART;TZID=America/Edmonton:20260115T130000
DTEND;TZID=America/Edmonton:20260115T200000
DTSTAMP:20260423T033018
CREATED:20240504T054425Z
LAST-MODIFIED:20251126T023114Z
UID:10007262-1768482000-1768507200@communitycounsellingcentre.ca
SUMMARY:Sherry
DESCRIPTION:
URL:https://communitycounsellingcentre.ca/event/sherry-2/2026-01-15/
LOCATION:Room 4
CATEGORIES:Room 4
END:VEVENT
BEGIN:VEVENT
DTSTART;TZID=America/Edmonton:20260114T130000
DTEND;TZID=America/Edmonton:20260114T210000
DTSTAMP:20260423T033018
CREATED:20240501T152231Z
LAST-MODIFIED:20251126T023056Z
UID:10007209-1768395600-1768424400@communitycounsellingcentre.ca
SUMMARY:Sherry
DESCRIPTION:
URL:https://communitycounsellingcentre.ca/event/sherry/2026-01-14/
LOCATION:Room 4
CATEGORIES:Room 4
END:VEVENT
BEGIN:VEVENT
DTSTART;TZID=America/Edmonton:20260113T140000
DTEND;TZID=America/Edmonton:20260113T200000
DTSTAMP:20260423T033018
CREATED:20251027T230259Z
LAST-MODIFIED:20251126T022003Z
UID:10006739-1768312800-1768334400@communitycounsellingcentre.ca
SUMMARY:Nick
DESCRIPTION:
URL:https://communitycounsellingcentre.ca/event/nick-3-2/2026-01-13/
LOCATION:Room 4
CATEGORIES:Room 4
END:VEVENT
BEGIN:VEVENT
DTSTART;TZID=America/Edmonton:20260112T160000
DTEND;TZID=America/Edmonton:20260112T200000
DTSTAMP:20260423T033018
CREATED:20251125T155130Z
LAST-MODIFIED:20251125T155130Z
UID:10006210-1768233600-1768248000@communitycounsellingcentre.ca
SUMMARY:Ishmal
DESCRIPTION:
URL:https://communitycounsellingcentre.ca/event/ishmal/2026-01-12/
LOCATION:Room 4
CATEGORIES:Room 4
END:VEVENT
BEGIN:VEVENT
DTSTART;TZID=America/Edmonton:20260109T090000
DTEND;TZID=America/Edmonton:20260109T210000
DTSTAMP:20260423T033018
CREATED:20240504T054728Z
LAST-MODIFIED:20251126T021539Z
UID:10006477-1767949200-1767992400@communitycounsellingcentre.ca
SUMMARY:Sherry
DESCRIPTION:
URL:https://communitycounsellingcentre.ca/event/sherry-3/2026-01-09/
LOCATION:Room 4
CATEGORIES:Room 4
END:VEVENT
BEGIN:VEVENT
DTSTART;TZID=America/Edmonton:20260108T130000
DTEND;TZID=America/Edmonton:20260108T200000
DTSTAMP:20260423T033018
CREATED:20240504T054425Z
LAST-MODIFIED:20251126T023114Z
UID:10007261-1767877200-1767902400@communitycounsellingcentre.ca
SUMMARY:Sherry
DESCRIPTION:
URL:https://communitycounsellingcentre.ca/event/sherry-2/2026-01-08/
LOCATION:Room 4
CATEGORIES:Room 4
END:VEVENT
BEGIN:VEVENT
DTSTART;TZID=America/Edmonton:20260107T130000
DTEND;TZID=America/Edmonton:20260107T210000
DTSTAMP:20260423T033018
CREATED:20240501T152231Z
LAST-MODIFIED:20251126T023056Z
UID:10007208-1767790800-1767819600@communitycounsellingcentre.ca
SUMMARY:Sherry
DESCRIPTION:
URL:https://communitycounsellingcentre.ca/event/sherry/2026-01-07/
LOCATION:Room 4
CATEGORIES:Room 4
END:VEVENT
BEGIN:VEVENT
DTSTART;TZID=America/Edmonton:20260106T140000
DTEND;TZID=America/Edmonton:20260106T200000
DTSTAMP:20260423T033018
CREATED:20251027T230259Z
LAST-MODIFIED:20251126T022003Z
UID:10006738-1767708000-1767729600@communitycounsellingcentre.ca
SUMMARY:Nick
DESCRIPTION:
URL:https://communitycounsellingcentre.ca/event/nick-3-2/2026-01-06/
LOCATION:Room 4
CATEGORIES:Room 4
END:VEVENT
BEGIN:VEVENT
DTSTART;TZID=America/Edmonton:20260105T160000
DTEND;TZID=America/Edmonton:20260105T200000
DTSTAMP:20260423T033018
CREATED:20251125T155130Z
LAST-MODIFIED:20251125T155130Z
UID:10006209-1767628800-1767643200@communitycounsellingcentre.ca
SUMMARY:Ishmal
DESCRIPTION:
URL:https://communitycounsellingcentre.ca/event/ishmal/2026-01-05/
LOCATION:Room 4
CATEGORIES:Room 4
END:VEVENT
BEGIN:VEVENT
DTSTART;TZID=America/Edmonton:20260102T090000
DTEND;TZID=America/Edmonton:20260102T210000
DTSTAMP:20260423T033018
CREATED:20240504T054728Z
LAST-MODIFIED:20251126T021539Z
UID:10006476-1767344400-1767387600@communitycounsellingcentre.ca
SUMMARY:Sherry
DESCRIPTION:
URL:https://communitycounsellingcentre.ca/event/sherry-3/2026-01-02/
LOCATION:Room 4
CATEGORIES:Room 4
END:VEVENT
BEGIN:VEVENT
DTSTART;TZID=America/Edmonton:20260101T130000
DTEND;TZID=America/Edmonton:20260101T200000
DTSTAMP:20260423T033018
CREATED:20240504T054425Z
LAST-MODIFIED:20251126T023114Z
UID:10007260-1767272400-1767297600@communitycounsellingcentre.ca
SUMMARY:Sherry
DESCRIPTION:
URL:https://communitycounsellingcentre.ca/event/sherry-2/2026-01-01/
LOCATION:Room 4
CATEGORIES:Room 4
END:VEVENT
BEGIN:VEVENT
DTSTART;TZID=America/Edmonton:20251231T130000
DTEND;TZID=America/Edmonton:20251231T210000
DTSTAMP:20260423T033018
CREATED:20240501T152231Z
LAST-MODIFIED:20251126T023056Z
UID:10004304-1767186000-1767214800@communitycounsellingcentre.ca
SUMMARY:Sherry
DESCRIPTION:
URL:https://communitycounsellingcentre.ca/event/sherry/2025-12-31/
LOCATION:Room 4
CATEGORIES:Room 4
END:VEVENT
BEGIN:VEVENT
DTSTART;TZID=America/Edmonton:20251230T140000
DTEND;TZID=America/Edmonton:20251230T200000
DTSTAMP:20260423T033018
CREATED:20251027T230259Z
LAST-MODIFIED:20251126T022003Z
UID:10005945-1767103200-1767124800@communitycounsellingcentre.ca
SUMMARY:Nick
DESCRIPTION:
URL:https://communitycounsellingcentre.ca/event/nick-3-2/2025-12-30/
LOCATION:Room 4
CATEGORIES:Room 4
END:VEVENT
BEGIN:VEVENT
DTSTART;TZID=America/Edmonton:20251229T160000
DTEND;TZID=America/Edmonton:20251229T200000
DTSTAMP:20260423T033018
CREATED:20251125T155130Z
LAST-MODIFIED:20251125T155130Z
UID:10006208-1767024000-1767038400@communitycounsellingcentre.ca
SUMMARY:Ishmal
DESCRIPTION:
URL:https://communitycounsellingcentre.ca/event/ishmal/2025-12-29/
LOCATION:Room 4
CATEGORIES:Room 4
END:VEVENT
BEGIN:VEVENT
DTSTART;TZID=America/Edmonton:20251226T090000
DTEND;TZID=America/Edmonton:20251226T210000
DTSTAMP:20260423T033018
CREATED:20240504T054728Z
LAST-MODIFIED:20251126T021539Z
UID:10004199-1766739600-1766782800@communitycounsellingcentre.ca
SUMMARY:Sherry
DESCRIPTION:
URL:https://communitycounsellingcentre.ca/event/sherry-3/2025-12-26/
LOCATION:Room 4
CATEGORIES:Room 4
END:VEVENT
BEGIN:VEVENT
DTSTART;TZID=America/Edmonton:20251225T130000
DTEND;TZID=America/Edmonton:20251225T200000
DTSTAMP:20260423T033018
CREATED:20240504T054425Z
LAST-MODIFIED:20251126T023114Z
UID:10004251-1766667600-1766692800@communitycounsellingcentre.ca
SUMMARY:Sherry
DESCRIPTION:
URL:https://communitycounsellingcentre.ca/event/sherry-2/2025-12-25/
LOCATION:Room 4
CATEGORIES:Room 4
END:VEVENT
BEGIN:VEVENT
DTSTART;TZID=America/Edmonton:20251224T130000
DTEND;TZID=America/Edmonton:20251224T210000
DTSTAMP:20260423T033018
CREATED:20240501T152231Z
LAST-MODIFIED:20251126T023056Z
UID:10004303-1766581200-1766610000@communitycounsellingcentre.ca
SUMMARY:Sherry
DESCRIPTION:
URL:https://communitycounsellingcentre.ca/event/sherry/2025-12-24/
LOCATION:Room 4
CATEGORIES:Room 4
END:VEVENT
BEGIN:VEVENT
DTSTART;TZID=America/Edmonton:20251223T140000
DTEND;TZID=America/Edmonton:20251223T200000
DTSTAMP:20260423T033018
CREATED:20251027T230259Z
LAST-MODIFIED:20251126T022003Z
UID:10005944-1766498400-1766520000@communitycounsellingcentre.ca
SUMMARY:Nick
DESCRIPTION:
URL:https://communitycounsellingcentre.ca/event/nick-3-2/2025-12-23/
LOCATION:Room 4
CATEGORIES:Room 4
END:VEVENT
BEGIN:VEVENT
DTSTART;TZID=America/Edmonton:20251222T160000
DTEND;TZID=America/Edmonton:20251222T200000
DTSTAMP:20260423T033018
CREATED:20251125T155130Z
LAST-MODIFIED:20251125T155130Z
UID:10006207-1766419200-1766433600@communitycounsellingcentre.ca
SUMMARY:Ishmal
DESCRIPTION:
URL:https://communitycounsellingcentre.ca/event/ishmal/2025-12-22/
LOCATION:Room 4
CATEGORIES:Room 4
END:VEVENT
BEGIN:VEVENT
DTSTART;TZID=America/Edmonton:20251219T090000
DTEND;TZID=America/Edmonton:20251219T210000
DTSTAMP:20260423T033018
CREATED:20240504T054728Z
LAST-MODIFIED:20251126T021539Z
UID:10004198-1766134800-1766178000@communitycounsellingcentre.ca
SUMMARY:Sherry
DESCRIPTION:
URL:https://communitycounsellingcentre.ca/event/sherry-3/2025-12-19/
LOCATION:Room 4
CATEGORIES:Room 4
END:VEVENT
BEGIN:VEVENT
DTSTART;TZID=America/Edmonton:20251218T130000
DTEND;TZID=America/Edmonton:20251218T200000
DTSTAMP:20260423T033018
CREATED:20240504T054425Z
LAST-MODIFIED:20251126T023114Z
UID:10004250-1766062800-1766088000@communitycounsellingcentre.ca
SUMMARY:Sherry
DESCRIPTION:
URL:https://communitycounsellingcentre.ca/event/sherry-2/2025-12-18/
LOCATION:Room 4
CATEGORIES:Room 4
END:VEVENT
END:VCALENDAR