BEGIN:VCALENDAR
VERSION:2.0
PRODID:-//Community Counselling Centre - ECPv6.13.1//NONSGML v1.0//EN
CALSCALE:GREGORIAN
METHOD:PUBLISH
X-WR-CALNAME:Community Counselling Centre
X-ORIGINAL-URL:https://communitycounsellingcentre.ca
X-WR-CALDESC:Events for Community Counselling Centre
REFRESH-INTERVAL;VALUE=DURATION:PT1H
X-Robots-Tag:noindex
X-PUBLISHED-TTL:PT1H
BEGIN:VTIMEZONE
TZID:America/Edmonton
BEGIN:DAYLIGHT
TZOFFSETFROM:-0700
TZOFFSETTO:-0600
TZNAME:MDT
DTSTART:20260308T090000
END:DAYLIGHT
BEGIN:STANDARD
TZOFFSETFROM:-0600
TZOFFSETTO:-0700
TZNAME:MST
DTSTART:20261101T080000
END:STANDARD
END:VTIMEZONE
BEGIN:VEVENT
DTSTART;TZID=America/Edmonton:20260716T130000
DTEND;TZID=America/Edmonton:20260716T200000
DTSTAMP:20260423T014540
CREATED:20240504T054425Z
LAST-MODIFIED:20251126T023114Z
UID:10007288-1784206800-1784232000@communitycounsellingcentre.ca
SUMMARY:Sherry
DESCRIPTION:
URL:https://communitycounsellingcentre.ca/event/sherry-2/2026-07-16/
LOCATION:Room 4
CATEGORIES:Room 4
END:VEVENT
BEGIN:VEVENT
DTSTART;TZID=America/Edmonton:20260717T090000
DTEND;TZID=America/Edmonton:20260717T210000
DTSTAMP:20260423T014541
CREATED:20240504T054728Z
LAST-MODIFIED:20251126T021539Z
UID:10006504-1784278800-1784322000@communitycounsellingcentre.ca
SUMMARY:Sherry
DESCRIPTION:
URL:https://communitycounsellingcentre.ca/event/sherry-3/2026-07-17/
LOCATION:Room 4
CATEGORIES:Room 4
END:VEVENT
BEGIN:VEVENT
DTSTART;TZID=America/Edmonton:20260720T160000
DTEND;TZID=America/Edmonton:20260720T200000
DTSTAMP:20260423T014541
CREATED:20251125T155130Z
LAST-MODIFIED:20251125T155130Z
UID:10006237-1784563200-1784577600@communitycounsellingcentre.ca
SUMMARY:Ishmal
DESCRIPTION:
URL:https://communitycounsellingcentre.ca/event/ishmal/2026-07-20/
LOCATION:Room 4
CATEGORIES:Room 4
END:VEVENT
BEGIN:VEVENT
DTSTART;TZID=America/Edmonton:20260721T140000
DTEND;TZID=America/Edmonton:20260721T200000
DTSTAMP:20260423T014541
CREATED:20251027T230259Z
LAST-MODIFIED:20251126T022003Z
UID:10006766-1784642400-1784664000@communitycounsellingcentre.ca
SUMMARY:Nick
DESCRIPTION:
URL:https://communitycounsellingcentre.ca/event/nick-3-2/2026-07-21/
LOCATION:Room 4
CATEGORIES:Room 4
END:VEVENT
BEGIN:VEVENT
DTSTART;TZID=America/Edmonton:20260722T130000
DTEND;TZID=America/Edmonton:20260722T210000
DTSTAMP:20260423T014541
CREATED:20240501T152231Z
LAST-MODIFIED:20251126T023056Z
UID:10007236-1784725200-1784754000@communitycounsellingcentre.ca
SUMMARY:Sherry
DESCRIPTION:
URL:https://communitycounsellingcentre.ca/event/sherry/2026-07-22/
LOCATION:Room 4
CATEGORIES:Room 4
END:VEVENT
BEGIN:VEVENT
DTSTART;TZID=America/Edmonton:20260723T130000
DTEND;TZID=America/Edmonton:20260723T200000
DTSTAMP:20260423T014541
CREATED:20240504T054425Z
LAST-MODIFIED:20251126T023114Z
UID:10007289-1784811600-1784836800@communitycounsellingcentre.ca
SUMMARY:Sherry
DESCRIPTION:
URL:https://communitycounsellingcentre.ca/event/sherry-2/2026-07-23/
LOCATION:Room 4
CATEGORIES:Room 4
END:VEVENT
BEGIN:VEVENT
DTSTART;TZID=America/Edmonton:20260724T090000
DTEND;TZID=America/Edmonton:20260724T210000
DTSTAMP:20260423T014541
CREATED:20240504T054728Z
LAST-MODIFIED:20251126T021539Z
UID:10006505-1784883600-1784926800@communitycounsellingcentre.ca
SUMMARY:Sherry
DESCRIPTION:
URL:https://communitycounsellingcentre.ca/event/sherry-3/2026-07-24/
LOCATION:Room 4
CATEGORIES:Room 4
END:VEVENT
BEGIN:VEVENT
DTSTART;TZID=America/Edmonton:20260727T160000
DTEND;TZID=America/Edmonton:20260727T200000
DTSTAMP:20260423T014541
CREATED:20251125T155130Z
LAST-MODIFIED:20251125T155130Z
UID:10006238-1785168000-1785182400@communitycounsellingcentre.ca
SUMMARY:Ishmal
DESCRIPTION:
URL:https://communitycounsellingcentre.ca/event/ishmal/2026-07-27/
LOCATION:Room 4
CATEGORIES:Room 4
END:VEVENT
BEGIN:VEVENT
DTSTART;TZID=America/Edmonton:20260728T140000
DTEND;TZID=America/Edmonton:20260728T200000
DTSTAMP:20260423T014541
CREATED:20251027T230259Z
LAST-MODIFIED:20251126T022003Z
UID:10006767-1785247200-1785268800@communitycounsellingcentre.ca
SUMMARY:Nick
DESCRIPTION:
URL:https://communitycounsellingcentre.ca/event/nick-3-2/2026-07-28/
LOCATION:Room 4
CATEGORIES:Room 4
END:VEVENT
BEGIN:VEVENT
DTSTART;TZID=America/Edmonton:20260729T130000
DTEND;TZID=America/Edmonton:20260729T210000
DTSTAMP:20260423T014541
CREATED:20240501T152231Z
LAST-MODIFIED:20251126T023056Z
UID:10007237-1785330000-1785358800@communitycounsellingcentre.ca
SUMMARY:Sherry
DESCRIPTION:
URL:https://communitycounsellingcentre.ca/event/sherry/2026-07-29/
LOCATION:Room 4
CATEGORIES:Room 4
END:VEVENT
BEGIN:VEVENT
DTSTART;TZID=America/Edmonton:20260730T130000
DTEND;TZID=America/Edmonton:20260730T200000
DTSTAMP:20260423T014541
CREATED:20240504T054425Z
LAST-MODIFIED:20251126T023114Z
UID:10007290-1785416400-1785441600@communitycounsellingcentre.ca
SUMMARY:Sherry
DESCRIPTION:
URL:https://communitycounsellingcentre.ca/event/sherry-2/2026-07-30/
LOCATION:Room 4
CATEGORIES:Room 4
END:VEVENT
BEGIN:VEVENT
DTSTART;TZID=America/Edmonton:20260731T090000
DTEND;TZID=America/Edmonton:20260731T210000
DTSTAMP:20260423T014541
CREATED:20240504T054728Z
LAST-MODIFIED:20251126T021539Z
UID:10006506-1785488400-1785531600@communitycounsellingcentre.ca
SUMMARY:Sherry
DESCRIPTION:
URL:https://communitycounsellingcentre.ca/event/sherry-3/2026-07-31/
LOCATION:Room 4
CATEGORIES:Room 4
END:VEVENT
BEGIN:VEVENT
DTSTART;TZID=America/Edmonton:20260803T160000
DTEND;TZID=America/Edmonton:20260803T200000
DTSTAMP:20260423T014541
CREATED:20251125T155130Z
LAST-MODIFIED:20251125T155130Z
UID:10006239-1785772800-1785787200@communitycounsellingcentre.ca
SUMMARY:Ishmal
DESCRIPTION:
URL:https://communitycounsellingcentre.ca/event/ishmal/2026-08-03/
LOCATION:Room 4
CATEGORIES:Room 4
END:VEVENT
BEGIN:VEVENT
DTSTART;TZID=America/Edmonton:20260804T140000
DTEND;TZID=America/Edmonton:20260804T200000
DTSTAMP:20260423T014541
CREATED:20251027T230259Z
LAST-MODIFIED:20251126T022003Z
UID:10006768-1785852000-1785873600@communitycounsellingcentre.ca
SUMMARY:Nick
DESCRIPTION:
URL:https://communitycounsellingcentre.ca/event/nick-3-2/2026-08-04/
LOCATION:Room 4
CATEGORIES:Room 4
END:VEVENT
BEGIN:VEVENT
DTSTART;TZID=America/Edmonton:20260805T130000
DTEND;TZID=America/Edmonton:20260805T210000
DTSTAMP:20260423T014541
CREATED:20240501T152231Z
LAST-MODIFIED:20251126T023056Z
UID:10007238-1785934800-1785963600@communitycounsellingcentre.ca
SUMMARY:Sherry
DESCRIPTION:
URL:https://communitycounsellingcentre.ca/event/sherry/2026-08-05/
LOCATION:Room 4
CATEGORIES:Room 4
END:VEVENT
BEGIN:VEVENT
DTSTART;TZID=America/Edmonton:20260806T130000
DTEND;TZID=America/Edmonton:20260806T200000
DTSTAMP:20260423T014541
CREATED:20240504T054425Z
LAST-MODIFIED:20251126T023114Z
UID:10007291-1786021200-1786046400@communitycounsellingcentre.ca
SUMMARY:Sherry
DESCRIPTION:
URL:https://communitycounsellingcentre.ca/event/sherry-2/2026-08-06/
LOCATION:Room 4
CATEGORIES:Room 4
END:VEVENT
BEGIN:VEVENT
DTSTART;TZID=America/Edmonton:20260807T090000
DTEND;TZID=America/Edmonton:20260807T210000
DTSTAMP:20260423T014541
CREATED:20240504T054728Z
LAST-MODIFIED:20251126T021539Z
UID:10006507-1786093200-1786136400@communitycounsellingcentre.ca
SUMMARY:Sherry
DESCRIPTION:
URL:https://communitycounsellingcentre.ca/event/sherry-3/2026-08-07/
LOCATION:Room 4
CATEGORIES:Room 4
END:VEVENT
BEGIN:VEVENT
DTSTART;TZID=America/Edmonton:20260810T160000
DTEND;TZID=America/Edmonton:20260810T200000
DTSTAMP:20260423T014541
CREATED:20251125T155130Z
LAST-MODIFIED:20251125T155130Z
UID:10006240-1786377600-1786392000@communitycounsellingcentre.ca
SUMMARY:Ishmal
DESCRIPTION:
URL:https://communitycounsellingcentre.ca/event/ishmal/2026-08-10/
LOCATION:Room 4
CATEGORIES:Room 4
END:VEVENT
BEGIN:VEVENT
DTSTART;TZID=America/Edmonton:20260811T140000
DTEND;TZID=America/Edmonton:20260811T200000
DTSTAMP:20260423T014541
CREATED:20251027T230259Z
LAST-MODIFIED:20251126T022003Z
UID:10006769-1786456800-1786478400@communitycounsellingcentre.ca
SUMMARY:Nick
DESCRIPTION:
URL:https://communitycounsellingcentre.ca/event/nick-3-2/2026-08-11/
LOCATION:Room 4
CATEGORIES:Room 4
END:VEVENT
BEGIN:VEVENT
DTSTART;TZID=America/Edmonton:20260812T130000
DTEND;TZID=America/Edmonton:20260812T210000
DTSTAMP:20260423T014541
CREATED:20240501T152231Z
LAST-MODIFIED:20251126T023056Z
UID:10007239-1786539600-1786568400@communitycounsellingcentre.ca
SUMMARY:Sherry
DESCRIPTION:
URL:https://communitycounsellingcentre.ca/event/sherry/2026-08-12/
LOCATION:Room 4
CATEGORIES:Room 4
END:VEVENT
BEGIN:VEVENT
DTSTART;TZID=America/Edmonton:20260813T130000
DTEND;TZID=America/Edmonton:20260813T200000
DTSTAMP:20260423T014541
CREATED:20240504T054425Z
LAST-MODIFIED:20251126T023114Z
UID:10007292-1786626000-1786651200@communitycounsellingcentre.ca
SUMMARY:Sherry
DESCRIPTION:
URL:https://communitycounsellingcentre.ca/event/sherry-2/2026-08-13/
LOCATION:Room 4
CATEGORIES:Room 4
END:VEVENT
BEGIN:VEVENT
DTSTART;TZID=America/Edmonton:20260814T090000
DTEND;TZID=America/Edmonton:20260814T210000
DTSTAMP:20260423T014541
CREATED:20240504T054728Z
LAST-MODIFIED:20251126T021539Z
UID:10006508-1786698000-1786741200@communitycounsellingcentre.ca
SUMMARY:Sherry
DESCRIPTION:
URL:https://communitycounsellingcentre.ca/event/sherry-3/2026-08-14/
LOCATION:Room 4
CATEGORIES:Room 4
END:VEVENT
BEGIN:VEVENT
DTSTART;TZID=America/Edmonton:20260817T160000
DTEND;TZID=America/Edmonton:20260817T200000
DTSTAMP:20260423T014541
CREATED:20251125T155130Z
LAST-MODIFIED:20251125T155130Z
UID:10006241-1786982400-1786996800@communitycounsellingcentre.ca
SUMMARY:Ishmal
DESCRIPTION:
URL:https://communitycounsellingcentre.ca/event/ishmal/2026-08-17/
LOCATION:Room 4
CATEGORIES:Room 4
END:VEVENT
BEGIN:VEVENT
DTSTART;TZID=America/Edmonton:20260818T140000
DTEND;TZID=America/Edmonton:20260818T200000
DTSTAMP:20260423T014541
CREATED:20251027T230259Z
LAST-MODIFIED:20251126T022003Z
UID:10006770-1787061600-1787083200@communitycounsellingcentre.ca
SUMMARY:Nick
DESCRIPTION:
URL:https://communitycounsellingcentre.ca/event/nick-3-2/2026-08-18/
LOCATION:Room 4
CATEGORIES:Room 4
END:VEVENT
BEGIN:VEVENT
DTSTART;TZID=America/Edmonton:20260819T130000
DTEND;TZID=America/Edmonton:20260819T210000
DTSTAMP:20260423T014541
CREATED:20240501T152231Z
LAST-MODIFIED:20251126T023056Z
UID:10007240-1787144400-1787173200@communitycounsellingcentre.ca
SUMMARY:Sherry
DESCRIPTION:
URL:https://communitycounsellingcentre.ca/event/sherry/2026-08-19/
LOCATION:Room 4
CATEGORIES:Room 4
END:VEVENT
BEGIN:VEVENT
DTSTART;TZID=America/Edmonton:20260820T130000
DTEND;TZID=America/Edmonton:20260820T200000
DTSTAMP:20260423T014541
CREATED:20240504T054425Z
LAST-MODIFIED:20251126T023114Z
UID:10007293-1787230800-1787256000@communitycounsellingcentre.ca
SUMMARY:Sherry
DESCRIPTION:
URL:https://communitycounsellingcentre.ca/event/sherry-2/2026-08-20/
LOCATION:Room 4
CATEGORIES:Room 4
END:VEVENT
BEGIN:VEVENT
DTSTART;TZID=America/Edmonton:20260821T090000
DTEND;TZID=America/Edmonton:20260821T210000
DTSTAMP:20260423T014541
CREATED:20240504T054728Z
LAST-MODIFIED:20251126T021539Z
UID:10006509-1787302800-1787346000@communitycounsellingcentre.ca
SUMMARY:Sherry
DESCRIPTION:
URL:https://communitycounsellingcentre.ca/event/sherry-3/2026-08-21/
LOCATION:Room 4
CATEGORIES:Room 4
END:VEVENT
BEGIN:VEVENT
DTSTART;TZID=America/Edmonton:20260824T160000
DTEND;TZID=America/Edmonton:20260824T200000
DTSTAMP:20260423T014541
CREATED:20251125T155130Z
LAST-MODIFIED:20251125T155130Z
UID:10006242-1787587200-1787601600@communitycounsellingcentre.ca
SUMMARY:Ishmal
DESCRIPTION:
URL:https://communitycounsellingcentre.ca/event/ishmal/2026-08-24/
LOCATION:Room 4
CATEGORIES:Room 4
END:VEVENT
BEGIN:VEVENT
DTSTART;TZID=America/Edmonton:20260825T140000
DTEND;TZID=America/Edmonton:20260825T200000
DTSTAMP:20260423T014541
CREATED:20251027T230259Z
LAST-MODIFIED:20251126T022003Z
UID:10006771-1787666400-1787688000@communitycounsellingcentre.ca
SUMMARY:Nick
DESCRIPTION:
URL:https://communitycounsellingcentre.ca/event/nick-3-2/2026-08-25/
LOCATION:Room 4
CATEGORIES:Room 4
END:VEVENT
BEGIN:VEVENT
DTSTART;TZID=America/Edmonton:20260826T130000
DTEND;TZID=America/Edmonton:20260826T210000
DTSTAMP:20260423T014541
CREATED:20240501T152231Z
LAST-MODIFIED:20251126T023056Z
UID:10007241-1787749200-1787778000@communitycounsellingcentre.ca
SUMMARY:Sherry
DESCRIPTION:
URL:https://communitycounsellingcentre.ca/event/sherry/2026-08-26/
LOCATION:Room 4
CATEGORIES:Room 4
END:VEVENT
END:VCALENDAR